Workbook

Sheet Resumo
A1: Perdas com faltas e cancelamentos
A2: Início do período | B2: =IF(Parâmetros!$B$3="","",Parâmetros!$B$3) | D2: Fim do período | E2: =IF(Parâmetros!$B$4="","",Parâmetros!$B$4) | G2: Limite tardio (h) | H2: =IF(Parâmetros!$B$2="","",Parâmetros!$B$2)
A4: Indicador de volume | B4: Resultado | D4: Indicador financeiro | E4: Resultado | G4: Ociosidade | H4: Resultado
A5: Ocorrências registradas | B5: =IF(OR(Parâmetros!$B$3="",Parâmetros!$B$4="",Parâmetros!$B$3>Parâmetros!$B$4),"",COUNTIFS(Lançamentos!$B$2:$B$501,">="&Parâmetros!$B$3,Lançamentos!$B$2:$B$501,"<="&Parâmetros!$B$4,Lançamentos!$A$2:$A$501,"<>",Lançamentos!$V$2:$V$501,"OK")) | D5: Receita prevista afetada | E5: =IF(OR(Parâmetros!$B$3="",Parâmetros!$B$4="",Parâmetros!$B$3>Parâmetros!$B$4),"",SUMIFS(Lançamentos!$G$2:$G$501,Lançamentos!$B$2:$B$501,">="&Parâmetros!$B$3,Lançamentos!$B$2:$B$501,"<="&Parâmetros!$B$4,Lançamentos!$V$2:$V$501,"OK")) | G5: Minutos ociosos | H5: =IF(OR(Parâmetros!$B$3="",Parâmetros!$B$4="",Parâmetros!$B$3>Parâmetros!$B$4),"",SUMIFS(Lançamentos!$R$2:$R$501,Lançamentos!$B$2:$B$501,">="&Parâmetros!$B$3,Lançamentos!$B$2:$B$501,"<="&Parâmetros!$B$4,Lançamentos!$V$2:$V$501,"OK"))
A6: Faltas | B6: =IF(OR(Parâmetros!$B$3="",Parâmetros!$B$4="",Parâmetros!$B$3>Parâmetros!$B$4),"",COUNTIFS(Lançamentos!$B$2:$B$501,">="&Parâmetros!$B$3,Lançamentos!$B$2:$B$501,"<="&Parâmetros!$B$4,Lançamentos!$P$2:$P$501,"Falta",Lançamentos!$V$2:$V$501,"OK")) | D6: Receita substituta | E6: =IF(OR(Parâmetros!$B$3="",Parâmetros!$B$4="",Parâmetros!$B$3>Parâmetros!$B$4),"",SUMIFS(Lançamentos!$L$2:$L$501,Lançamentos!$B$2:$B$501,">="&Parâmetros!$B$3,Lançamentos!$B$2:$B$501,"<="&Parâmetros!$B$4,Lançamentos!$V$2:$V$501,"OK")) | G6: Horas ociosas | H6: =IF(H5="","",IFERROR(H5/60,""))
A7: Cancelamentos tardios | B7: =IF(OR(Parâmetros!$B$3="",Parâmetros!$B$4="",Parâmetros!$B$3>Parâmetros!$B$4),"",COUNTIFS(Lançamentos!$B$2:$B$501,">="&Parâmetros!$B$3,Lançamentos!$B$2:$B$501,"<="&Parâmetros!$B$4,Lançamentos!$P$2:$P$501,"Cancelamento tardio",Lançamentos!$V$2:$V$501,"OK")) | D7: Perda bruta | E7: =IF(OR(Parâmetros!$B$3="",Parâmetros!$B$4="",Parâmetros!$B$3>Parâmetros!$B$4),"",SUMIFS(Lançamentos!$S$2:$S$501,Lançamentos!$B$2:$B$501,">="&Parâmetros!$B$3,Lançamentos!$B$2:$B$501,"<="&Parâmetros!$B$4,Lançamentos!$V$2:$V$501,"OK"))
A8: Cancelamentos antecipados | B8: =IF(OR(Parâmetros!$B$3="",Parâmetros!$B$4="",Parâmetros!$B$3>Parâmetros!$B$4),"",COUNTIFS(Lançamentos!$B$2:$B$501,">="&Parâmetros!$B$3,Lançamentos!$B$2:$B$501,"<="&Parâmetros!$B$4,Lançamentos!$P$2:$P$501,"Cancelamento antecipado",Lançamentos!$V$2:$V$501,"OK")) | D8: Depósitos recuperados | E8: =IF(OR(Parâmetros!$B$3="",Parâmetros!$B$4="",Parâmetros!$B$3>Parâmetros!$B$4),"",SUMIFS(Lançamentos!$T$2:$T$501,Lançamentos!$B$2:$B$501,">="&Parâmetros!$B$3,Lançamentos!$B$2:$B$501,"<="&Parâmetros!$B$4,Lançamentos!$V$2:$V$501,"OK"))
D9: Perda líquida | E9: =IF(OR(Parâmetros!$B$3="",Parâmetros!$B$4="",Parâmetros!$B$3>Parâmetros!$B$4),"",SUMIFS(Lançamentos!$U$2:$U$501,Lançamentos!$B$2:$B$501,">="&Parâmetros!$B$3,Lançamentos!$B$2:$B$501,"<="&Parâmetros!$B$4,Lançamentos!$V$2:$V$501,"OK"))
D10: Depósitos recuperados em faltas | E10: =IF(OR(Parâmetros!$B$3="",Parâmetros!$B$4="",Parâmetros!$B$3>Parâmetros!$B$4),"",SUMIFS(Lançamentos!$T$2:$T$501,Lançamentos!$B$2:$B$501,">="&Parâmetros!$B$3,Lançamentos!$B$2:$B$501,"<="&Parâmetros!$B$4,Lançamentos!$P$2:$P$501,"Falta",Lançamentos!$V$2:$V$501,"OK"))
D11: Percentual recuperado por depósitos | E11: =IF(E7="","",IF(E7=0,0,IFERROR(E8/E7,0)))
D12: Perda líquida média por ocorrência | E12: =IF(OR(B5="",B5=0),"",IFERROR(E9/B5,""))
A14: Alerta geral | B14: =IF(OR(Parâmetros!$B$3="",Parâmetros!$B$4=""),"Defina o período",IF(Parâmetros!$B$3>Parâmetros!$B$4,"Período inválido",IF(COUNTIFS(Lançamentos!$B$2:$B$501,">="&Parâmetros!$B$3,Lançamentos!$B$2:$B$501,"<="&Parâmetros!$B$4,Lançamentos!$A$2:$A$501,"<>",Lançamentos!$V$2:$V$501,"<>OK")>0,"Há registros com alerta no período",IF(B5=0,"Sem ocorrências no período",IF(E9>Parâmetros!$B$5,"Perda líquida acima da meta","Perda líquida dentro da meta")))))
A16: Classificação | B16: Ocorrências | C16: Perda líquida | D16: Horas ociosas
A17: Falta | B17: =IF(OR(Parâmetros!$B$3="",Parâmetros!$B$4="",Parâmetros!$B$3>Parâmetros!$B$4),"",COUNTIFS(Lançamentos!$B$2:$B$501,">="&Parâmetros!$B$3,Lançamentos!$B$2:$B$501,"<="&Parâmetros!$B$4,Lançamentos!$P$2:$P$501,$A17,Lançamentos!$V$2:$V$501,"OK")) | C17: =IF(OR(Parâmetros!$B$3="",Parâmetros!$B$4="",Parâmetros!$B$3>Parâmetros!$B$4),"",SUMIFS(Lançamentos!$U$2:$U$501,Lançamentos!$B$2:$B$501,">="&Parâmetros!$B$3,Lançamentos!$B$2:$B$501,"<="&Parâmetros!$B$4,Lançamentos!$P$2:$P$501,$A17,Lançamentos!$V$2:$V$501,"OK")) | D17: =IF(OR(Parâmetros!$B$3="",Parâmetros!$B$4="",Parâmetros!$B$3>Parâmetros!$B$4),"",IFERROR(SUMIFS(Lançamentos!$R$2:$R$501,Lançamentos!$B$2:$B$501,">="&Parâmetros!$B$3,Lançamentos!$B$2:$B$501,"<="&Parâmetros!$B$4,Lançamentos!$P$2:$P$501,$A17,Lançamentos!$V$2:$V$501,"OK")/60,0))
A18: Cancelamento tardio | B18: =IF(OR(Parâmetros!$B$3="",Parâmetros!$B$4="",Parâmetros!$B$3>Parâmetros!$B$4),"",COUNTIFS(Lançamentos!$B$2:$B$501,">="&Parâmetros!$B$3,Lançamentos!$B$2:$B$501,"<="&Parâmetros!$B$4,Lançamentos!$P$2:$P$501,$A18,Lançamentos!$V$2:$V$501,"OK")) | C18: =IF(OR(Parâmetros!$B$3="",Parâmetros!$B$4="",Parâmetros!$B$3>Parâmetros!$B$4),"",SUMIFS(Lançamentos!$U$2:$U$501,Lançamentos!$B$2:$B$501,">="&Parâmetros!$B$3,Lançamentos!$B$2:$B$501,"<="&Parâmetros!$B$4,Lançamentos!$P$2:$P$501,$A18,Lançamentos!$V$2:$V$501,"OK")) | D18: =IF(OR(Parâmetros!$B$3="",Parâmetros!$B$4="",Parâmetros!$B$3>Parâmetros!$B$4),"",IFERROR(SUMIFS(Lançamentos!$R$2:$R$501,Lançamentos!$B$2:$B$501,">="&Parâmetros!$B$3,Lançamentos!$B$2:$B$501,"<="&Parâmetros!$B$4,Lançamentos!$P$2:$P$501,$A18,Lançamentos!$V$2:$V$501,"OK")/60,0))
A19: Cancelamento antecipado | B19: =IF(OR(Parâmetros!$B$3="",Parâmetros!$B$4="",Parâmetros!$B$3>Parâmetros!$B$4),"",COUNTIFS(Lançamentos!$B$2:$B$501,">="&Parâmetros!$B$3,Lançamentos!$B$2:$B$501,"<="&Parâmetros!$B$4,Lançamentos!$P$2:$P$501,$A19,Lançamentos!$V$2:$V$501,"OK")) | C19: =IF(OR(Parâmetros!$B$3="",Parâmetros!$B$4="",Parâmetros!$B$3>Parâmetros!$B$4),"",SUMIFS(Lançamentos!$U$2:$U$501,Lançamentos!$B$2:$B$501,">="&Parâmetros!$B$3,Lançamentos!$B$2:$B$501,"<="&Parâmetros!$B$4,Lançamentos!$P$2:$P$501,$A19,Lançamentos!$V$2:$V$501,"OK")) | D19: =IF(OR(Parâmetros!$B$3="",Parâmetros!$B$4="",Parâmetros!$B$3>Parâmetros!$B$4),"",IFERROR(SUMIFS(Lançamentos!$R$2:$R$501,Lançamentos!$B$2:$B$501,">="&Parâmetros!$B$3,Lançamentos!$B$2:$B$501,"<="&Parâmetros!$B$4,Lançamentos!$P$2:$P$501,$A19,Lançamentos!$V$2:$V$501,"OK")/60,0))
A22: Escopo | D22: Privacidade | G22: Limites
A23: Registra somente faltas e cancelamentos. Não calcula taxa sobre o total de agendamentos. | D23: Use apenas códigos fictícios. Não registre nomes, telefones ou outros dados pessoais. | G23: Sem integração de agenda ou pagamentos e sem orientação jurídica, fiscal ou promessa de conformidade.

Sheet Lançamentos
A1: Código da ocorrência | B1: Data agendada | C1: Hora agendada | D1: Duração prevista (min) | E1: Profissional ou equipe | F1: Serviço | G1: Valor previsto | H1: Tipo de ocorrência | I1: Data do aviso | J1: Hora do aviso | K1: Minutos repostos | L1: Receita substituta | M1: Depósito recebido | N1: Destino do depósito | O1: Antecedência (h) | P1: Classificação | Q1: Reposição do horário | R1: Minutos ociosos | S1: Perda bruta | T1: Depósito recuperado | U1: Perda líquida | V1: Alerta da linha | W1: lstProfissionais | X1: lstServicos | Y1: lstOcorrencias | Z1: lstDestinoDeposito
A2: FIC-001 | B2: 46266 | C2: 0.375 | D2: 60 | E2: Profissional A | F2: Corte feminino | G2: 120 | H2: Falta | K2: 0 | L2: 0 | M2: 30 | N2: Retido | O2: =IF($A2="","",IF($H2="Falta",0,IF(OR($B2="",$C2="",$I2="",$J2=""),"",MAX(0,(($B2+$C2)-($I2+$J2))*24)))) | P2: =IF($A2="","",IF($H2="Falta","Falta",IF($H2="Cancelamento",IF(OR($B2="",$C2="",$I2="",$J2=""),"Aviso não informado",IF(($I2+$J2)>($B2+$C2),"Aviso após o horário",IF((($B2+$C2)-($I2+$J2))*24<=Parâmetros!$B$2,"Cancelamento tardio","Cancelamento antecipado"))),"Tipo inválido"))) | Q2: =IF($A2="","",IF(OR($D2="",$K2=""),"",IF($K2=0,"Não",IF($K2<$D2,"Parcial","Total")))) | R2: =IF($A2="","",IF(OR($D2="",$K2=""),"",MAX(0,$D2-$K2))) | S2: =IF($A2="","",IF(OR($G2="",$L2=""),"",MAX(0,$G2-$L2))) | T2: =IF($A2="","",IF(OR($M2="",$N2="",$S2=""),"",IF($N2="Retido",MIN($M2,$S2),0))) | U2: =IF($A2="","",IF(OR($S2="",$T2=""),"",MAX(0,$S2-$T2))) | V2: =IF($A2="","",IF(COUNTIF($A$2:$A$501,$A2)>1,"Código duplicado",IF(OR($B2="",$C2="",$D2="",$E2="",$F2="",$G2="",$H2="",$K2="",$L2="",$M2="",$N2=""),"Revisar campos obrigatórios",IF(AND($H2="Falta",$B2+$C2>NOW()),"Falta com horário futuro",IF(AND($H2="Cancelamento",OR($I2="",$J2="")),"Informar aviso do cancelamento",IF(AND($H2="Falta",OR($I2<>"",$J2<>"")),"Limpar aviso para falta",IF(AND($H2="Cancelamento",($I2+$J2)>($B2+$C2)),"Aviso após o horário",IF(AND($K2=0,$L2>0),"Receita substituta sem reposição",IF(AND($K2>0,$L2=0),"Confirmar reposição sem receita",IF(AND($N2="Retido",$M2<=0),"Depósito retido sem valor",IF(AND($N2="Devolvido",$M2<=0),"Depósito devolvido sem valor",IF(AND($N2="Não se aplica",$M2>0),"Definir destino do depósito",IF($M2>$G2,"Depósito acima do valor previsto","OK"))))))))))))) | W2: ='Parâmetros'!$D$3 | X2: ='Parâmetros'!$E$3 | Y2: ='Parâmetros'!$F$3 | Z2: ='Parâmetros'!$G$3
A3: FIC-002 | B3: 46266 | C3: 0.58333333 | D3: 45 | E3: Profissional B | F3: Manicure | G3: 70 | H3: Cancelamento | I3: 46266 | J3: 0.33333333 | K3: 0 | L3: 0 | M3: 20 | N3: Devolvido | O3: =IF($A3="","",IF($H3="Falta",0,IF(OR($B3="",$C3="",$I3="",$J3=""),"",MAX(0,(($B3+$C3)-($I3+$J3))*24)))) | P3: =IF($A3="","",IF($H3="Falta","Falta",IF($H3="Cancelamento",IF(OR($B3="",$C3="",$I3="",$J3=""),"Aviso não informado",IF(($I3+$J3)>($B3+$C3),"Aviso após o horário",IF((($B3+$C3)-($I3+$J3))*24<=Parâmetros!$B$2,"Cancelamento tardio","Cancelamento antecipado"))),"Tipo inválido"))) | Q3: =IF($A3="","",IF(OR($D3="",$K3=""),"",IF($K3=0,"Não",IF($K3<$D3,"Parcial","Total")))) | R3: =IF($A3="","",IF(OR($D3="",$K3=""),"",MAX(0,$D3-$K3))) | S3: =IF($A3="","",IF(OR($G3="",$L3=""),"",MAX(0,$G3-$L3))) | T3: =IF($A3="","",IF(OR($M3="",$N3="",$S3=""),"",IF($N3="Retido",MIN($M3,$S3),0))) | U3: =IF($A3="","",IF(OR($S3="",$T3=""),"",MAX(0,$S3-$T3))) | V3: =IF($A3="","",IF(COUNTIF($A$2:$A$501,$A3)>1,"Código duplicado",IF(OR($B3="",$C3="",$D3="",$E3="",$F3="",$G3="",$H3="",$K3="",$L3="",$M3="",$N3=""),"Revisar campos obrigatórios",IF(AND($H3="Falta",$B3+$C3>NOW()),"Falta com horário futuro",IF(AND($H3="Cancelamento",OR($I3="",$J3="")),"Informar aviso do cancelamento",IF(AND($H3="Falta",OR($I3<>"",$J3<>"")),"Limpar aviso para falta",IF(AND($H3="Cancelamento",($I3+$J3)>($B3+$C3)),"Aviso após o horário",IF(AND($K3=0,$L3>0),"Receita substituta sem reposição",IF(AND($K3>0,$L3=0),"Confirmar reposição sem receita",IF(AND($N3="Retido",$M3<=0),"Depósito retido sem valor",IF(AND($N3="Devolvido",$M3<=0),"Depósito devolvido sem valor",IF(AND($N3="Não se aplica",$M3>0),"Definir destino do depósito",IF($M3>$G3,"Depósito acima do valor previsto","OK"))))))))))))) | W3: ='Parâmetros'!$D$4 | X3: ='Parâmetros'!$E$4 | Y3: ='Parâmetros'!$F$4 | Z3: ='Parâmetros'!$G$4
A4: FIC-003 | B4: 46267 | C4: 0.41666667 | D4: 30 | E4: Profissional C | F4: Corte masculino | G4: 60 | H4: Cancelamento | I4: 46265 | J4: 0.375 | K4: 30 | L4: 60 | M4: 0 | N4: Não se aplica | O4: =IF($A4="","",IF($H4="Falta",0,IF(OR($B4="",$C4="",$I4="",$J4=""),"",MAX(0,(($B4+$C4)-($I4+$J4))*24)))) | P4: =IF($A4="","",IF($H4="Falta","Falta",IF($H4="Cancelamento",IF(OR($B4="",$C4="",$I4="",$J4=""),"Aviso não informado",IF(($I4+$J4)>($B4+$C4),"Aviso após o horário",IF((($B4+$C4)-($I4+$J4))*24<=Parâmetros!$B$2,"Cancelamento tardio","Cancelamento antecipado"))),"Tipo inválido"))) | Q4: =IF($A4="","",IF(OR($D4="",$K4=""),"",IF($K4=0,"Não",IF($K4<$D4,"Parcial","Total")))) | R4: =IF($A4="","",IF(OR($D4="",$K4=""),"",MAX(0,$D4-$K4))) | S4: =IF($A4="","",IF(OR($G4="",$L4=""),"",MAX(0,$G4-$L4))) | T4: =IF($A4="","",IF(OR($M4="",$N4="",$S4=""),"",IF($N4="Retido",MIN($M4,$S4),0))) | U4: =IF($A4="","",IF(OR($S4="",$T4=""),"",MAX(0,$S4-$T4))) | V4: =IF($A4="","",IF(COUNTIF($A$2:$A$501,$A4)>1,"Código duplicado",IF(OR($B4="",$C4="",$D4="",$E4="",$F4="",$G4="",$H4="",$K4="",$L4="",$M4="",$N4=""),"Revisar campos obrigatórios",IF(AND($H4="Falta",$B4+$C4>NOW()),"Falta com horário futuro",IF(AND($H4="Cancelamento",OR($I4="",$J4="")),"Informar aviso do cancelamento",IF(AND($H4="Falta",OR($I4<>"",$J4<>"")),"Limpar aviso para falta",IF(AND($H4="Cancelamento",($I4+$J4)>($B4+$C4)),"Aviso após o horário",IF(AND($K4=0,$L4>0),"Receita substituta sem reposição",IF(AND($K4>0,$L4=0),"Confirmar reposição sem receita",IF(AND($N4="Retido",$M4<=0),"Depósito retido sem valor",IF(AND($N4="Devolvido",$M4<=0),"Depósito devolvido sem valor",IF(AND($N4="Não se aplica",$M4>0),"Definir destino do depósito",IF($M4>$G4,"Depósito acima do valor previsto","OK"))))))))))))) | W4: ='Parâmetros'!$D$5 | X4: ='Parâmetros'!$E$5 | Z4: ='Parâmetros'!$G$5
A5: FIC-004 | B5: 46268 | C5: 0.66666667 | D5: 90 | E5: Profissional A | F5: Escova | G5: 180 | H5: Falta | K5: 0 | L5: 0 | M5: 0 | N5: Não se aplica | O5: =IF($A5="","",IF($H5="Falta",0,IF(OR($B5="",$C5="",$I5="",$J5=""),"",MAX(0,(($B5+$C5)-($I5+$J5))*24)))) | P5: =IF($A5="","",IF($H5="Falta","Falta",IF($H5="Cancelamento",IF(OR($B5="",$C5="",$I5="",$J5=""),"Aviso não informado",IF(($I5+$J5)>($B5+$C5),"Aviso após o horário",IF((($B5+$C5)-($I5+$J5))*24<=Parâmetros!$B$2,"Cancelamento tardio","Cancelamento antecipado"))),"Tipo inválido"))) | Q5: =IF($A5="","",IF(OR($D5="",$K5=""),"",IF($K5=0,"Não",IF($K5<$D5,"Parcial","Total")))) | R5: =IF($A5="","",IF(OR($D5="",$K5=""),"",MAX(0,$D5-$K5))) | S5: =IF($A5="","",IF(OR($G5="",$L5=""),"",MAX(0,$G5-$L5))) | T5: =IF($A5="","",IF(OR($M5="",$N5="",$S5=""),"",IF($N5="Retido",MIN($M5,$S5),0))) | U5: =IF($A5="","",IF(OR($S5="",$T5=""),"",MAX(0,$S5-$T5))) | V5: =IF($A5="","",IF(COUNTIF($A$2:$A$501,$A5)>1,"Código duplicado",IF(OR($B5="",$C5="",$D5="",$E5="",$F5="",$G5="",$H5="",$K5="",$L5="",$M5="",$N5=""),"Revisar campos obrigatórios",IF(AND($H5="Falta",$B5+$C5>NOW()),"Falta com horário futuro",IF(AND($H5="Cancelamento",OR($I5="",$J5="")),"Informar aviso do cancelamento",IF(AND($H5="Falta",OR($I5<>"",$J5<>"")),"Limpar aviso para falta",IF(AND($H5="Cancelamento",($I5+$J5)>($B5+$C5)),"Aviso após o horário",IF(AND($K5=0,$L5>0),"Receita substituta sem reposição",IF(AND($K5>0,$L5=0),"Confirmar reposição sem receita",IF(AND($N5="Retido",$M5<=0),"Depósito retido sem valor",IF(AND($N5="Devolvido",$M5<=0),"Depósito devolvido sem valor",IF(AND($N5="Não se aplica",$M5>0),"Definir destino do depósito",IF($M5>$G5,"Depósito acima do valor previsto","OK"))))))))))))) | W5: ='Parâmetros'!$D$6 | X5: ='Parâmetros'!$E$6
A6: FIC-005 | B6: 46269 | C6: 0.45833333 | D6: 60 | E6: Profissional B | F6: Pedicure | G6: 90 | H6: Cancelamento | I6: 46268 | J6: 0.5 | K6: 60 | L6: 70 | M6: 20 | N6: Retido | O6: =IF($A6="","",IF($H6="Falta",0,IF(OR($B6="",$C6="",$I6="",$J6=""),"",MAX(0,(($B6+$C6)-($I6+$J6))*24)))) | P6: =IF($A6="","",IF($H6="Falta","Falta",IF($H6="Cancelamento",IF(OR($B6="",$C6="",$I6="",$J6=""),"Aviso não informado",IF(($I6+$J6)>($B6+$C6),"Aviso após o horário",IF((($B6+$C6)-($I6+$J6))*24<=Parâmetros!$B$2,"Cancelamento tardio","Cancelamento antecipado"))),"Tipo inválido"))) | Q6: =IF($A6="","",IF(OR($D6="",$K6=""),"",IF($K6=0,"Não",IF($K6<$D6,"Parcial","Total")))) | R6: =IF($A6="","",IF(OR($D6="",$K6=""),"",MAX(0,$D6-$K6))) | S6: =IF($A6="","",IF(OR($G6="",$L6=""),"",MAX(0,$G6-$L6))) | T6: =IF($A6="","",IF(OR($M6="",$N6="",$S6=""),"",IF($N6="Retido",MIN($M6,$S6),0))) | U6: =IF($A6="","",IF(OR($S6="",$T6=""),"",MAX(0,$S6-$T6))) | V6: =IF($A6="","",IF(COUNTIF($A$2:$A$501,$A6)>1,"Código duplicado",IF(OR($B6="",$C6="",$D6="",$E6="",$F6="",$G6="",$H6="",$K6="",$L6="",$M6="",$N6=""),"Revisar campos obrigatórios",IF(AND($H6="Falta",$B6+$C6>NOW()),"Falta com horário futuro",IF(AND($H6="Cancelamento",OR($I6="",$J6="")),"Informar aviso do cancelamento",IF(AND($H6="Falta",OR($I6<>"",$J6<>"")),"Limpar aviso para falta",IF(AND($H6="Cancelamento",($I6+$J6)>($B6+$C6)),"Aviso após o horário",IF(AND($K6=0,$L6>0),"Receita substituta sem reposição",IF(AND($K6>0,$L6=0),"Confirmar reposição sem receita",IF(AND($N6="Retido",$M6<=0),"Depósito retido sem valor",IF(AND($N6="Devolvido",$M6<=0),"Depósito devolvido sem valor",IF(AND($N6="Não se aplica",$M6>0),"Definir destino do depósito",IF($M6>$G6,"Depósito acima do valor previsto","OK"))))))))))))) | X6: ='Parâmetros'!$E$7
A7: FIC-006 | B7: 46270 | C7: 0.39583333 | D7: 30 | E7: Profissional C | F7: Design de sobrancelhas | G7: 50 | H7: Cancelamento | I7: 46268 | J7: 0.39583333 | K7: 0 | L7: 0 | M7: 0 | N7: Não se aplica | O7: =IF($A7="","",IF($H7="Falta",0,IF(OR($B7="",$C7="",$I7="",$J7=""),"",MAX(0,(($B7+$C7)-($I7+$J7))*24)))) | P7: =IF($A7="","",IF($H7="Falta","Falta",IF($H7="Cancelamento",IF(OR($B7="",$C7="",$I7="",$J7=""),"Aviso não informado",IF(($I7+$J7)>($B7+$C7),"Aviso após o horário",IF((($B7+$C7)-($I7+$J7))*24<=Parâmetros!$B$2,"Cancelamento tardio","Cancelamento antecipado"))),"Tipo inválido"))) | Q7: =IF($A7="","",IF(OR($D7="",$K7=""),"",IF($K7=0,"Não",IF($K7<$D7,"Parcial","Total")))) | R7: =IF($A7="","",IF(OR($D7="",$K7=""),"",MAX(0,$D7-$K7))) | S7: =IF($A7="","",IF(OR($G7="",$L7=""),"",MAX(0,$G7-$L7))) | T7: =IF($A7="","",IF(OR($M7="",$N7="",$S7=""),"",IF($N7="Retido",MIN($M7,$S7),0))) | U7: =IF($A7="","",IF(OR($S7="",$T7=""),"",MAX(0,$S7-$T7))) | V7: =IF($A7="","",IF(COUNTIF($A$2:$A$501,$A7)>1,"Código duplicado",IF(OR($B7="",$C7="",$D7="",$E7="",$F7="",$G7="",$H7="",$K7="",$L7="",$M7="",$N7=""),"Revisar campos obrigatórios",IF(AND($H7="Falta",$B7+$C7>NOW()),"Falta com horário futuro",IF(AND($H7="Cancelamento",OR($I7="",$J7="")),"Informar aviso do cancelamento",IF(AND($H7="Falta",OR($I7<>"",$J7<>"")),"Limpar aviso para falta",IF(AND($H7="Cancelamento",($I7+$J7)>($B7+$C7)),"Aviso após o horário",IF(AND($K7=0,$L7>0),"Receita substituta sem reposição",IF(AND($K7>0,$L7=0),"Confirmar reposição sem receita",IF(AND($N7="Retido",$M7<=0),"Depósito retido sem valor",IF(AND($N7="Devolvido",$M7<=0),"Depósito devolvido sem valor",IF(AND($N7="Não se aplica",$M7>0),"Definir destino do depósito",IF($M7>$G7,"Depósito acima do valor previsto","OK"))))))))))))) | X7: ='Parâmetros'!$E$8
A8: FIC-007 | B8: 46271 | C8: 0.54166667 | D8: 45 | E8: Profissional A | F8: Barba | G8: 75 | H8: Falta | K8: 45 | L8: 75 | M8: 0 | N8: Não se aplica | O8: =IF($A8="","",IF($H8="Falta",0,IF(OR($B8="",$C8="",$I8="",$J8=""),"",MAX(0,(($B8+$C8)-($I8+$J8))*24)))) | P8: =IF($A8="","",IF($H8="Falta","Falta",IF($H8="Cancelamento",IF(OR($B8="",$C8="",$I8="",$J8=""),"Aviso não informado",IF(($I8+$J8)>($B8+$C8),"Aviso após o horário",IF((($B8+$C8)-($I8+$J8))*24<=Parâmetros!$B$2,"Cancelamento tardio","Cancelamento antecipado"))),"Tipo inválido"))) | Q8: =IF($A8="","",IF(OR($D8="",$K8=""),"",IF($K8=0,"Não",IF($K8<$D8,"Parcial","Total")))) | R8: =IF($A8="","",IF(OR($D8="",$K8=""),"",MAX(0,$D8-$K8))) | S8: =IF($A8="","",IF(OR($G8="",$L8=""),"",MAX(0,$G8-$L8))) | T8: =IF($A8="","",IF(OR($M8="",$N8="",$S8=""),"",IF($N8="Retido",MIN($M8,$S8),0))) | U8: =IF($A8="","",IF(OR($S8="",$T8=""),"",MAX(0,$S8-$T8))) | V8: =IF($A8="","",IF(COUNTIF($A$2:$A$501,$A8)>1,"Código duplicado",IF(OR($B8="",$C8="",$D8="",$E8="",$F8="",$G8="",$H8="",$K8="",$L8="",$M8="",$N8=""),"Revisar campos obrigatórios",IF(AND($H8="Falta",$B8+$C8>NOW()),"Falta com horário futuro",IF(AND($H8="Cancelamento",OR($I8="",$J8="")),"Informar aviso do cancelamento",IF(AND($H8="Falta",OR($I8<>"",$J8<>"")),"Limpar aviso para falta",IF(AND($H8="Cancelamento",($I8+$J8)>($B8+$C8)),"Aviso após o horário",IF(AND($K8=0,$L8>0),"Receita substituta sem reposição",IF(AND($K8>0,$L8=0),"Confirmar reposição sem receita",IF(AND($N8="Retido",$M8<=0),"Depósito retido sem valor",IF(AND($N8="Devolvido",$M8<=0),"Depósito devolvido sem valor",IF(AND($N8="Não se aplica",$M8>0),"Definir destino do depósito",IF($M8>$G8,"Depósito acima do valor previsto","OK"))))))))))))) | X8: ='Parâmetros'!$E$9
A9: FIC-008 | B9: 46272 | C9: 0.625 | D9: 60 | E9: Profissional B | F9: Corte feminino | G9: 130 | H9: Cancelamento | I9: 46272 | J9: 0.58333333 | K9: 0 | L9: 0 | M9: 40 | N9: Retido | O9: =IF($A9="","",IF($H9="Falta",0,IF(OR($B9="",$C9="",$I9="",$J9=""),"",MAX(0,(($B9+$C9)-($I9+$J9))*24)))) | P9: =IF($A9="","",IF($H9="Falta","Falta",IF($H9="Cancelamento",IF(OR($B9="",$C9="",$I9="",$J9=""),"Aviso não informado",IF(($I9+$J9)>($B9+$C9),"Aviso após o horário",IF((($B9+$C9)-($I9+$J9))*24<=Parâmetros!$B$2,"Cancelamento tardio","Cancelamento antecipado"))),"Tipo inválido"))) | Q9: =IF($A9="","",IF(OR($D9="",$K9=""),"",IF($K9=0,"Não",IF($K9<$D9,"Parcial","Total")))) | R9: =IF($A9="","",IF(OR($D9="",$K9=""),"",MAX(0,$D9-$K9))) | S9: =IF($A9="","",IF(OR($G9="",$L9=""),"",MAX(0,$G9-$L9))) | T9: =IF($A9="","",IF(OR($M9="",$N9="",$S9=""),"",IF($N9="Retido",MIN($M9,$S9),0))) | U9: =IF($A9="","",IF(OR($S9="",$T9=""),"",MAX(0,$S9-$T9))) | V9: =IF($A9="","",IF(COUNTIF($A$2:$A$501,$A9)>1,"Código duplicado",IF(OR($B9="",$C9="",$D9="",$E9="",$F9="",$G9="",$H9="",$K9="",$L9="",$M9="",$N9=""),"Revisar campos obrigatórios",IF(AND($H9="Falta",$B9+$C9>NOW()),"Falta com horário futuro",IF(AND($H9="Cancelamento",OR($I9="",$J9="")),"Informar aviso do cancelamento",IF(AND($H9="Falta",OR($I9<>"",$J9<>"")),"Limpar aviso para falta",IF(AND($H9="Cancelamento",($I9+$J9)>($B9+$C9)),"Aviso após o horário",IF(AND($K9=0,$L9>0),"Receita substituta sem reposição",IF(AND($K9>0,$L9=0),"Confirmar reposição sem receita",IF(AND($N9="Retido",$M9<=0),"Depósito retido sem valor",IF(AND($N9="Devolvido",$M9<=0),"Depósito devolvido sem valor",IF(AND($N9="Não se aplica",$M9>0),"Definir destino do depósito",IF($M9>$G9,"Depósito acima do valor previsto","OK")))))))))))))
A10: FIC-009 | B10: 46273 | C10: 0.41666667 | D10: 30 | E10: Profissional C | F10: Manicure | G10: 65 | H10: Cancelamento | I10: 46271 | J10: 0.41666667 | K10: 15 | L10: 50 | M10: 15 | N10: Devolvido | O10: =IF($A10="","",IF($H10="Falta",0,IF(OR($B10="",$C10="",$I10="",$J10=""),"",MAX(0,(($B10+$C10)-($I10+$J10))*24)))) | P10: =IF($A10="","",IF($H10="Falta","Falta",IF($H10="Cancelamento",IF(OR($B10="",$C10="",$I10="",$J10=""),"Aviso não informado",IF(($I10+$J10)>($B10+$C10),"Aviso após o horário",IF((($B10+$C10)-($I10+$J10))*24<=Parâmetros!$B$2,"Cancelamento tardio","Cancelamento antecipado"))),"Tipo inválido"))) | Q10: =IF($A10="","",IF(OR($D10="",$K10=""),"",IF($K10=0,"Não",IF($K10<$D10,"Parcial","Total")))) | R10: =IF($A10="","",IF(OR($D10="",$K10=""),"",MAX(0,$D10-$K10))) | S10: =IF($A10="","",IF(OR($G10="",$L10=""),"",MAX(0,$G10-$L10))) | T10: =IF($A10="","",IF(OR($M10="",$N10="",$S10=""),"",IF($N10="Retido",MIN($M10,$S10),0))) | U10: =IF($A10="","",IF(OR($S10="",$T10=""),"",MAX(0,$S10-$T10))) | V10: =IF($A10="","",IF(COUNTIF($A$2:$A$501,$A10)>1,"Código duplicado",IF(OR($B10="",$C10="",$D10="",$E10="",$F10="",$G10="",$H10="",$K10="",$L10="",$M10="",$N10=""),"Revisar campos obrigatórios",IF(AND($H10="Falta",$B10+$C10>NOW()),"Falta com horário futuro",IF(AND($H10="Cancelamento",OR($I10="",$J10="")),"Informar aviso do cancelamento",IF(AND($H10="Falta",OR($I10<>"",$J10<>"")),"Limpar aviso para falta",IF(AND($H10="Cancelamento",($I10+$J10)>($B10+$C10)),"Aviso após o horário",IF(AND($K10=0,$L10>0),"Receita substituta sem reposição",IF(AND($K10>0,$L10=0),"Confirmar reposição sem receita",IF(AND($N10="Retido",$M10<=0),"Depósito retido sem valor",IF(AND($N10="Devolvido",$M10<=0),"Depósito devolvido sem valor",IF(AND($N10="Não se aplica",$M10>0),"Definir destino do depósito",IF($M10>$G10,"Depósito acima do valor previsto","OK")))))))))))))
A11: FIC-010 | B11: 46273 | C11: 0.70833333 | D11: 60 | E11: Profissional A | F11: Escova | G11: 150 | H11: Falta | K11: 0 | L11: 0 | M11: 50 | N11: Retido | O11: =IF($A11="","",IF($H11="Falta",0,IF(OR($B11="",$C11="",$I11="",$J11=""),"",MAX(0,(($B11+$C11)-($I11+$J11))*24)))) | P11: =IF($A11="","",IF($H11="Falta","Falta",IF($H11="Cancelamento",IF(OR($B11="",$C11="",$I11="",$J11=""),"Aviso não informado",IF(($I11+$J11)>($B11+$C11),"Aviso após o horário",IF((($B11+$C11)-($I11+$J11))*24<=Parâmetros!$B$2,"Cancelamento tardio","Cancelamento antecipado"))),"Tipo inválido"))) | Q11: =IF($A11="","",IF(OR($D11="",$K11=""),"",IF($K11=0,"Não",IF($K11<$D11,"Parcial","Total")))) | R11: =IF($A11="","",IF(OR($D11="",$K11=""),"",MAX(0,$D11-$K11))) | S11: =IF($A11="","",IF(OR($G11="",$L11=""),"",MAX(0,$G11-$L11))) | T11: =IF($A11="","",IF(OR($M11="",$N11="",$S11=""),"",IF($N11="Retido",MIN($M11,$S11),0))) | U11: =IF($A11="","",IF(OR($S11="",$T11=""),"",MAX(0,$S11-$T11))) | V11: =IF($A11="","",IF(COUNTIF($A$2:$A$501,$A11)>1,"Código duplicado",IF(OR($B11="",$C11="",$D11="",$E11="",$F11="",$G11="",$H11="",$K11="",$L11="",$M11="",$N11=""),"Revisar campos obrigatórios",IF(AND($H11="Falta",$B11+$C11>NOW()),"Falta com horário futuro",IF(AND($H11="Cancelamento",OR($I11="",$J11="")),"Informar aviso do cancelamento",IF(AND($H11="Falta",OR($I11<>"",$J11<>"")),"Limpar aviso para falta",IF(AND($H11="Cancelamento",($I11+$J11)>($B11+$C11)),"Aviso após o horário",IF(AND($K11=0,$L11>0),"Receita substituta sem reposição",IF(AND($K11>0,$L11=0),"Confirmar reposição sem receita",IF(AND($N11="Retido",$M11<=0),"Depósito retido sem valor",IF(AND($N11="Devolvido",$M11<=0),"Depósito devolvido sem valor",IF(AND($N11="Não se aplica",$M11>0),"Definir destino do depósito",IF($M11>$G11,"Depósito acima do valor previsto","OK")))))))))))))
O12: =IF($A12="","",IF($H12="Falta",0,IF(OR($B12="",$C12="",$I12="",$J12=""),"",MAX(0,(($B12+$C12)-($I12+$J12))*24)))) | P12: =IF($A12="","",IF($H12="Falta","Falta",IF($H12="Cancelamento",IF(OR($B12="",$C12="",$I12="",$J12=""),"Aviso não informado",IF(($I12+$J12)>($B12+$C12),"Aviso após o horário",IF((($B12+$C12)-($I12+$J12))*24<=Parâmetros!$B$2,"Cancelamento tardio","Cancelamento antecipado"))),"Tipo inválido"))) | Q12: =IF($A12="","",IF(OR($D12="",$K12=""),"",IF($K12=0,"Não",IF($K12<$D12,"Parcial","Total")))) | R12: =IF($A12="","",IF(OR($D12="",$K12=""),"",MAX(0,$D12-$K12))) | S12: =IF($A12="","",IF(OR($G12="",$L12=""),"",MAX(0,$G12-$L12))) | T12: =IF($A12="","",IF(OR($M12="",$N12="",$S12=""),"",IF($N12="Retido",MIN($M12,$S12),0))) | U12: =IF($A12="","",IF(OR($S12="",$T12=""),"",MAX(0,$S12-$T12))) | V12: =IF($A12="","",IF(COUNTIF($A$2:$A$501,$A12)>1,"Código duplicado",IF(OR($B12="",$C12="",$D12="",$E12="",$F12="",$G12="",$H12="",$K12="",$L12="",$M12="",$N12=""),"Revisar campos obrigatórios",IF(AND($H12="Falta",$B12+$C12>NOW()),"Falta com horário futuro",IF(AND($H12="Cancelamento",OR($I12="",$J12="")),"Informar aviso do cancelamento",IF(AND($H12="Falta",OR($I12<>"",$J12<>"")),"Limpar aviso para falta",IF(AND($H12="Cancelamento",($I12+$J12)>($B12+$C12)),"Aviso após o horário",IF(AND($K12=0,$L12>0),"Receita substituta sem reposição",IF(AND($K12>0,$L12=0),"Confirmar reposição sem receita",IF(AND($N12="Retido",$M12<=0),"Depósito retido sem valor",IF(AND($N12="Devolvido",$M12<=0),"Depósito devolvido sem valor",IF(AND($N12="Não se aplica",$M12>0),"Definir destino do depósito",IF($M12>$G12,"Depósito acima do valor previsto","OK")))))))))))))
O13: =IF($A13="","",IF($H13="Falta",0,IF(OR($B13="",$C13="",$I13="",$J13=""),"",MAX(0,(($B13+$C13)-($I13+$J13))*24)))) | P13: =IF($A13="","",IF($H13="Falta","Falta",IF($H13="Cancelamento",IF(OR($B13="",$C13="",$I13="",$J13=""),"Aviso não informado",IF(($I13+$J13)>($B13+$C13),"Aviso após o horário",IF((($B13+$C13)-($I13+$J13))*24<=Parâmetros!$B$2,"Cancelamento tardio","Cancelamento antecipado"))),"Tipo inválido"))) | Q13: =IF($A13="","",IF(OR($D13="",$K13=""),"",IF($K13=0,"Não",IF($K13<$D13,"Parcial","Total")))) | R13: =IF($A13="","",IF(OR($D13="",$K13=""),"",MAX(0,$D13-$K13))) | S13: =IF($A13="","",IF(OR($G13="",$L13=""),"",MAX(0,$G13-$L13))) | T13: =IF($A13="","",IF(OR($M13="",$N13="",$S13=""),"",IF($N13="Retido",MIN($M13,$S13),0))) | U13: =IF($A13="","",IF(OR($S13="",$T13=""),"",MAX(0,$S13-$T13))) | V13: =IF($A13="","",IF(COUNTIF($A$2:$A$501,$A13)>1,"Código duplicado",IF(OR($B13="",$C13="",$D13="",$E13="",$F13="",$G13="",$H13="",$K13="",$L13="",$M13="",$N13=""),"Revisar campos obrigatórios",IF(AND($H13="Falta",$B13+$C13>NOW()),"Falta com horário futuro",IF(AND($H13="Cancelamento",OR($I13="",$J13="")),"Informar aviso do cancelamento",IF(AND($H13="Falta",OR($I13<>"",$J13<>"")),"Limpar aviso para falta",IF(AND($H13="Cancelamento",($I13+$J13)>($B13+$C13)),"Aviso após o horário",IF(AND($K13=0,$L13>0),"Receita substituta sem reposição",IF(AND($K13>0,$L13=0),"Confirmar reposição sem receita",IF(AND($N13="Retido",$M13<=0),"Depósito retido sem valor",IF(AND($N13="Devolvido",$M13<=0),"Depósito devolvido sem valor",IF(AND($N13="Não se aplica",$M13>0),"Definir destino do depósito",IF($M13>$G13,"Depósito acima do valor previsto","OK")))))))))))))
O14: =IF($A14="","",IF($H14="Falta",0,IF(OR($B14="",$C14="",$I14="",$J14=""),"",MAX(0,(($B14+$C14)-($I14+$J14))*24)))) | P14: =IF($A14="","",IF($H14="Falta","Falta",IF($H14="Cancelamento",IF(OR($B14="",$C14="",$I14="",$J14=""),"Aviso não informado",IF(($I14+$J14)>($B14+$C14),"Aviso após o horário",IF((($B14+$C14)-($I14+$J14))*24<=Parâmetros!$B$2,"Cancelamento tardio","Cancelamento antecipado"))),"Tipo inválido"))) | Q14: =IF($A14="","",IF(OR($D14="",$K14=""),"",IF($K14=0,"Não",IF($K14<$D14,"Parcial","Total")))) | R14: =IF($A14="","",IF(OR($D14="",$K14=""),"",MAX(0,$D14-$K14))) | S14: =IF($A14="","",IF(OR($G14="",$L14=""),"",MAX(0,$G14-$L14))) | T14: =IF($A14="","",IF(OR($M14="",$N14="",$S14=""),"",IF($N14="Retido",MIN($M14,$S14),0))) | U14: =IF($A14="","",IF(OR($S14="",$T14=""),"",MAX(0,$S14-$T14))) | V14: =IF($A14="","",IF(COUNTIF($A$2:$A$501,$A14)>1,"Código duplicado",IF(OR($B14="",$C14="",$D14="",$E14="",$F14="",$G14="",$H14="",$K14="",$L14="",$M14="",$N14=""),"Revisar campos obrigatórios",IF(AND($H14="Falta",$B14+$C14>NOW()),"Falta com horário futuro",IF(AND($H14="Cancelamento",OR($I14="",$J14="")),"Informar aviso do cancelamento",IF(AND($H14="Falta",OR($I14<>"",$J14<>"")),"Limpar aviso para falta",IF(AND($H14="Cancelamento",($I14+$J14)>($B14+$C14)),"Aviso após o horário",IF(AND($K14=0,$L14>0),"Receita substituta sem reposição",IF(AND($K14>0,$L14=0),"Confirmar reposição sem receita",IF(AND($N14="Retido",$M14<=0),"Depósito retido sem valor",IF(AND($N14="Devolvido",$M14<=0),"Depósito devolvido sem valor",IF(AND($N14="Não se aplica",$M14>0),"Definir destino do depósito",IF($M14>$G14,"Depósito acima do valor previsto","OK")))))))))))))
O15: =IF($A15="","",IF($H15="Falta",0,IF(OR($B15="",$C15="",$I15="",$J15=""),"",MAX(0,(($B15+$C15)-($I15+$J15))*24)))) | P15: =IF($A15="","",IF($H15="Falta","Falta",IF($H15="Cancelamento",IF(OR($B15="",$C15="",$I15="",$J15=""),"Aviso não informado",IF(($I15+$J15)>($B15+$C15),"Aviso após o horário",IF((($B15+$C15)-($I15+$J15))*24<=Parâmetros!$B$2,"Cancelamento tardio","Cancelamento antecipado"))),"Tipo inválido"))) | Q15: =IF($A15="","",IF(OR($D15="",$K15=""),"",IF($K15=0,"Não",IF($K15<$D15,"Parcial","Total")))) | R15: =IF($A15="","",IF(OR($D15="",$K15=""),"",MAX(0,$D15-$K15))) | S15: =IF($A15="","",IF(OR($G15="",$L15=""),"",MAX(0,$G15-$L15))) | T15: =IF($A15="","",IF(OR($M15="",$N15="",$S15=""),"",IF($N15="Retido",MIN($M15,$S15),0))) | U15: =IF($A15="","",IF(OR($S15="",$T15=""),"",MAX(0,$S15-$T15))) | V15: =IF($A15="","",IF(COUNTIF($A$2:$A$501,$A15)>1,"Código duplicado",IF(OR($B15="",$C15="",$D15="",$E15="",$F15="",$G15="",$H15="",$K15="",$L15="",$M15="",$N15=""),"Revisar campos obrigatórios",IF(AND($H15="Falta",$B15+$C15>NOW()),"Falta com horário futuro",IF(AND($H15="Cancelamento",OR($I15="",$J15="")),"Informar aviso do cancelamento",IF(AND($H15="Falta",OR($I15<>"",$J15<>"")),"Limpar aviso para falta",IF(AND($H15="Cancelamento",($I15+$J15)>($B15+$C15)),"Aviso após o horário",IF(AND($K15=0,$L15>0),"Receita substituta sem reposição",IF(AND($K15>0,$L15=0),"Confirmar reposição sem receita",IF(AND($N15="Retido",$M15<=0),"Depósito retido sem valor",IF(AND($N15="Devolvido",$M15<=0),"Depósito devolvido sem valor",IF(AND($N15="Não se aplica",$M15>0),"Definir destino do depósito",IF($M15>$G15,"Depósito acima do valor previsto","OK")))))))))))))
O16: =IF($A16="","",IF($H16="Falta",0,IF(OR($B16="",$C16="",$I16="",$J16=""),"",MAX(0,(($B16+$C16)-($I16+$J16))*24)))) | P16: =IF($A16="","",IF($H16="Falta","Falta",IF($H16="Cancelamento",IF(OR($B16="",$C16="",$I16="",$J16=""),"Aviso não informado",IF(($I16+$J16)>($B16+$C16),"Aviso após o horário",IF((($B16+$C16)-($I16+$J16))*24<=Parâmetros!$B$2,"Cancelamento tardio","Cancelamento antecipado"))),"Tipo inválido"))) | Q16: =IF($A16="","",IF(OR($D16="",$K16=""),"",IF($K16=0,"Não",IF($K16<$D16,"Parcial","Total")))) | R16: =IF($A16="","",IF(OR($D16="",$K16=""),"",MAX(0,$D16-$K16))) | S16: =IF($A16="","",IF(OR($G16="",$L16=""),"",MAX(0,$G16-$L16))) | T16: =IF($A16="","",IF(OR($M16="",$N16="",$S16=""),"",IF($N16="Retido",MIN($M16,$S16),0))) | U16: =IF($A16="","",IF(OR($S16="",$T16=""),"",MAX(0,$S16-$T16))) | V16: =IF($A16="","",IF(COUNTIF($A$2:$A$501,$A16)>1,"Código duplicado",IF(OR($B16="",$C16="",$D16="",$E16="",$F16="",$G16="",$H16="",$K16="",$L16="",$M16="",$N16=""),"Revisar campos obrigatórios",IF(AND($H16="Falta",$B16+$C16>NOW()),"Falta com horário futuro",IF(AND($H16="Cancelamento",OR($I16="",$J16="")),"Informar aviso do cancelamento",IF(AND($H16="Falta",OR($I16<>"",$J16<>"")),"Limpar aviso para falta",IF(AND($H16="Cancelamento",($I16+$J16)>($B16+$C16)),"Aviso após o horário",IF(AND($K16=0,$L16>0),"Receita substituta sem reposição",IF(AND($K16>0,$L16=0),"Confirmar reposição sem receita",IF(AND($N16="Retido",$M16<=0),"Depósito retido sem valor",IF(AND($N16="Devolvido",$M16<=0),"Depósito devolvido sem valor",IF(AND($N16="Não se aplica",$M16>0),"Definir destino do depósito",IF($M16>$G16,"Depósito acima do valor previsto","OK")))))))))))))
O17: =IF($A17="","",IF($H17="Falta",0,IF(OR($B17="",$C17="",$I17="",$J17=""),"",MAX(0,(($B17+$C17)-($I17+$J17))*24)))) | P17: =IF($A17="","",IF($H17="Falta","Falta",IF($H17="Cancelamento",IF(OR($B17="",$C17="",$I17="",$J17=""),"Aviso não informado",IF(($I17+$J17)>($B17+$C17),"Aviso após o horário",IF((($B17+$C17)-($I17+$J17))*24<=Parâmetros!$B$2,"Cancelamento tardio","Cancelamento antecipado"))),"Tipo inválido"))) | Q17: =IF($A17="","",IF(OR($D17="",$K17=""),"",IF($K17=0,"Não",IF($K17<$D17,"Parcial","Total")))) | R17: =IF($A17="","",IF(OR($D17="",$K17=""),"",MAX(0,$D17-$K17))) | S17: =IF($A17="","",IF(OR($G17="",$L17=""),"",MAX(0,$G17-$L17))) | T17: =IF($A17="","",IF(OR($M17="",$N17="",$S17=""),"",IF($N17="Retido",MIN($M17,$S17),0))) | U17: =IF($A17="","",IF(OR($S17="",$T17=""),"",MAX(0,$S17-$T17))) | V17: =IF($A17="","",IF(COUNTIF($A$2:$A$501,$A17)>1,"Código duplicado",IF(OR($B17="",$C17="",$D17="",$E17="",$F17="",$G17="",$H17="",$K17="",$L17="",$M17="",$N17=""),"Revisar campos obrigatórios",IF(AND($H17="Falta",$B17+$C17>NOW()),"Falta com horário futuro",IF(AND($H17="Cancelamento",OR($I17="",$J17="")),"Informar aviso do cancelamento",IF(AND($H17="Falta",OR($I17<>"",$J17<>"")),"Limpar aviso para falta",IF(AND($H17="Cancelamento",($I17+$J17)>($B17+$C17)),"Aviso após o horário",IF(AND($K17=0,$L17>0),"Receita substituta sem reposição",IF(AND($K17>0,$L17=0),"Confirmar reposição sem receita",IF(AND($N17="Retido",$M17<=0),"Depósito retido sem valor",IF(AND($N17="Devolvido",$M17<=0),"Depósito devolvido sem valor",IF(AND($N17="Não se aplica",$M17>0),"Definir destino do depósito",IF($M17>$G17,"Depósito acima do valor previsto","OK")))))))))))))
O18: =IF($A18="","",IF($H18="Falta",0,IF(OR($B18="",$C18="",$I18="",$J18=""),"",MAX(0,(($B18+$C18)-($I18+$J18))*24)))) | P18: =IF($A18="","",IF($H18="Falta","Falta",IF($H18="Cancelamento",IF(OR($B18="",$C18="",$I18="",$J18=""),"Aviso não informado",IF(($I18+$J18)>($B18+$C18),"Aviso após o horário",IF((($B18+$C18)-($I18+$J18))*24<=Parâmetros!$B$2,"Cancelamento tardio","Cancelamento antecipado"))),"Tipo inválido"))) | Q18: =IF($A18="","",IF(OR($D18="",$K18=""),"",IF($K18=0,"Não",IF($K18<$D18,"Parcial","Total")))) | R18: =IF($A18="","",IF(OR($D18="",$K18=""),"",MAX(0,$D18-$K18))) | S18: =IF($A18="","",IF(OR($G18="",$L18=""),"",MAX(0,$G18-$L18))) | T18: =IF($A18="","",IF(OR($M18="",$N18="",$S18=""),"",IF($N18="Retido",MIN($M18,$S18),0))) | U18: =IF($A18="","",IF(OR($S18="",$T18=""),"",MAX(0,$S18-$T18))) | V18: =IF($A18="","",IF(COUNTIF($A$2:$A$501,$A18)>1,"Código duplicado",IF(OR($B18="",$C18="",$D18="",$E18="",$F18="",$G18="",$H18="",$K18="",$L18="",$M18="",$N18=""),"Revisar campos obrigatórios",IF(AND($H18="Falta",$B18+$C18>NOW()),"Falta com horário futuro",IF(AND($H18="Cancelamento",OR($I18="",$J18="")),"Informar aviso do cancelamento",IF(AND($H18="Falta",OR($I18<>"",$J18<>"")),"Limpar aviso para falta",IF(AND($H18="Cancelamento",($I18+$J18)>($B18+$C18)),"Aviso após o horário",IF(AND($K18=0,$L18>0),"Receita substituta sem reposição",IF(AND($K18>0,$L18=0),"Confirmar reposição sem receita",IF(AND($N18="Retido",$M18<=0),"Depósito retido sem valor",IF(AND($N18="Devolvido",$M18<=0),"Depósito devolvido sem valor",IF(AND($N18="Não se aplica",$M18>0),"Definir destino do depósito",IF($M18>$G18,"Depósito acima do valor previsto","OK")))))))))))))
O19: =IF($A19="","",IF($H19="Falta",0,IF(OR($B19="",$C19="",$I19="",$J19=""),"",MAX(0,(($B19+$C19)-($I19+$J19))*24)))) | P19: =IF($A19="","",IF($H19="Falta","Falta",IF($H19="Cancelamento",IF(OR($B19="",$C19="",$I19="",$J19=""),"Aviso não informado",IF(($I19+$J19)>($B19+$C19),"Aviso após o horário",IF((($B19+$C19)-($I19+$J19))*24<=Parâmetros!$B$2,"Cancelamento tardio","Cancelamento antecipado"))),"Tipo inválido"))) | Q19: =IF($A19="","",IF(OR($D19="",$K19=""),"",IF($K19=0,"Não",IF($K19<$D19,"Parcial","Total")))) | R19: =IF($A19="","",IF(OR($D19="",$K19=""),"",MAX(0,$D19-$K19))) | S19: =IF($A19="","",IF(OR($G19="",$L19=""),"",MAX(0,$G19-$L19))) | T19: =IF($A19="","",IF(OR($M19="",$N19="",$S19=""),"",IF($N19="Retido",MIN($M19,$S19),0))) | U19: =IF($A19="","",IF(OR($S19="",$T19=""),"",MAX(0,$S19-$T19))) | V19: =IF($A19="","",IF(COUNTIF($A$2:$A$501,$A19)>1,"Código duplicado",IF(OR($B19="",$C19="",$D19="",$E19="",$F19="",$G19="",$H19="",$K19="",$L19="",$M19="",$N19=""),"Revisar campos obrigatórios",IF(AND($H19="Falta",$B19+$C19>NOW()),"Falta com horário futuro",IF(AND($H19="Cancelamento",OR($I19="",$J19="")),"Informar aviso do cancelamento",IF(AND($H19="Falta",OR($I19<>"",$J19<>"")),"Limpar aviso para falta",IF(AND($H19="Cancelamento",($I19+$J19)>($B19+$C19)),"Aviso após o horário",IF(AND($K19=0,$L19>0),"Receita substituta sem reposição",IF(AND($K19>0,$L19=0),"Confirmar reposição sem receita",IF(AND($N19="Retido",$M19<=0),"Depósito retido sem valor",IF(AND($N19="Devolvido",$M19<=0),"Depósito devolvido sem valor",IF(AND($N19="Não se aplica",$M19>0),"Definir destino do depósito",IF($M19>$G19,"Depósito acima do valor previsto","OK")))))))))))))
O20: =IF($A20="","",IF($H20="Falta",0,IF(OR($B20="",$C20="",$I20="",$J20=""),"",MAX(0,(($B20+$C20)-($I20+$J20))*24)))) | P20: =IF($A20="","",IF($H20="Falta","Falta",IF($H20="Cancelamento",IF(OR($B20="",$C20="",$I20="",$J20=""),"Aviso não informado",IF(($I20+$J20)>($B20+$C20),"Aviso após o horário",IF((($B20+$C20)-($I20+$J20))*24<=Parâmetros!$B$2,"Cancelamento tardio","Cancelamento antecipado"))),"Tipo inválido"))) | Q20: =IF($A20="","",IF(OR($D20="",$K20=""),"",IF($K20=0,"Não",IF($K20<$D20,"Parcial","Total")))) | R20: =IF($A20="","",IF(OR($D20="",$K20=""),"",MAX(0,$D20-$K20))) | S20: =IF($A20="","",IF(OR($G20="",$L20=""),"",MAX(0,$G20-$L20))) | T20: =IF($A20="","",IF(OR($M20="",$N20="",$S20=""),"",IF($N20="Retido",MIN($M20,$S20),0))) | U20: =IF($A20="","",IF(OR($S20="",$T20=""),"",MAX(0,$S20-$T20))) | V20: =IF($A20="","",IF(COUNTIF($A$2:$A$501,$A20)>1,"Código duplicado",IF(OR($B20="",$C20="",$D20="",$E20="",$F20="",$G20="",$H20="",$K20="",$L20="",$M20="",$N20=""),"Revisar campos obrigatórios",IF(AND($H20="Falta",$B20+$C20>NOW()),"Falta com horário futuro",IF(AND($H20="Cancelamento",OR($I20="",$J20="")),"Informar aviso do cancelamento",IF(AND($H20="Falta",OR($I20<>"",$J20<>"")),"Limpar aviso para falta",IF(AND($H20="Cancelamento",($I20+$J20)>($B20+$C20)),"Aviso após o horário",IF(AND($K20=0,$L20>0),"Receita substituta sem reposição",IF(AND($K20>0,$L20=0),"Confirmar reposição sem receita",IF(AND($N20="Retido",$M20<=0),"Depósito retido sem valor",IF(AND($N20="Devolvido",$M20<=0),"Depósito devolvido sem valor",IF(AND($N20="Não se aplica",$M20>0),"Definir destino do depósito",IF($M20>$G20,"Depósito acima do valor previsto","OK")))))))))))))
O21: =IF($A21="","",IF($H21="Falta",0,IF(OR($B21="",$C21="",$I21="",$J21=""),"",MAX(0,(($B21+$C21)-($I21+$J21))*24)))) | P21: =IF($A21="","",IF($H21="Falta","Falta",IF($H21="Cancelamento",IF(OR($B21="",$C21="",$I21="",$J21=""),"Aviso não informado",IF(($I21+$J21)>($B21+$C21),"Aviso após o horário",IF((($B21+$C21)-($I21+$J21))*24<=Parâmetros!$B$2,"Cancelamento tardio","Cancelamento antecipado"))),"Tipo inválido"))) | Q21: =IF($A21="","",IF(OR($D21="",$K21=""),"",IF($K21=0,"Não",IF($K21<$D21,"Parcial","Total")))) | R21: =IF($A21="","",IF(OR($D21="",$K21=""),"",MAX(0,$D21-$K21))) | S21: =IF($A21="","",IF(OR($G21="",$L21=""),"",MAX(0,$G21-$L21))) | T21: =IF($A21="","",IF(OR($M21="",$N21="",$S21=""),"",IF($N21="Retido",MIN($M21,$S21),0))) | U21: =IF($A21="","",IF(OR($S21="",$T21=""),"",MAX(0,$S21-$T21))) | V21: =IF($A21="","",IF(COUNTIF($A$2:$A$501,$A21)>1,"Código duplicado",IF(OR($B21="",$C21="",$D21="",$E21="",$F21="",$G21="",$H21="",$K21="",$L21="",$M21="",$N21=""),"Revisar campos obrigatórios",IF(AND($H21="Falta",$B21+$C21>NOW()),"Falta com horário futuro",IF(AND($H21="Cancelamento",OR($I21="",$J21="")),"Informar aviso do cancelamento",IF(AND($H21="Falta",OR($I21<>"",$J21<>"")),"Limpar aviso para falta",IF(AND($H21="Cancelamento",($I21+$J21)>($B21+$C21)),"Aviso após o horário",IF(AND($K21=0,$L21>0),"Receita substituta sem reposição",IF(AND($K21>0,$L21=0),"Confirmar reposição sem receita",IF(AND($N21="Retido",$M21<=0),"Depósito retido sem valor",IF(AND($N21="Devolvido",$M21<=0),"Depósito devolvido sem valor",IF(AND($N21="Não se aplica",$M21>0),"Definir destino do depósito",IF($M21>$G21,"Depósito acima do valor previsto","OK")))))))))))))
O22: =IF($A22="","",IF($H22="Falta",0,IF(OR($B22="",$C22="",$I22="",$J22=""),"",MAX(0,(($B22+$C22)-($I22+$J22))*24)))) | P22: =IF($A22="","",IF($H22="Falta","Falta",IF($H22="Cancelamento",IF(OR($B22="",$C22="",$I22="",$J22=""),"Aviso não informado",IF(($I22+$J22)>($B22+$C22),"Aviso após o horário",IF((($B22+$C22)-($I22+$J22))*24<=Parâmetros!$B$2,"Cancelamento tardio","Cancelamento antecipado"))),"Tipo inválido"))) | Q22: =IF($A22="","",IF(OR($D22="",$K22=""),"",IF($K22=0,"Não",IF($K22<$D22,"Parcial","Total")))) | R22: =IF($A22="","",IF(OR($D22="",$K22=""),"",MAX(0,$D22-$K22))) | S22: =IF($A22="","",IF(OR($G22="",$L22=""),"",MAX(0,$G22-$L22))) | T22: =IF($A22="","",IF(OR($M22="",$N22="",$S22=""),"",IF($N22="Retido",MIN($M22,$S22),0))) | U22: =IF($A22="","",IF(OR($S22="",$T22=""),"",MAX(0,$S22-$T22))) | V22: =IF($A22="","",IF(COUNTIF($A$2:$A$501,$A22)>1,"Código duplicado",IF(OR($B22="",$C22="",$D22="",$E22="",$F22="",$G22="",$H22="",$K22="",$L22="",$M22="",$N22=""),"Revisar campos obrigatórios",IF(AND($H22="Falta",$B22+$C22>NOW()),"Falta com horário futuro",IF(AND($H22="Cancelamento",OR($I22="",$J22="")),"Informar aviso do cancelamento",IF(AND($H22="Falta",OR($I22<>"",$J22<>"")),"Limpar aviso para falta",IF(AND($H22="Cancelamento",($I22+$J22)>($B22+$C22)),"Aviso após o horário",IF(AND($K22=0,$L22>0),"Receita substituta sem reposição",IF(AND($K22>0,$L22=0),"Confirmar reposição sem receita",IF(AND($N22="Retido",$M22<=0),"Depósito retido sem valor",IF(AND($N22="Devolvido",$M22<=0),"Depósito devolvido sem valor",IF(AND($N22="Não se aplica",$M22>0),"Definir destino do depósito",IF($M22>$G22,"Depósito acima do valor previsto","OK")))))))))))))
O23: =IF($A23="","",IF($H23="Falta",0,IF(OR($B23="",$C23="",$I23="",$J23=""),"",MAX(0,(($B23+$C23)-($I23+$J23))*24)))) | P23: =IF($A23="","",IF($H23="Falta","Falta",IF($H23="Cancelamento",IF(OR($B23="",$C23="",$I23="",$J23=""),"Aviso não informado",IF(($I23+$J23)>($B23+$C23),"Aviso após o horário",IF((($B23+$C23)-($I23+$J23))*24<=Parâmetros!$B$2,"Cancelamento tardio","Cancelamento antecipado"))),"Tipo inválido"))) | Q23: =IF($A23="","",IF(OR($D23="",$K23=""),"",IF($K23=0,"Não",IF($K23<$D23,"Parcial","Total")))) | R23: =IF($A23="","",IF(OR($D23="",$K23=""),"",MAX(0,$D23-$K23))) | S23: =IF($A23="","",IF(OR($G23="",$L23=""),"",MAX(0,$G23-$L23))) | T23: =IF($A23="","",IF(OR($M23="",$N23="",$S23=""),"",IF($N23="Retido",MIN($M23,$S23),0))) | U23: =IF($A23="","",IF(OR($S23="",$T23=""),"",MAX(0,$S23-$T23))) | V23: =IF($A23="","",IF(COUNTIF($A$2:$A$501,$A23)>1,"Código duplicado",IF(OR($B23="",$C23="",$D23="",$E23="",$F23="",$G23="",$H23="",$K23="",$L23="",$M23="",$N23=""),"Revisar campos obrigatórios",IF(AND($H23="Falta",$B23+$C23>NOW()),"Falta com horário futuro",IF(AND($H23="Cancelamento",OR($I23="",$J23="")),"Informar aviso do cancelamento",IF(AND($H23="Falta",OR($I23<>"",$J23<>"")),"Limpar aviso para falta",IF(AND($H23="Cancelamento",($I23+$J23)>($B23+$C23)),"Aviso após o horário",IF(AND($K23=0,$L23>0),"Receita substituta sem reposição",IF(AND($K23>0,$L23=0),"Confirmar reposição sem receita",IF(AND($N23="Retido",$M23<=0),"Depósito retido sem valor",IF(AND($N23="Devolvido",$M23<=0),"Depósito devolvido sem valor",IF(AND($N23="Não se aplica",$M23>0),"Definir destino do depósito",IF($M23>$G23,"Depósito acima do valor previsto","OK")))))))))))))
... O501: =IF($A501="","",IF($H501="Falta",0,IF(OR($B501="",$C501="",$I501="",$J501=""),"",MAX(0,(($B501+$C501)-($I501+$J501))*24)))) | P501: =IF($A501="","",IF($H501="Falta","Falta",IF($H501="Cancelamento",IF(OR($B501="",$C501="",$I501="",$J501=""),"Aviso não informado",IF(($I501+$J501)>($B501+$C501),"Aviso após o horário",IF((($B501+$C501)-($I501+$J501))*24<=Parâmetros!$B$2,"Cancelamento tardio","Cancelamento antecipado"))),"Tipo inválido"))) | Q501: =IF($A501="","",IF(OR($D501="",$K501=""),"",IF($K501=0,"Não",IF($K501<$D501,"Parcial","Total")))) | R501: =IF($A501="","",IF(OR($D501="",$K501=""),"",MAX(0,$D501-$K501))) | S501: =IF($A501="","",IF(OR($G501="",$L501=""),"",MAX(0,$G501-$L501))) | T501: =IF($A501="","",IF(OR($M501="",$N501="",$S501=""),"",IF($N501="Retido",MIN($M501,$S501),0))) | U501: =IF($A501="","",IF(OR($S501="",$T501=""),"",MAX(0,$S501-$T501))) | V501: =IF($A501="","",IF(COUNTIF($A$2:$A$501,$A501)>1,"Código duplicado",IF(OR($B501="",$C501="",$D501="",$E501="",$F501="",$G501="",$H501="",$K501="",$L501="",$M501="",$N501=""),"Revisar campos obrigatórios",IF(AND($H501="Falta",$B501+$C501>NOW()),"Falta com horário futuro",IF(AND($H501="Cancelamento",OR($I501="",$J501="")),"Informar aviso do cancelamento",IF(AND($H501="Falta",OR($I501<>"",$J501<>"")),"Limpar aviso para falta",IF(AND($H501="Cancelamento",($I501+$J501)>($B501+$C501)),"Aviso após o horário",IF(AND($K501=0,$L501>0),"Receita substituta sem reposição",IF(AND($K501>0,$L501=0),"Confirmar reposição sem receita",IF(AND($N501="Retido",$M501<=0),"Depósito retido sem valor",IF(AND($N501="Devolvido",$M501<=0),"Depósito devolvido sem valor",IF(AND($N501="Não se aplica",$M501>0),"Definir destino do depósito",IF($M501>$G501,"Depósito acima do valor previsto","OK")))))))))))))

Sheet Parâmetros
A1: Parâmetros do acompanhamento
A2: Limite para cancelamento tardio, em horas | B2: 24 | D2: Profissionais | E2: Serviços | F2: Ocorrências | G2: Destino do depósito
A3: Início do período do resumo | B3: 46266 | D3: Profissional A | E3: Corte feminino | F3: Falta | G3: Retido
A4: Fim do período do resumo | B4: 46295 | D4: Profissional B | E4: Corte masculino | F4: Cancelamento | G4: Devolvido
A5: Meta máxima de perda líquida | B5: 500 | D5: Profissional C | E5: Escova | G5: Não se aplica
D6: Equipe de apoio | E6: Manicure
E7: Pedicure
A8: Uso dos parâmetros | E8: Design de sobrancelhas
A9: Ajuste premissas e listas conforme a operação fictícia analisada. | E9: Barba
A10: O limite em horas é uma premissa gerencial editável, não uma regra contratual.
A11: A meta representa apenas um limite interno para comparação no resumo.
