Workbook

Sheet Resumo
A1: Resumo da ocupação das cadeiras
A2: Período analisado | B2: =IF(OR('Parâmetros'!$B$4="",'Parâmetros'!$B$5=""),"",TEXT('Parâmetros'!$B$4,"dd/mm/yyyy")&" a "&TEXT('Parâmetros'!$B$5,"dd/mm/yyyy"))
A4: Indicador | B4: Resultado
A5: Reservas que ocupam | B5: =IF(OR('Parâmetros'!$B$4="",'Parâmetros'!$B$5=""),"",COUNTIFS(Agenda!$B$6:$B$105,">="&'Parâmetros'!$B$4,Agenda!$B$6:$B$105,"<="&'Parâmetros'!$B$5,Agenda!$J$6:$J$105,">0"))
A6: Horas ocupadas | B6: =IF(OR('Parâmetros'!$B$4="",'Parâmetros'!$B$5=""),"",IFERROR(SUMIFS(Agenda!$J$6:$J$105,Agenda!$B$6:$B$105,">="&'Parâmetros'!$B$4,Agenda!$B$6:$B$105,"<="&'Parâmetros'!$B$5),0))
A7: Capacidade planejada (h) | B7: =IF(OR('Parâmetros'!$B$6="",'Parâmetros'!$B$7="",'Parâmetros'!$B$8="",'Parâmetros'!$B$7<='Parâmetros'!$B$6,COUNTA('Parâmetros'!$E$4:$E$9)=0),"",IFERROR(COUNTA('Parâmetros'!$E$4:$E$9)*('Parâmetros'!$B$7-'Parâmetros'!$B$6)*24*'Parâmetros'!$B$8,""))
A8: Taxa de ocupação | B8: =IFERROR(B6/B7,"")
A9: Horas ociosas | B9: =IF(OR(B6="",B7=""),"",MAX(B7-B6,0))
A10: Sobreposições a conferir | B10: =IF(OR('Parâmetros'!$B$4="",'Parâmetros'!$B$5=""),"",COUNTIFS(Agenda!$B$6:$B$105,">="&'Parâmetros'!$B$4,Agenda!$B$6:$B$105,"<="&'Parâmetros'!$B$5,Agenda!$K$6:$K$105,"Conferir sobreposição"))
A11: Demais registros a conferir | B11: =IF(OR('Parâmetros'!$B$4="",'Parâmetros'!$B$5=""),"",COUNTIFS(Agenda!$B$6:$B$105,">="&'Parâmetros'!$B$4,Agenda!$B$6:$B$105,"<="&'Parâmetros'!$B$5,Agenda!$K$6:$K$105,"Conferir campos")+COUNTIFS(Agenda!$B$6:$B$105,">="&'Parâmetros'!$B$4,Agenda!$B$6:$B$105,"<="&'Parâmetros'!$B$5,Agenda!$K$6:$K$105,"Conferir horário")+COUNTIFS(Agenda!$B$6:$B$105,">="&'Parâmetros'!$B$4,Agenda!$B$6:$B$105,"<="&'Parâmetros'!$B$5,Agenda!$K$6:$K$105,"Fora do horário"))
A12: Cancelamentos | B12: =IF(OR('Parâmetros'!$B$4="",'Parâmetros'!$B$5=""),"",COUNTIFS(Agenda!$B$6:$B$105,">="&'Parâmetros'!$B$4,Agenda!$B$6:$B$105,"<="&'Parâmetros'!$B$5,Agenda!$H$6:$H$105,"Cancelado"))
A15: Cadeira | B15: Horas ocupadas | C15: Capacidade (h) | D15: Ocupação | E15: Ociosidade (h)
A16: =IF('Parâmetros'!$E$4="","",'Parâmetros'!$E$4) | B16: =IF(A16="","",IFERROR(SUMIFS(Agenda!$J$6:$J$105,Agenda!$E$6:$E$105,A16,Agenda!$B$6:$B$105,">="&'Parâmetros'!$B$4,Agenda!$B$6:$B$105,"<="&'Parâmetros'!$B$5),0)) | C16: =IF(A16="","",IFERROR(('Parâmetros'!$B$7-'Parâmetros'!$B$6)*24*'Parâmetros'!$B$8,"")) | D16: =IF(A16="","",IFERROR(B16/C16,"")) | E16: =IF(OR(A16="",B16="",C16=""),"",MAX(C16-B16,0))
A17: =IF('Parâmetros'!$E$5="","",'Parâmetros'!$E$5) | B17: =IF(A17="","",IFERROR(SUMIFS(Agenda!$J$6:$J$105,Agenda!$E$6:$E$105,A17,Agenda!$B$6:$B$105,">="&'Parâmetros'!$B$4,Agenda!$B$6:$B$105,"<="&'Parâmetros'!$B$5),0)) | C17: =IF(A17="","",IFERROR(('Parâmetros'!$B$7-'Parâmetros'!$B$6)*24*'Parâmetros'!$B$8,"")) | D17: =IF(A17="","",IFERROR(B17/C17,"")) | E17: =IF(OR(A17="",B17="",C17=""),"",MAX(C17-B17,0))
A18: =IF('Parâmetros'!$E$6="","",'Parâmetros'!$E$6) | B18: =IF(A18="","",IFERROR(SUMIFS(Agenda!$J$6:$J$105,Agenda!$E$6:$E$105,A18,Agenda!$B$6:$B$105,">="&'Parâmetros'!$B$4,Agenda!$B$6:$B$105,"<="&'Parâmetros'!$B$5),0)) | C18: =IF(A18="","",IFERROR(('Parâmetros'!$B$7-'Parâmetros'!$B$6)*24*'Parâmetros'!$B$8,"")) | D18: =IF(A18="","",IFERROR(B18/C18,"")) | E18: =IF(OR(A18="",B18="",C18=""),"",MAX(C18-B18,0))
A19: =IF('Parâmetros'!$E$7="","",'Parâmetros'!$E$7) | B19: =IF(A19="","",IFERROR(SUMIFS(Agenda!$J$6:$J$105,Agenda!$E$6:$E$105,A19,Agenda!$B$6:$B$105,">="&'Parâmetros'!$B$4,Agenda!$B$6:$B$105,"<="&'Parâmetros'!$B$5),0)) | C19: =IF(A19="","",IFERROR(('Parâmetros'!$B$7-'Parâmetros'!$B$6)*24*'Parâmetros'!$B$8,"")) | D19: =IF(A19="","",IFERROR(B19/C19,"")) | E19: =IF(OR(A19="",B19="",C19=""),"",MAX(C19-B19,0))
A20: =IF('Parâmetros'!$E$8="","",'Parâmetros'!$E$8) | B20: =IF(A20="","",IFERROR(SUMIFS(Agenda!$J$6:$J$105,Agenda!$E$6:$E$105,A20,Agenda!$B$6:$B$105,">="&'Parâmetros'!$B$4,Agenda!$B$6:$B$105,"<="&'Parâmetros'!$B$5),0)) | C20: =IF(A20="","",IFERROR(('Parâmetros'!$B$7-'Parâmetros'!$B$6)*24*'Parâmetros'!$B$8,"")) | D20: =IF(A20="","",IFERROR(B20/C20,"")) | E20: =IF(OR(A20="",B20="",C20=""),"",MAX(C20-B20,0))
A21: =IF('Parâmetros'!$E$9="","",'Parâmetros'!$E$9) | B21: =IF(A21="","",IFERROR(SUMIFS(Agenda!$J$6:$J$105,Agenda!$E$6:$E$105,A21,Agenda!$B$6:$B$105,">="&'Parâmetros'!$B$4,Agenda!$B$6:$B$105,"<="&'Parâmetros'!$B$5),0)) | C21: =IF(A21="","",IFERROR(('Parâmetros'!$B$7-'Parâmetros'!$B$6)*24*'Parâmetros'!$B$8,"")) | D21: =IF(A21="","",IFERROR(B21/C21,"")) | E21: =IF(OR(A21="",B21="",C21=""),"",MAX(C21-B21,0))
A24: Profissional | B24: Horas ocupadas | C24: Reservas | D24: Participação nas horas
A25: =IF('Parâmetros'!$F$4="","",'Parâmetros'!$F$4) | B25: =IF(A25="","",IFERROR(SUMIFS(Agenda!$J$6:$J$105,Agenda!$F$6:$F$105,A25,Agenda!$B$6:$B$105,">="&'Parâmetros'!$B$4,Agenda!$B$6:$B$105,"<="&'Parâmetros'!$B$5),0)) | C25: =IF(A25="","",COUNTIFS(Agenda!$F$6:$F$105,A25,Agenda!$B$6:$B$105,">="&'Parâmetros'!$B$4,Agenda!$B$6:$B$105,"<="&'Parâmetros'!$B$5,Agenda!$J$6:$J$105,">0")) | D25: =IF(A25="","",IFERROR(B25/$B$6,""))
A26: =IF('Parâmetros'!$F$5="","",'Parâmetros'!$F$5) | B26: =IF(A26="","",IFERROR(SUMIFS(Agenda!$J$6:$J$105,Agenda!$F$6:$F$105,A26,Agenda!$B$6:$B$105,">="&'Parâmetros'!$B$4,Agenda!$B$6:$B$105,"<="&'Parâmetros'!$B$5),0)) | C26: =IF(A26="","",COUNTIFS(Agenda!$F$6:$F$105,A26,Agenda!$B$6:$B$105,">="&'Parâmetros'!$B$4,Agenda!$B$6:$B$105,"<="&'Parâmetros'!$B$5,Agenda!$J$6:$J$105,">0")) | D26: =IF(A26="","",IFERROR(B26/$B$6,""))
A27: =IF('Parâmetros'!$F$6="","",'Parâmetros'!$F$6) | B27: =IF(A27="","",IFERROR(SUMIFS(Agenda!$J$6:$J$105,Agenda!$F$6:$F$105,A27,Agenda!$B$6:$B$105,">="&'Parâmetros'!$B$4,Agenda!$B$6:$B$105,"<="&'Parâmetros'!$B$5),0)) | C27: =IF(A27="","",COUNTIFS(Agenda!$F$6:$F$105,A27,Agenda!$B$6:$B$105,">="&'Parâmetros'!$B$4,Agenda!$B$6:$B$105,"<="&'Parâmetros'!$B$5,Agenda!$J$6:$J$105,">0")) | D27: =IF(A27="","",IFERROR(B27/$B$6,""))
A28: =IF('Parâmetros'!$F$7="","",'Parâmetros'!$F$7) | B28: =IF(A28="","",IFERROR(SUMIFS(Agenda!$J$6:$J$105,Agenda!$F$6:$F$105,A28,Agenda!$B$6:$B$105,">="&'Parâmetros'!$B$4,Agenda!$B$6:$B$105,"<="&'Parâmetros'!$B$5),0)) | C28: =IF(A28="","",COUNTIFS(Agenda!$F$6:$F$105,A28,Agenda!$B$6:$B$105,">="&'Parâmetros'!$B$4,Agenda!$B$6:$B$105,"<="&'Parâmetros'!$B$5,Agenda!$J$6:$J$105,">0")) | D28: =IF(A28="","",IFERROR(B28/$B$6,""))
A29: =IF('Parâmetros'!$F$8="","",'Parâmetros'!$F$8) | B29: =IF(A29="","",IFERROR(SUMIFS(Agenda!$J$6:$J$105,Agenda!$F$6:$F$105,A29,Agenda!$B$6:$B$105,">="&'Parâmetros'!$B$4,Agenda!$B$6:$B$105,"<="&'Parâmetros'!$B$5),0)) | C29: =IF(A29="","",COUNTIFS(Agenda!$F$6:$F$105,A29,Agenda!$B$6:$B$105,">="&'Parâmetros'!$B$4,Agenda!$B$6:$B$105,"<="&'Parâmetros'!$B$5,Agenda!$J$6:$J$105,">0")) | D29: =IF(A29="","",IFERROR(B29/$B$6,""))
A30: =IF('Parâmetros'!$F$9="","",'Parâmetros'!$F$9) | B30: =IF(A30="","",IFERROR(SUMIFS(Agenda!$J$6:$J$105,Agenda!$F$6:$F$105,A30,Agenda!$B$6:$B$105,">="&'Parâmetros'!$B$4,Agenda!$B$6:$B$105,"<="&'Parâmetros'!$B$5),0)) | C30: =IF(A30="","",COUNTIFS(Agenda!$F$6:$F$105,A30,Agenda!$B$6:$B$105,">="&'Parâmetros'!$B$4,Agenda!$B$6:$B$105,"<="&'Parâmetros'!$B$5,Agenda!$J$6:$J$105,">0")) | D30: =IF(A30="","",IFERROR(B30/$B$6,""))

Sheet Agenda
A1: Agenda de ocupação das cadeiras
A2: Preencha as células em rosa. O alerta serve para orientar a conferência de horários e sobreposições.
A3: Período aceito | B3: =IF(OR('Parâmetros'!$B$4="",'Parâmetros'!$B$5=""),"",TEXT('Parâmetros'!$B$4,"dd/mm/yyyy")&" a "&TEXT('Parâmetros'!$B$5,"dd/mm/yyyy"))
A5: ID da agenda | B5: Data | C5: Início | D5: Fim | E5: Cadeira | F5: Profissional | G5: Serviço | H5: Status | I5: Duração (h) | J5: Horas ocupadas | K5: Alerta de conferência
A6: AG-001 | B6: 46272 | C6: 0.35416667 | D6: 0.39583333 | E6: Cadeira 01 | F6: Profissional A — fictício | G6: Corte | H6: Concluído | I6: =IF(OR(C6="",D6=""),"",IFERROR(IF(D6>C6,(D6-C6)*24,""),"")) | J6: =IF(OR(A6="",B6="",E6="",F6="",I6="",H6=""),"",IF(H6="Cancelado",0,IF(OR(C6<'Parâmetros'!$B$6,D6>'Parâmetros'!$B$7),"",I6))) | K6: =IF(COUNTA(A6:H6)=0,"",IF(OR(A6="",B6="",C6="",D6="",E6="",F6="",H6=""),"Conferir campos",IF(D6<=C6,"Conferir horário",IF(OR(C6<'Parâmetros'!$B$6,D6>'Parâmetros'!$B$7),"Fora do horário",IF(H6="Cancelado","Não ocupa",IF(COUNTIFS($B$6:$B$105,B6,$E$6:$E$105,E6,$C$6:$C$105,"<"&D6,$D$6:$D$105,">"&C6,$H$6:$H$105,"<>Cancelado")>1,"Conferir sobreposição","OK"))))))
A7: AG-002 | B7: 46272 | C7: 0.375 | D7: 0.41666667 | E7: Cadeira 01 | F7: Profissional B — fictício | G7: Escova | H7: Concluído | I7: =IF(OR(C7="",D7=""),"",IFERROR(IF(D7>C7,(D7-C7)*24,""),"")) | J7: =IF(OR(A7="",B7="",E7="",F7="",I7="",H7=""),"",IF(H7="Cancelado",0,IF(OR(C7<'Parâmetros'!$B$6,D7>'Parâmetros'!$B$7),"",I7))) | K7: =IF(COUNTA(A7:H7)=0,"",IF(OR(A7="",B7="",C7="",D7="",E7="",F7="",H7=""),"Conferir campos",IF(D7<=C7,"Conferir horário",IF(OR(C7<'Parâmetros'!$B$6,D7>'Parâmetros'!$B$7),"Fora do horário",IF(H7="Cancelado","Não ocupa",IF(COUNTIFS($B$6:$B$105,B7,$E$6:$E$105,E7,$C$6:$C$105,"<"&D7,$D$6:$D$105,">"&C7,$H$6:$H$105,"<>Cancelado")>1,"Conferir sobreposição","OK"))))))
A8: AG-003 | B8: 46272 | C8: 0.42708333 | D8: 0.45833333 | E8: Cadeira 02 | F8: Profissional C — fictício | G8: Manicure | H8: Concluído | I8: =IF(OR(C8="",D8=""),"",IFERROR(IF(D8>C8,(D8-C8)*24,""),"")) | J8: =IF(OR(A8="",B8="",E8="",F8="",I8="",H8=""),"",IF(H8="Cancelado",0,IF(OR(C8<'Parâmetros'!$B$6,D8>'Parâmetros'!$B$7),"",I8))) | K8: =IF(COUNTA(A8:H8)=0,"",IF(OR(A8="",B8="",C8="",D8="",E8="",F8="",H8=""),"Conferir campos",IF(D8<=C8,"Conferir horário",IF(OR(C8<'Parâmetros'!$B$6,D8>'Parâmetros'!$B$7),"Fora do horário",IF(H8="Cancelado","Não ocupa",IF(COUNTIFS($B$6:$B$105,B8,$E$6:$E$105,E8,$C$6:$C$105,"<"&D8,$D$6:$D$105,">"&C8,$H$6:$H$105,"<>Cancelado")>1,"Conferir sobreposição","OK"))))))
A9: AG-004 | B9: 46273 | C9: 0.33333333 | D9: 0.39583333 | E9: Cadeira 03 | F9: Profissional D — fictício | G9: Coloração | H9: Concluído | I9: =IF(OR(C9="",D9=""),"",IFERROR(IF(D9>C9,(D9-C9)*24,""),"")) | J9: =IF(OR(A9="",B9="",E9="",F9="",I9="",H9=""),"",IF(H9="Cancelado",0,IF(OR(C9<'Parâmetros'!$B$6,D9>'Parâmetros'!$B$7),"",I9))) | K9: =IF(COUNTA(A9:H9)=0,"",IF(OR(A9="",B9="",C9="",D9="",E9="",F9="",H9=""),"Conferir campos",IF(D9<=C9,"Conferir horário",IF(OR(C9<'Parâmetros'!$B$6,D9>'Parâmetros'!$B$7),"Fora do horário",IF(H9="Cancelado","Não ocupa",IF(COUNTIFS($B$6:$B$105,B9,$E$6:$E$105,E9,$C$6:$C$105,"<"&D9,$D$6:$D$105,">"&C9,$H$6:$H$105,"<>Cancelado")>1,"Conferir sobreposição","OK"))))))
A10: AG-005 | B10: 46273 | C10: 0.58333333 | D10: 0.625 | E10: Cadeira 04 | F10: Profissional E — fictício | G10: Barba | H10: Concluído | I10: =IF(OR(C10="",D10=""),"",IFERROR(IF(D10>C10,(D10-C10)*24,""),"")) | J10: =IF(OR(A10="",B10="",E10="",F10="",I10="",H10=""),"",IF(H10="Cancelado",0,IF(OR(C10<'Parâmetros'!$B$6,D10>'Parâmetros'!$B$7),"",I10))) | K10: =IF(COUNTA(A10:H10)=0,"",IF(OR(A10="",B10="",C10="",D10="",E10="",F10="",H10=""),"Conferir campos",IF(D10<=C10,"Conferir horário",IF(OR(C10<'Parâmetros'!$B$6,D10>'Parâmetros'!$B$7),"Fora do horário",IF(H10="Cancelado","Não ocupa",IF(COUNTIFS($B$6:$B$105,B10,$E$6:$E$105,E10,$C$6:$C$105,"<"&D10,$D$6:$D$105,">"&C10,$H$6:$H$105,"<>Cancelado")>1,"Conferir sobreposição","OK"))))))
A11: AG-006 | B11: 46274 | C11: 0.375 | D11: 0.4375 | E11: Cadeira 02 | F11: Profissional F — fictício | G11: Sobrancelhas | H11: Confirmado | I11: =IF(OR(C11="",D11=""),"",IFERROR(IF(D11>C11,(D11-C11)*24,""),"")) | J11: =IF(OR(A11="",B11="",E11="",F11="",I11="",H11=""),"",IF(H11="Cancelado",0,IF(OR(C11<'Parâmetros'!$B$6,D11>'Parâmetros'!$B$7),"",I11))) | K11: =IF(COUNTA(A11:H11)=0,"",IF(OR(A11="",B11="",C11="",D11="",E11="",F11="",H11=""),"Conferir campos",IF(D11<=C11,"Conferir horário",IF(OR(C11<'Parâmetros'!$B$6,D11>'Parâmetros'!$B$7),"Fora do horário",IF(H11="Cancelado","Não ocupa",IF(COUNTIFS($B$6:$B$105,B11,$E$6:$E$105,E11,$C$6:$C$105,"<"&D11,$D$6:$D$105,">"&C11,$H$6:$H$105,"<>Cancelado")>1,"Conferir sobreposição","OK"))))))
A12: AG-007 | B12: 46275 | C12: 0.45833333 | D12: 0.5 | E12: Cadeira 05 | F12: Profissional A — fictício | G12: Corte | H12: Agendado | I12: =IF(OR(C12="",D12=""),"",IFERROR(IF(D12>C12,(D12-C12)*24,""),"")) | J12: =IF(OR(A12="",B12="",E12="",F12="",I12="",H12=""),"",IF(H12="Cancelado",0,IF(OR(C12<'Parâmetros'!$B$6,D12>'Parâmetros'!$B$7),"",I12))) | K12: =IF(COUNTA(A12:H12)=0,"",IF(OR(A12="",B12="",C12="",D12="",E12="",F12="",H12=""),"Conferir campos",IF(D12<=C12,"Conferir horário",IF(OR(C12<'Parâmetros'!$B$6,D12>'Parâmetros'!$B$7),"Fora do horário",IF(H12="Cancelado","Não ocupa",IF(COUNTIFS($B$6:$B$105,B12,$E$6:$E$105,E12,$C$6:$C$105,"<"&D12,$D$6:$D$105,">"&C12,$H$6:$H$105,"<>Cancelado")>1,"Conferir sobreposição","OK"))))))
A13: AG-008 | B13: 46276 | C13: 0.625 | D13: 0.70833333 | E13: Cadeira 06 | F13: Profissional B — fictício | G13: Coloração | H13: Agendado | I13: =IF(OR(C13="",D13=""),"",IFERROR(IF(D13>C13,(D13-C13)*24,""),"")) | J13: =IF(OR(A13="",B13="",E13="",F13="",I13="",H13=""),"",IF(H13="Cancelado",0,IF(OR(C13<'Parâmetros'!$B$6,D13>'Parâmetros'!$B$7),"",I13))) | K13: =IF(COUNTA(A13:H13)=0,"",IF(OR(A13="",B13="",C13="",D13="",E13="",F13="",H13=""),"Conferir campos",IF(D13<=C13,"Conferir horário",IF(OR(C13<'Parâmetros'!$B$6,D13>'Parâmetros'!$B$7),"Fora do horário",IF(H13="Cancelado","Não ocupa",IF(COUNTIFS($B$6:$B$105,B13,$E$6:$E$105,E13,$C$6:$C$105,"<"&D13,$D$6:$D$105,">"&C13,$H$6:$H$105,"<>Cancelado")>1,"Conferir sobreposição","OK"))))))
A14: AG-009 | B14: 46277 | C14: 0.35416667 | D14: 0.39583333 | E14: Cadeira 01 | F14: Profissional C — fictício | G14: Manicure | H14: Agendado | I14: =IF(OR(C14="",D14=""),"",IFERROR(IF(D14>C14,(D14-C14)*24,""),"")) | J14: =IF(OR(A14="",B14="",E14="",F14="",I14="",H14=""),"",IF(H14="Cancelado",0,IF(OR(C14<'Parâmetros'!$B$6,D14>'Parâmetros'!$B$7),"",I14))) | K14: =IF(COUNTA(A14:H14)=0,"",IF(OR(A14="",B14="",C14="",D14="",E14="",F14="",H14=""),"Conferir campos",IF(D14<=C14,"Conferir horário",IF(OR(C14<'Parâmetros'!$B$6,D14>'Parâmetros'!$B$7),"Fora do horário",IF(H14="Cancelado","Não ocupa",IF(COUNTIFS($B$6:$B$105,B14,$E$6:$E$105,E14,$C$6:$C$105,"<"&D14,$D$6:$D$105,">"&C14,$H$6:$H$105,"<>Cancelado")>1,"Conferir sobreposição","OK"))))))
A15: AG-010 | B15: 46277 | C15: 0.41666667 | D15: 0.45833333 | E15: Cadeira 03 | F15: Profissional D — fictício | G15: Escova | H15: Cancelado | I15: =IF(OR(C15="",D15=""),"",IFERROR(IF(D15>C15,(D15-C15)*24,""),"")) | J15: =IF(OR(A15="",B15="",E15="",F15="",I15="",H15=""),"",IF(H15="Cancelado",0,IF(OR(C15<'Parâmetros'!$B$6,D15>'Parâmetros'!$B$7),"",I15))) | K15: =IF(COUNTA(A15:H15)=0,"",IF(OR(A15="",B15="",C15="",D15="",E15="",F15="",H15=""),"Conferir campos",IF(D15<=C15,"Conferir horário",IF(OR(C15<'Parâmetros'!$B$6,D15>'Parâmetros'!$B$7),"Fora do horário",IF(H15="Cancelado","Não ocupa",IF(COUNTIFS($B$6:$B$105,B15,$E$6:$E$105,E15,$C$6:$C$105,"<"&D15,$D$6:$D$105,">"&C15,$H$6:$H$105,"<>Cancelado")>1,"Conferir sobreposição","OK"))))))
I16: =IF(OR(C16="",D16=""),"",IFERROR(IF(D16>C16,(D16-C16)*24,""),"")) | J16: =IF(OR(A16="",B16="",E16="",F16="",I16="",H16=""),"",IF(H16="Cancelado",0,IF(OR(C16<'Parâmetros'!$B$6,D16>'Parâmetros'!$B$7),"",I16))) | K16: =IF(COUNTA(A16:H16)=0,"",IF(OR(A16="",B16="",C16="",D16="",E16="",F16="",H16=""),"Conferir campos",IF(D16<=C16,"Conferir horário",IF(OR(C16<'Parâmetros'!$B$6,D16>'Parâmetros'!$B$7),"Fora do horário",IF(H16="Cancelado","Não ocupa",IF(COUNTIFS($B$6:$B$105,B16,$E$6:$E$105,E16,$C$6:$C$105,"<"&D16,$D$6:$D$105,">"&C16,$H$6:$H$105,"<>Cancelado")>1,"Conferir sobreposição","OK"))))))
I17: =IF(OR(C17="",D17=""),"",IFERROR(IF(D17>C17,(D17-C17)*24,""),"")) | J17: =IF(OR(A17="",B17="",E17="",F17="",I17="",H17=""),"",IF(H17="Cancelado",0,IF(OR(C17<'Parâmetros'!$B$6,D17>'Parâmetros'!$B$7),"",I17))) | K17: =IF(COUNTA(A17:H17)=0,"",IF(OR(A17="",B17="",C17="",D17="",E17="",F17="",H17=""),"Conferir campos",IF(D17<=C17,"Conferir horário",IF(OR(C17<'Parâmetros'!$B$6,D17>'Parâmetros'!$B$7),"Fora do horário",IF(H17="Cancelado","Não ocupa",IF(COUNTIFS($B$6:$B$105,B17,$E$6:$E$105,E17,$C$6:$C$105,"<"&D17,$D$6:$D$105,">"&C17,$H$6:$H$105,"<>Cancelado")>1,"Conferir sobreposição","OK"))))))
I18: =IF(OR(C18="",D18=""),"",IFERROR(IF(D18>C18,(D18-C18)*24,""),"")) | J18: =IF(OR(A18="",B18="",E18="",F18="",I18="",H18=""),"",IF(H18="Cancelado",0,IF(OR(C18<'Parâmetros'!$B$6,D18>'Parâmetros'!$B$7),"",I18))) | K18: =IF(COUNTA(A18:H18)=0,"",IF(OR(A18="",B18="",C18="",D18="",E18="",F18="",H18=""),"Conferir campos",IF(D18<=C18,"Conferir horário",IF(OR(C18<'Parâmetros'!$B$6,D18>'Parâmetros'!$B$7),"Fora do horário",IF(H18="Cancelado","Não ocupa",IF(COUNTIFS($B$6:$B$105,B18,$E$6:$E$105,E18,$C$6:$C$105,"<"&D18,$D$6:$D$105,">"&C18,$H$6:$H$105,"<>Cancelado")>1,"Conferir sobreposição","OK"))))))
I19: =IF(OR(C19="",D19=""),"",IFERROR(IF(D19>C19,(D19-C19)*24,""),"")) | J19: =IF(OR(A19="",B19="",E19="",F19="",I19="",H19=""),"",IF(H19="Cancelado",0,IF(OR(C19<'Parâmetros'!$B$6,D19>'Parâmetros'!$B$7),"",I19))) | K19: =IF(COUNTA(A19:H19)=0,"",IF(OR(A19="",B19="",C19="",D19="",E19="",F19="",H19=""),"Conferir campos",IF(D19<=C19,"Conferir horário",IF(OR(C19<'Parâmetros'!$B$6,D19>'Parâmetros'!$B$7),"Fora do horário",IF(H19="Cancelado","Não ocupa",IF(COUNTIFS($B$6:$B$105,B19,$E$6:$E$105,E19,$C$6:$C$105,"<"&D19,$D$6:$D$105,">"&C19,$H$6:$H$105,"<>Cancelado")>1,"Conferir sobreposição","OK"))))))
I20: =IF(OR(C20="",D20=""),"",IFERROR(IF(D20>C20,(D20-C20)*24,""),"")) | J20: =IF(OR(A20="",B20="",E20="",F20="",I20="",H20=""),"",IF(H20="Cancelado",0,IF(OR(C20<'Parâmetros'!$B$6,D20>'Parâmetros'!$B$7),"",I20))) | K20: =IF(COUNTA(A20:H20)=0,"",IF(OR(A20="",B20="",C20="",D20="",E20="",F20="",H20=""),"Conferir campos",IF(D20<=C20,"Conferir horário",IF(OR(C20<'Parâmetros'!$B$6,D20>'Parâmetros'!$B$7),"Fora do horário",IF(H20="Cancelado","Não ocupa",IF(COUNTIFS($B$6:$B$105,B20,$E$6:$E$105,E20,$C$6:$C$105,"<"&D20,$D$6:$D$105,">"&C20,$H$6:$H$105,"<>Cancelado")>1,"Conferir sobreposição","OK"))))))
I21: =IF(OR(C21="",D21=""),"",IFERROR(IF(D21>C21,(D21-C21)*24,""),"")) | J21: =IF(OR(A21="",B21="",E21="",F21="",I21="",H21=""),"",IF(H21="Cancelado",0,IF(OR(C21<'Parâmetros'!$B$6,D21>'Parâmetros'!$B$7),"",I21))) | K21: =IF(COUNTA(A21:H21)=0,"",IF(OR(A21="",B21="",C21="",D21="",E21="",F21="",H21=""),"Conferir campos",IF(D21<=C21,"Conferir horário",IF(OR(C21<'Parâmetros'!$B$6,D21>'Parâmetros'!$B$7),"Fora do horário",IF(H21="Cancelado","Não ocupa",IF(COUNTIFS($B$6:$B$105,B21,$E$6:$E$105,E21,$C$6:$C$105,"<"&D21,$D$6:$D$105,">"&C21,$H$6:$H$105,"<>Cancelado")>1,"Conferir sobreposição","OK"))))))
I22: =IF(OR(C22="",D22=""),"",IFERROR(IF(D22>C22,(D22-C22)*24,""),"")) | J22: =IF(OR(A22="",B22="",E22="",F22="",I22="",H22=""),"",IF(H22="Cancelado",0,IF(OR(C22<'Parâmetros'!$B$6,D22>'Parâmetros'!$B$7),"",I22))) | K22: =IF(COUNTA(A22:H22)=0,"",IF(OR(A22="",B22="",C22="",D22="",E22="",F22="",H22=""),"Conferir campos",IF(D22<=C22,"Conferir horário",IF(OR(C22<'Parâmetros'!$B$6,D22>'Parâmetros'!$B$7),"Fora do horário",IF(H22="Cancelado","Não ocupa",IF(COUNTIFS($B$6:$B$105,B22,$E$6:$E$105,E22,$C$6:$C$105,"<"&D22,$D$6:$D$105,">"&C22,$H$6:$H$105,"<>Cancelado")>1,"Conferir sobreposição","OK"))))))
I23: =IF(OR(C23="",D23=""),"",IFERROR(IF(D23>C23,(D23-C23)*24,""),"")) | J23: =IF(OR(A23="",B23="",E23="",F23="",I23="",H23=""),"",IF(H23="Cancelado",0,IF(OR(C23<'Parâmetros'!$B$6,D23>'Parâmetros'!$B$7),"",I23))) | K23: =IF(COUNTA(A23:H23)=0,"",IF(OR(A23="",B23="",C23="",D23="",E23="",F23="",H23=""),"Conferir campos",IF(D23<=C23,"Conferir horário",IF(OR(C23<'Parâmetros'!$B$6,D23>'Parâmetros'!$B$7),"Fora do horário",IF(H23="Cancelado","Não ocupa",IF(COUNTIFS($B$6:$B$105,B23,$E$6:$E$105,E23,$C$6:$C$105,"<"&D23,$D$6:$D$105,">"&C23,$H$6:$H$105,"<>Cancelado")>1,"Conferir sobreposição","OK"))))))
I24: =IF(OR(C24="",D24=""),"",IFERROR(IF(D24>C24,(D24-C24)*24,""),"")) | J24: =IF(OR(A24="",B24="",E24="",F24="",I24="",H24=""),"",IF(H24="Cancelado",0,IF(OR(C24<'Parâmetros'!$B$6,D24>'Parâmetros'!$B$7),"",I24))) | K24: =IF(COUNTA(A24:H24)=0,"",IF(OR(A24="",B24="",C24="",D24="",E24="",F24="",H24=""),"Conferir campos",IF(D24<=C24,"Conferir horário",IF(OR(C24<'Parâmetros'!$B$6,D24>'Parâmetros'!$B$7),"Fora do horário",IF(H24="Cancelado","Não ocupa",IF(COUNTIFS($B$6:$B$105,B24,$E$6:$E$105,E24,$C$6:$C$105,"<"&D24,$D$6:$D$105,">"&C24,$H$6:$H$105,"<>Cancelado")>1,"Conferir sobreposição","OK"))))))
I25: =IF(OR(C25="",D25=""),"",IFERROR(IF(D25>C25,(D25-C25)*24,""),"")) | J25: =IF(OR(A25="",B25="",E25="",F25="",I25="",H25=""),"",IF(H25="Cancelado",0,IF(OR(C25<'Parâmetros'!$B$6,D25>'Parâmetros'!$B$7),"",I25))) | K25: =IF(COUNTA(A25:H25)=0,"",IF(OR(A25="",B25="",C25="",D25="",E25="",F25="",H25=""),"Conferir campos",IF(D25<=C25,"Conferir horário",IF(OR(C25<'Parâmetros'!$B$6,D25>'Parâmetros'!$B$7),"Fora do horário",IF(H25="Cancelado","Não ocupa",IF(COUNTIFS($B$6:$B$105,B25,$E$6:$E$105,E25,$C$6:$C$105,"<"&D25,$D$6:$D$105,">"&C25,$H$6:$H$105,"<>Cancelado")>1,"Conferir sobreposição","OK"))))))
I26: =IF(OR(C26="",D26=""),"",IFERROR(IF(D26>C26,(D26-C26)*24,""),"")) | J26: =IF(OR(A26="",B26="",E26="",F26="",I26="",H26=""),"",IF(H26="Cancelado",0,IF(OR(C26<'Parâmetros'!$B$6,D26>'Parâmetros'!$B$7),"",I26))) | K26: =IF(COUNTA(A26:H26)=0,"",IF(OR(A26="",B26="",C26="",D26="",E26="",F26="",H26=""),"Conferir campos",IF(D26<=C26,"Conferir horário",IF(OR(C26<'Parâmetros'!$B$6,D26>'Parâmetros'!$B$7),"Fora do horário",IF(H26="Cancelado","Não ocupa",IF(COUNTIFS($B$6:$B$105,B26,$E$6:$E$105,E26,$C$6:$C$105,"<"&D26,$D$6:$D$105,">"&C26,$H$6:$H$105,"<>Cancelado")>1,"Conferir sobreposição","OK"))))))
I27: =IF(OR(C27="",D27=""),"",IFERROR(IF(D27>C27,(D27-C27)*24,""),"")) | J27: =IF(OR(A27="",B27="",E27="",F27="",I27="",H27=""),"",IF(H27="Cancelado",0,IF(OR(C27<'Parâmetros'!$B$6,D27>'Parâmetros'!$B$7),"",I27))) | K27: =IF(COUNTA(A27:H27)=0,"",IF(OR(A27="",B27="",C27="",D27="",E27="",F27="",H27=""),"Conferir campos",IF(D27<=C27,"Conferir horário",IF(OR(C27<'Parâmetros'!$B$6,D27>'Parâmetros'!$B$7),"Fora do horário",IF(H27="Cancelado","Não ocupa",IF(COUNTIFS($B$6:$B$105,B27,$E$6:$E$105,E27,$C$6:$C$105,"<"&D27,$D$6:$D$105,">"&C27,$H$6:$H$105,"<>Cancelado")>1,"Conferir sobreposição","OK"))))))
... I105: =IF(OR(C105="",D105=""),"",IFERROR(IF(D105>C105,(D105-C105)*24,""),"")) | J105: =IF(OR(A105="",B105="",E105="",F105="",I105="",H105=""),"",IF(H105="Cancelado",0,IF(OR(C105<'Parâmetros'!$B$6,D105>'Parâmetros'!$B$7),"",I105))) | K105: =IF(COUNTA(A105:H105)=0,"",IF(OR(A105="",B105="",C105="",D105="",E105="",F105="",H105=""),"Conferir campos",IF(D105<=C105,"Conferir horário",IF(OR(C105<'Parâmetros'!$B$6,D105>'Parâmetros'!$B$7),"Fora do horário",IF(H105="Cancelado","Não ocupa",IF(COUNTIFS($B$6:$B$105,B105,$E$6:$E$105,E105,$C$6:$C$105,"<"&D105,$D$6:$D$105,">"&C105,$H$6:$H$105,"<>Cancelado")>1,"Conferir sobreposição","OK"))))))

Sheet Parâmetros
A1: Parâmetros da ocupação
A2: Ajuste o período, a jornada e as listas em rosa. Os status são estáveis para preservar os cálculos.
A3: Premissa | B3: Valor | C3: Orientação | D3: Status estáveis | E3: Cadeiras | F3: Profissionais fictícios | G3: Serviços
A4: Início do período | B4: 46272 | C4: Primeiro dia considerado nos indicadores. | D4: Agendado | E4: Cadeira 01 | F4: Profissional A — fictício | G4: Corte
A5: Fim do período | B5: 46278 | C5: Último dia considerado nos indicadores. | D5: Confirmado | E5: Cadeira 02 | F5: Profissional B — fictício | G5: Escova
A6: Abertura | B6: 0.33333333 | C6: Primeiro horário disponível da jornada. | D6: Concluído | E6: Cadeira 03 | F6: Profissional C — fictício | G6: Manicure
A7: Encerramento | B7: 0.79166667 | C7: Último horário disponível da jornada. | D7: Cancelado | E7: Cadeira 04 | F7: Profissional D — fictício | G7: Coloração
A8: Dias abertos no período | B8: 6 | C8: Premissa ajustável para folgas, feriados e exceções. | E8: Cadeira 05 | F8: Profissional E — fictício | G8: Barba
E9: Cadeira 06 | F9: Profissional F — fictício | G9: Sobrancelhas
