Workbook

Sheet Resumo
A1: Controle de contas a receber de salão de beleza
A2: Data de referência | B2: ='Parâmetros'!$B$4 | D2: Horizonte de aviso | E2: ='Parâmetros'!$B$5 | F2: dias
A3: Indicador | B3: Resultado | E3: Faixa de prazo | F3: Saldo
A4: Valor previsto | B4: =SUMIF(Recebimentos!$A$4:$A$103,"<>",Recebimentos!$I$4:$I$103) | E4: Vencido | F4: =B7
A5: Valor recebido | B5: =SUMIF(Recebimentos!$A$4:$A$103,"<>",Recebimentos!$K$4:$K$103) | E5: ="Até "&'Parâmetros'!$B$5&" dias" | F5: =B8
A6: Saldo a receber | B6: =SUM(Recebimentos!$L$4:$L$103) | E6: Após o horizonte | F6: =B9
A7: Saldo vencido | B7: =SUMIFS(Recebimentos!$L$4:$L$103,Recebimentos!$H$4:$H$103,"<"&'Parâmetros'!$B$4,Recebimentos!$L$4:$L$103,">0")
A8: Saldo até o horizonte | B8: =SUMIFS(Recebimentos!$L$4:$L$103,Recebimentos!$H$4:$H$103,">="&'Parâmetros'!$B$4,Recebimentos!$H$4:$H$103,"<="&('Parâmetros'!$B$4+'Parâmetros'!$B$5),Recebimentos!$L$4:$L$103,">0")
A9: Saldo após o horizonte | B9: =SUMIFS(Recebimentos!$L$4:$L$103,Recebimentos!$H$4:$H$103,">"&('Parâmetros'!$B$4+'Parâmetros'!$B$5),Recebimentos!$L$4:$L$103,">0")
A10: Lançamentos pendentes | B10: =COUNTIF(Recebimentos!$L$4:$L$103,">0")
A11: Percentual recebido | B11: =IFERROR(B5/B4,"")
A12: Valor médio pendente | B12: =IFERROR(B6/B10,"")

Sheet Recebimentos
A1: Lançamentos de contas a receber
A2: Preencha as células em rosa; situações e saldos são calculados para conferência.
A3: Identificador | B3: Referência do cliente | C3: Data do atendimento | D3: Categoria | E3: Descrição | F3: Parcela | G3: Total de parcelas | H3: Vencimento | I3: Valor previsto | J3: Data de recebimento | K3: Valor recebido | L3: Saldo | M3: Situação | N3: Dias em atraso
A4: CR-0001 | B4: Cliente Fictício 001 | C4: 46223 | D4: Cabelo | E4: Corte e finalização | F4: 1 | G4: 1 | H4: 46243 | I4: 180 | J4: 46244 | K4: 180 | L4: =IF(A4="","",IF(OR(I4="",I4<0,K4<0),"",MAX(I4-K4,0))) | M4: =IF(A4="","",IF(OR(H4="",I4="",I4<0,K4<0,AND(J4<>"",OR(K4="",K4<=0)),AND(J4="",K4>0),K4>I4),"Conferir",IF(L4<=0,"Recebido",IF(K4>0,IF(H4<'Parâmetros'!$B$4,"Parcial vencido","Parcial"),IF(H4<'Parâmetros'!$B$4,"Vencido",IF(H4<='Parâmetros'!$B$4+'Parâmetros'!$B$5,"A vencer","Em aberto")))))) | N4: =IF(OR(A4="",H4="",L4="",L4<=0,H4>='Parâmetros'!$B$4),"",'Parâmetros'!$B$4-H4) | P4: ='Parâmetros'!$E$4 | Q4: ='Parâmetros'!$B$7 | R4: ='Parâmetros'!$B$6
A5: CR-0002 | B5: Cliente Fictício 002 | C5: 46238 | D5: Unhas | E5: Manicure e esmaltação | F5: 1 | G5: 2 | H5: 46253 | I5: 240 | L5: =IF(A5="","",IF(OR(I5="",I5<0,K5<0),"",MAX(I5-K5,0))) | M5: =IF(A5="","",IF(OR(H5="",I5="",I5<0,K5<0,AND(J5<>"",OR(K5="",K5<=0)),AND(J5="",K5>0),K5>I5),"Conferir",IF(L5<=0,"Recebido",IF(K5>0,IF(H5<'Parâmetros'!$B$4,"Parcial vencido","Parcial"),IF(H5<'Parâmetros'!$B$4,"Vencido",IF(H5<='Parâmetros'!$B$4+'Parâmetros'!$B$5,"A vencer","Em aberto")))))) | N5: =IF(OR(A5="",H5="",L5="",L5<=0,H5>='Parâmetros'!$B$4),"",'Parâmetros'!$B$4-H5) | P5: ='Parâmetros'!$E$5 | Q5: ='Parâmetros'!$B$7 | R5: ='Parâmetros'!$B$6
A6: CR-0003 | B6: Cliente Fictício 003 | C6: 46245 | D6: Cabelo | E6: Pacote de escovas | F6: 2 | G6: 3 | H6: 46263 | I6: 300 | J6: 46268 | K6: 120 | L6: =IF(A6="","",IF(OR(I6="",I6<0,K6<0),"",MAX(I6-K6,0))) | M6: =IF(A6="","",IF(OR(H6="",I6="",I6<0,K6<0,AND(J6<>"",OR(K6="",K6<=0)),AND(J6="",K6>0),K6>I6),"Conferir",IF(L6<=0,"Recebido",IF(K6>0,IF(H6<'Parâmetros'!$B$4,"Parcial vencido","Parcial"),IF(H6<'Parâmetros'!$B$4,"Vencido",IF(H6<='Parâmetros'!$B$4+'Parâmetros'!$B$5,"A vencer","Em aberto")))))) | N6: =IF(OR(A6="",H6="",L6="",L6<=0,H6>='Parâmetros'!$B$4),"",'Parâmetros'!$B$4-H6) | P6: ='Parâmetros'!$E$6 | Q6: ='Parâmetros'!$B$7 | R6: ='Parâmetros'!$B$6
A7: CR-0004 | B7: Cliente Fictício 004 | C7: 46268 | D7: Barbearia | E7: Corte e barba | F7: 1 | G7: 1 | H7: 46273 | I7: 150 | L7: =IF(A7="","",IF(OR(I7="",I7<0,K7<0),"",MAX(I7-K7,0))) | M7: =IF(A7="","",IF(OR(H7="",I7="",I7<0,K7<0,AND(J7<>"",OR(K7="",K7<=0)),AND(J7="",K7>0),K7>I7),"Conferir",IF(L7<=0,"Recebido",IF(K7>0,IF(H7<'Parâmetros'!$B$4,"Parcial vencido","Parcial"),IF(H7<'Parâmetros'!$B$4,"Vencido",IF(H7<='Parâmetros'!$B$4+'Parâmetros'!$B$5,"A vencer","Em aberto")))))) | N7: =IF(OR(A7="",H7="",L7="",L7<=0,H7>='Parâmetros'!$B$4),"",'Parâmetros'!$B$4-H7) | P7: ='Parâmetros'!$E$7 | Q7: ='Parâmetros'!$B$7 | R7: ='Parâmetros'!$B$6
A8: CR-0005 | B8: Cliente Fictício 005 | C8: 46270 | D8: Estética não clínica | E8: Cuidados faciais não clínicos | F8: 1 | G8: 2 | H8: 46276 | I8: 220 | L8: =IF(A8="","",IF(OR(I8="",I8<0,K8<0),"",MAX(I8-K8,0))) | M8: =IF(A8="","",IF(OR(H8="",I8="",I8<0,K8<0,AND(J8<>"",OR(K8="",K8<=0)),AND(J8="",K8>0),K8>I8),"Conferir",IF(L8<=0,"Recebido",IF(K8>0,IF(H8<'Parâmetros'!$B$4,"Parcial vencido","Parcial"),IF(H8<'Parâmetros'!$B$4,"Vencido",IF(H8<='Parâmetros'!$B$4+'Parâmetros'!$B$5,"A vencer","Em aberto")))))) | N8: =IF(OR(A8="",H8="",L8="",L8<=0,H8>='Parâmetros'!$B$4),"",'Parâmetros'!$B$4-H8) | P8: ='Parâmetros'!$E$8 | Q8: ='Parâmetros'!$B$7 | R8: ='Parâmetros'!$B$6
A9: CR-0006 | B9: Cliente Fictício 006 | C9: 46273 | D9: Cabelo | E9: Hidratação e escova | F9: 1 | G9: 1 | H9: 46283 | I9: 195 | L9: =IF(A9="","",IF(OR(I9="",I9<0,K9<0),"",MAX(I9-K9,0))) | M9: =IF(A9="","",IF(OR(H9="",I9="",I9<0,K9<0,AND(J9<>"",OR(K9="",K9<=0)),AND(J9="",K9>0),K9>I9),"Conferir",IF(L9<=0,"Recebido",IF(K9>0,IF(H9<'Parâmetros'!$B$4,"Parcial vencido","Parcial"),IF(H9<'Parâmetros'!$B$4,"Vencido",IF(H9<='Parâmetros'!$B$4+'Parâmetros'!$B$5,"A vencer","Em aberto")))))) | N9: =IF(OR(A9="",H9="",L9="",L9<=0,H9>='Parâmetros'!$B$4),"",'Parâmetros'!$B$4-H9) | Q9: ='Parâmetros'!$B$7 | R9: ='Parâmetros'!$B$6
A10: CR-0007 | B10: Cliente Fictício 007 | C10: 46255 | D10: Unhas | E10: Pedicure simples | F10: 1 | G10: 1 | H10: 46268 | I10: 130 | J10: 46269 | K10: 130 | L10: =IF(A10="","",IF(OR(I10="",I10<0,K10<0),"",MAX(I10-K10,0))) | M10: =IF(A10="","",IF(OR(H10="",I10="",I10<0,K10<0,AND(J10<>"",OR(K10="",K10<=0)),AND(J10="",K10>0),K10>I10),"Conferir",IF(L10<=0,"Recebido",IF(K10>0,IF(H10<'Parâmetros'!$B$4,"Parcial vencido","Parcial"),IF(H10<'Parâmetros'!$B$4,"Vencido",IF(H10<='Parâmetros'!$B$4+'Parâmetros'!$B$5,"A vencer","Em aberto")))))) | N10: =IF(OR(A10="",H10="",L10="",L10<=0,H10>='Parâmetros'!$B$4),"",'Parâmetros'!$B$4-H10) | Q10: ='Parâmetros'!$B$7 | R10: ='Parâmetros'!$B$6
A11: CR-0008 | B11: Cliente Fictício 008 | C11: 46271 | D11: Cabelo | E11: Coloração e finalização | F11: 2 | G11: 3 | H11: 46293 | I11: 420 | L11: =IF(A11="","",IF(OR(I11="",I11<0,K11<0),"",MAX(I11-K11,0))) | M11: =IF(A11="","",IF(OR(H11="",I11="",I11<0,K11<0,AND(J11<>"",OR(K11="",K11<=0)),AND(J11="",K11>0),K11>I11),"Conferir",IF(L11<=0,"Recebido",IF(K11>0,IF(H11<'Parâmetros'!$B$4,"Parcial vencido","Parcial"),IF(H11<'Parâmetros'!$B$4,"Vencido",IF(H11<='Parâmetros'!$B$4+'Parâmetros'!$B$5,"A vencer","Em aberto")))))) | N11: =IF(OR(A11="",H11="",L11="",L11<=0,H11>='Parâmetros'!$B$4),"",'Parâmetros'!$B$4-H11) | Q11: ='Parâmetros'!$B$7 | R11: ='Parâmetros'!$B$6
A12: CR-0009 | B12: Cliente Fictício 009 | C12: 46261 | D12: Barbearia | E12: Barba e acabamento | F12: 1 | G12: 1 | H12: 46271 | I12: 110 | J12: 46271 | K12: 110 | L12: =IF(A12="","",IF(OR(I12="",I12<0,K12<0),"",MAX(I12-K12,0))) | M12: =IF(A12="","",IF(OR(H12="",I12="",I12<0,K12<0,AND(J12<>"",OR(K12="",K12<=0)),AND(J12="",K12>0),K12>I12),"Conferir",IF(L12<=0,"Recebido",IF(K12>0,IF(H12<'Parâmetros'!$B$4,"Parcial vencido","Parcial"),IF(H12<'Parâmetros'!$B$4,"Vencido",IF(H12<='Parâmetros'!$B$4+'Parâmetros'!$B$5,"A vencer","Em aberto")))))) | N12: =IF(OR(A12="",H12="",L12="",L12<=0,H12>='Parâmetros'!$B$4),"",'Parâmetros'!$B$4-H12) | Q12: ='Parâmetros'!$B$7 | R12: ='Parâmetros'!$B$6
A13: CR-0010 | B13: Cliente Fictício 010 | C13: 46269 | D13: Outros | E13: Produção de penteado | F13: 1 | G13: 2 | H13: 46279 | I13: 260 | J13: 46273 | K13: 100 | L13: =IF(A13="","",IF(OR(I13="",I13<0,K13<0),"",MAX(I13-K13,0))) | M13: =IF(A13="","",IF(OR(H13="",I13="",I13<0,K13<0,AND(J13<>"",OR(K13="",K13<=0)),AND(J13="",K13>0),K13>I13),"Conferir",IF(L13<=0,"Recebido",IF(K13>0,IF(H13<'Parâmetros'!$B$4,"Parcial vencido","Parcial"),IF(H13<'Parâmetros'!$B$4,"Vencido",IF(H13<='Parâmetros'!$B$4+'Parâmetros'!$B$5,"A vencer","Em aberto")))))) | N13: =IF(OR(A13="",H13="",L13="",L13<=0,H13>='Parâmetros'!$B$4),"",'Parâmetros'!$B$4-H13) | Q13: ='Parâmetros'!$B$7 | R13: ='Parâmetros'!$B$6
L14: =IF(A14="","",IF(OR(I14="",I14<0,K14<0),"",MAX(I14-K14,0))) | M14: =IF(A14="","",IF(OR(H14="",I14="",I14<0,K14<0,AND(J14<>"",OR(K14="",K14<=0)),AND(J14="",K14>0),K14>I14),"Conferir",IF(L14<=0,"Recebido",IF(K14>0,IF(H14<'Parâmetros'!$B$4,"Parcial vencido","Parcial"),IF(H14<'Parâmetros'!$B$4,"Vencido",IF(H14<='Parâmetros'!$B$4+'Parâmetros'!$B$5,"A vencer","Em aberto")))))) | N14: =IF(OR(A14="",H14="",L14="",L14<=0,H14>='Parâmetros'!$B$4),"",'Parâmetros'!$B$4-H14) | Q14: ='Parâmetros'!$B$7 | R14: ='Parâmetros'!$B$6
L15: =IF(A15="","",IF(OR(I15="",I15<0,K15<0),"",MAX(I15-K15,0))) | M15: =IF(A15="","",IF(OR(H15="",I15="",I15<0,K15<0,AND(J15<>"",OR(K15="",K15<=0)),AND(J15="",K15>0),K15>I15),"Conferir",IF(L15<=0,"Recebido",IF(K15>0,IF(H15<'Parâmetros'!$B$4,"Parcial vencido","Parcial"),IF(H15<'Parâmetros'!$B$4,"Vencido",IF(H15<='Parâmetros'!$B$4+'Parâmetros'!$B$5,"A vencer","Em aberto")))))) | N15: =IF(OR(A15="",H15="",L15="",L15<=0,H15>='Parâmetros'!$B$4),"",'Parâmetros'!$B$4-H15) | Q15: ='Parâmetros'!$B$7 | R15: ='Parâmetros'!$B$6
L16: =IF(A16="","",IF(OR(I16="",I16<0,K16<0),"",MAX(I16-K16,0))) | M16: =IF(A16="","",IF(OR(H16="",I16="",I16<0,K16<0,AND(J16<>"",OR(K16="",K16<=0)),AND(J16="",K16>0),K16>I16),"Conferir",IF(L16<=0,"Recebido",IF(K16>0,IF(H16<'Parâmetros'!$B$4,"Parcial vencido","Parcial"),IF(H16<'Parâmetros'!$B$4,"Vencido",IF(H16<='Parâmetros'!$B$4+'Parâmetros'!$B$5,"A vencer","Em aberto")))))) | N16: =IF(OR(A16="",H16="",L16="",L16<=0,H16>='Parâmetros'!$B$4),"",'Parâmetros'!$B$4-H16) | Q16: ='Parâmetros'!$B$7 | R16: ='Parâmetros'!$B$6
L17: =IF(A17="","",IF(OR(I17="",I17<0,K17<0),"",MAX(I17-K17,0))) | M17: =IF(A17="","",IF(OR(H17="",I17="",I17<0,K17<0,AND(J17<>"",OR(K17="",K17<=0)),AND(J17="",K17>0),K17>I17),"Conferir",IF(L17<=0,"Recebido",IF(K17>0,IF(H17<'Parâmetros'!$B$4,"Parcial vencido","Parcial"),IF(H17<'Parâmetros'!$B$4,"Vencido",IF(H17<='Parâmetros'!$B$4+'Parâmetros'!$B$5,"A vencer","Em aberto")))))) | N17: =IF(OR(A17="",H17="",L17="",L17<=0,H17>='Parâmetros'!$B$4),"",'Parâmetros'!$B$4-H17) | Q17: ='Parâmetros'!$B$7 | R17: ='Parâmetros'!$B$6
L18: =IF(A18="","",IF(OR(I18="",I18<0,K18<0),"",MAX(I18-K18,0))) | M18: =IF(A18="","",IF(OR(H18="",I18="",I18<0,K18<0,AND(J18<>"",OR(K18="",K18<=0)),AND(J18="",K18>0),K18>I18),"Conferir",IF(L18<=0,"Recebido",IF(K18>0,IF(H18<'Parâmetros'!$B$4,"Parcial vencido","Parcial"),IF(H18<'Parâmetros'!$B$4,"Vencido",IF(H18<='Parâmetros'!$B$4+'Parâmetros'!$B$5,"A vencer","Em aberto")))))) | N18: =IF(OR(A18="",H18="",L18="",L18<=0,H18>='Parâmetros'!$B$4),"",'Parâmetros'!$B$4-H18) | Q18: ='Parâmetros'!$B$7 | R18: ='Parâmetros'!$B$6
L19: =IF(A19="","",IF(OR(I19="",I19<0,K19<0),"",MAX(I19-K19,0))) | M19: =IF(A19="","",IF(OR(H19="",I19="",I19<0,K19<0,AND(J19<>"",OR(K19="",K19<=0)),AND(J19="",K19>0),K19>I19),"Conferir",IF(L19<=0,"Recebido",IF(K19>0,IF(H19<'Parâmetros'!$B$4,"Parcial vencido","Parcial"),IF(H19<'Parâmetros'!$B$4,"Vencido",IF(H19<='Parâmetros'!$B$4+'Parâmetros'!$B$5,"A vencer","Em aberto")))))) | N19: =IF(OR(A19="",H19="",L19="",L19<=0,H19>='Parâmetros'!$B$4),"",'Parâmetros'!$B$4-H19) | Q19: ='Parâmetros'!$B$7 | R19: ='Parâmetros'!$B$6
L20: =IF(A20="","",IF(OR(I20="",I20<0,K20<0),"",MAX(I20-K20,0))) | M20: =IF(A20="","",IF(OR(H20="",I20="",I20<0,K20<0,AND(J20<>"",OR(K20="",K20<=0)),AND(J20="",K20>0),K20>I20),"Conferir",IF(L20<=0,"Recebido",IF(K20>0,IF(H20<'Parâmetros'!$B$4,"Parcial vencido","Parcial"),IF(H20<'Parâmetros'!$B$4,"Vencido",IF(H20<='Parâmetros'!$B$4+'Parâmetros'!$B$5,"A vencer","Em aberto")))))) | N20: =IF(OR(A20="",H20="",L20="",L20<=0,H20>='Parâmetros'!$B$4),"",'Parâmetros'!$B$4-H20) | Q20: ='Parâmetros'!$B$7 | R20: ='Parâmetros'!$B$6
L21: =IF(A21="","",IF(OR(I21="",I21<0,K21<0),"",MAX(I21-K21,0))) | M21: =IF(A21="","",IF(OR(H21="",I21="",I21<0,K21<0,AND(J21<>"",OR(K21="",K21<=0)),AND(J21="",K21>0),K21>I21),"Conferir",IF(L21<=0,"Recebido",IF(K21>0,IF(H21<'Parâmetros'!$B$4,"Parcial vencido","Parcial"),IF(H21<'Parâmetros'!$B$4,"Vencido",IF(H21<='Parâmetros'!$B$4+'Parâmetros'!$B$5,"A vencer","Em aberto")))))) | N21: =IF(OR(A21="",H21="",L21="",L21<=0,H21>='Parâmetros'!$B$4),"",'Parâmetros'!$B$4-H21) | Q21: ='Parâmetros'!$B$7 | R21: ='Parâmetros'!$B$6
L22: =IF(A22="","",IF(OR(I22="",I22<0,K22<0),"",MAX(I22-K22,0))) | M22: =IF(A22="","",IF(OR(H22="",I22="",I22<0,K22<0,AND(J22<>"",OR(K22="",K22<=0)),AND(J22="",K22>0),K22>I22),"Conferir",IF(L22<=0,"Recebido",IF(K22>0,IF(H22<'Parâmetros'!$B$4,"Parcial vencido","Parcial"),IF(H22<'Parâmetros'!$B$4,"Vencido",IF(H22<='Parâmetros'!$B$4+'Parâmetros'!$B$5,"A vencer","Em aberto")))))) | N22: =IF(OR(A22="",H22="",L22="",L22<=0,H22>='Parâmetros'!$B$4),"",'Parâmetros'!$B$4-H22) | Q22: ='Parâmetros'!$B$7 | R22: ='Parâmetros'!$B$6
L23: =IF(A23="","",IF(OR(I23="",I23<0,K23<0),"",MAX(I23-K23,0))) | M23: =IF(A23="","",IF(OR(H23="",I23="",I23<0,K23<0,AND(J23<>"",OR(K23="",K23<=0)),AND(J23="",K23>0),K23>I23),"Conferir",IF(L23<=0,"Recebido",IF(K23>0,IF(H23<'Parâmetros'!$B$4,"Parcial vencido","Parcial"),IF(H23<'Parâmetros'!$B$4,"Vencido",IF(H23<='Parâmetros'!$B$4+'Parâmetros'!$B$5,"A vencer","Em aberto")))))) | N23: =IF(OR(A23="",H23="",L23="",L23<=0,H23>='Parâmetros'!$B$4),"",'Parâmetros'!$B$4-H23) | Q23: ='Parâmetros'!$B$7 | R23: ='Parâmetros'!$B$6
L24: =IF(A24="","",IF(OR(I24="",I24<0,K24<0),"",MAX(I24-K24,0))) | M24: =IF(A24="","",IF(OR(H24="",I24="",I24<0,K24<0,AND(J24<>"",OR(K24="",K24<=0)),AND(J24="",K24>0),K24>I24),"Conferir",IF(L24<=0,"Recebido",IF(K24>0,IF(H24<'Parâmetros'!$B$4,"Parcial vencido","Parcial"),IF(H24<'Parâmetros'!$B$4,"Vencido",IF(H24<='Parâmetros'!$B$4+'Parâmetros'!$B$5,"A vencer","Em aberto")))))) | N24: =IF(OR(A24="",H24="",L24="",L24<=0,H24>='Parâmetros'!$B$4),"",'Parâmetros'!$B$4-H24) | Q24: ='Parâmetros'!$B$7 | R24: ='Parâmetros'!$B$6
L25: =IF(A25="","",IF(OR(I25="",I25<0,K25<0),"",MAX(I25-K25,0))) | M25: =IF(A25="","",IF(OR(H25="",I25="",I25<0,K25<0,AND(J25<>"",OR(K25="",K25<=0)),AND(J25="",K25>0),K25>I25),"Conferir",IF(L25<=0,"Recebido",IF(K25>0,IF(H25<'Parâmetros'!$B$4,"Parcial vencido","Parcial"),IF(H25<'Parâmetros'!$B$4,"Vencido",IF(H25<='Parâmetros'!$B$4+'Parâmetros'!$B$5,"A vencer","Em aberto")))))) | N25: =IF(OR(A25="",H25="",L25="",L25<=0,H25>='Parâmetros'!$B$4),"",'Parâmetros'!$B$4-H25) | Q25: ='Parâmetros'!$B$7 | R25: ='Parâmetros'!$B$6
... L103: =IF(A103="","",IF(OR(I103="",I103<0,K103<0),"",MAX(I103-K103,0))) | M103: =IF(A103="","",IF(OR(H103="",I103="",I103<0,K103<0,AND(J103<>"",OR(K103="",K103<=0)),AND(J103="",K103>0),K103>I103),"Conferir",IF(L103<=0,"Recebido",IF(K103>0,IF(H103<'Parâmetros'!$B$4,"Parcial vencido","Parcial"),IF(H103<'Parâmetros'!$B$4,"Vencido",IF(H103<='Parâmetros'!$B$4+'Parâmetros'!$B$5,"A vencer","Em aberto")))))) | N103: =IF(OR(A103="",H103="",L103="",L103<=0,H103>='Parâmetros'!$B$4),"",'Parâmetros'!$B$4-H103) | Q103: ='Parâmetros'!$B$7 | R103: ='Parâmetros'!$B$6

Sheet Parâmetros
A1: Parâmetros e listas editáveis
A2: Ajuste as premissas conforme a rotina interna e confira os destaques gerados.
A3: Premissa | B3: Valor | C3: Aplicação | E3: Categoria de serviço | F3: Aplicação
A4: Data de referência | B4: 46273 | C4: Base para classificar vencimentos e atrasos. | E4: Cabelo | F4: Lista dos lançamentos
A5: Antecedência para aviso, em dias | B5: 7 | C5: Define o período da situação "A vencer". | E5: Unhas | F5: Lista dos lançamentos
A6: Máximo de parcelas para conferência | B6: 24 | C6: Destaca quantidades acima deste limite. | E6: Barbearia | F6: Lista dos lançamentos
A7: Valor de parcela para conferência | B7: 1000 | C7: Destaca valores previstos acima deste limite. | E7: Estética não clínica | F7: Lista dos lançamentos
E8: Outros | F8: Lista dos lançamentos
