Workbook

Sheet Resumo
A1: Resumo da agenda
A2: =IF(OR('Parâmetros'!$N$5="",'Parâmetros'!$N$6=""),"Período não definido","Período: "&TEXT('Parâmetros'!$N$5,"dd/mm/yyyy")&" a "&TEXT('Parâmetros'!$N$6,"dd/mm/yyyy"))
A3: Indicador | B3: Resultado
A4: Total de agendamentos | B4: =IF(OR('Parâmetros'!$N$5="",'Parâmetros'!$N$6=""),"",COUNTIFS(Agenda!$B$5:$B$104,">="&'Parâmetros'!$N$5,Agenda!$B$5:$B$104,"<="&'Parâmetros'!$N$6,Agenda!$A$5:$A$104,"<>"))
A5: ='Parâmetros'!$K$5 | B5: =IF(OR('Parâmetros'!$N$5="",'Parâmetros'!$N$6=""),"",COUNTIFS(Agenda!$B$5:$B$104,">="&'Parâmetros'!$N$5,Agenda!$B$5:$B$104,"<="&'Parâmetros'!$N$6,Agenda!$I$5:$I$104,'Parâmetros'!$K$5))
A6: ='Parâmetros'!$K$6 | B6: =IF(OR('Parâmetros'!$N$5="",'Parâmetros'!$N$6=""),"",COUNTIFS(Agenda!$B$5:$B$104,">="&'Parâmetros'!$N$5,Agenda!$B$5:$B$104,"<="&'Parâmetros'!$N$6,Agenda!$I$5:$I$104,'Parâmetros'!$K$6))
A7: ='Parâmetros'!$K$7 | B7: =IF(OR('Parâmetros'!$N$5="",'Parâmetros'!$N$6=""),"",COUNTIFS(Agenda!$B$5:$B$104,">="&'Parâmetros'!$N$5,Agenda!$B$5:$B$104,"<="&'Parâmetros'!$N$6,Agenda!$I$5:$I$104,'Parâmetros'!$K$7))
A8: ='Parâmetros'!$K$8 | B8: =IF(OR('Parâmetros'!$N$5="",'Parâmetros'!$N$6=""),"",COUNTIFS(Agenda!$B$5:$B$104,">="&'Parâmetros'!$N$5,Agenda!$B$5:$B$104,"<="&'Parâmetros'!$N$6,Agenda!$I$5:$I$104,'Parâmetros'!$K$8))
A9: ='Parâmetros'!$K$9 | B9: =IF(OR('Parâmetros'!$N$5="",'Parâmetros'!$N$6=""),"",COUNTIFS(Agenda!$B$5:$B$104,">="&'Parâmetros'!$N$5,Agenda!$B$5:$B$104,"<="&'Parâmetros'!$N$6,Agenda!$I$5:$I$104,'Parâmetros'!$K$9))
A10: Valor agendado ou confirmado | B10: =IF(OR('Parâmetros'!$N$5="",'Parâmetros'!$N$6=""),"",IFERROR(SUMIFS(Agenda!$J$5:$J$104,Agenda!$B$5:$B$104,">="&'Parâmetros'!$N$5,Agenda!$B$5:$B$104,"<="&'Parâmetros'!$N$6,Agenda!$I$5:$I$104,'Parâmetros'!$K$5)+SUMIFS(Agenda!$J$5:$J$104,Agenda!$B$5:$B$104,">="&'Parâmetros'!$N$5,Agenda!$B$5:$B$104,"<="&'Parâmetros'!$N$6,Agenda!$I$5:$I$104,'Parâmetros'!$K$6),0))
A11: Valor concluído | B11: =IF(OR('Parâmetros'!$N$5="",'Parâmetros'!$N$6=""),"",IFERROR(SUMIFS(Agenda!$J$5:$J$104,Agenda!$B$5:$B$104,">="&'Parâmetros'!$N$5,Agenda!$B$5:$B$104,"<="&'Parâmetros'!$N$6,Agenda!$I$5:$I$104,'Parâmetros'!$K$7),0))
A12: Horas agendadas ou confirmadas | B12: =IF(OR('Parâmetros'!$N$5="",'Parâmetros'!$N$6=""),"",IFERROR((SUMIFS(Agenda!$G$5:$G$104,Agenda!$B$5:$B$104,">="&'Parâmetros'!$N$5,Agenda!$B$5:$B$104,"<="&'Parâmetros'!$N$6,Agenda!$I$5:$I$104,'Parâmetros'!$K$5)+SUMIFS(Agenda!$G$5:$G$104,Agenda!$B$5:$B$104,">="&'Parâmetros'!$N$5,Agenda!$B$5:$B$104,"<="&'Parâmetros'!$N$6,Agenda!$I$5:$I$104,'Parâmetros'!$K$6))/60,0))
A13: Registros para conferir | B13: =COUNTIF(Agenda!$L$5:$L$104,"Conferir*")
A16: Status | B16: Quantidade
A17: =A5 | B17: =B5
A18: =A6 | B18: =B6
A19: =A7 | B19: =B7
A20: =A8 | B20: =B8
A21: =A9 | B21: =B9

Sheet Agenda
A1: Agenda do salão de beleza
A2: Organização de horários com exemplos fictícios; campos em rosa são editáveis.
A3: Confira os avisos da coluna Conferência antes de usar a agenda para decisões.
A4: ID | B4: Data | C4: Hora | D4: Cliente fictício | E4: Profissional | F4: Serviço | G4: Duração (min) | H4: Término | I4: Status | J4: Valor previsto | K4: Observação | L4: Conferência
A5: AG-001 | B5: 46272 | C5: 0.375 | D5: Cliente Brisa | E5: Profissional Aurora | F5: Corte feminino | G5: =IF(F5="","",IFERROR(VLOOKUP(F5,'Parâmetros'!$E$5:$I$104,3,FALSE),"")) | H5: =IF(OR(C5="",NOT(ISNUMBER(G5))),"",IFERROR(C5+G5/1440,"")) | I5: Concluído | J5: =IF(F5="","",IFERROR(VLOOKUP(F5,'Parâmetros'!$E$5:$I$104,4,FALSE),"")) | L5: =IF(COUNTA(A5:F5)=0,"",IF(OR(A5="",B5="",C5="",D5="",E5="",F5="",I5=""),"Conferir campos",IF(OR(COUNTIF($A$5:$A$104,A5)>1,NOT(ISNUMBER(B5)),NOT(ISNUMBER(C5)),NOT(ISNUMBER(G5)),NOT(ISNUMBER(H5)),NOT(ISNUMBER(J5)),B5<'Parâmetros'!$N$5,B5>'Parâmetros'!$N$6,C5<'Parâmetros'!$N$7,H5>'Parâmetros'!$N$8,COUNTIF('Parâmetros'!$K$5:$K$9,I5)=0,IFERROR(VLOOKUP(E5,'Parâmetros'!$A$5:$C$104,3,FALSE),"")<>'Parâmetros'!$K$12,IFERROR(VLOOKUP(F5,'Parâmetros'!$E$5:$I$104,5,FALSE),"")<>'Parâmetros'!$K$12),"Conferir dados",IF(AND(I5<>'Parâmetros'!$K$8,I5<>'Parâmetros'!$K$9,COUNTIFS($B$5:$B$104,B5,$C$5:$C$104,C5,$E$5:$E$104,E5,$I$5:$I$104,"<>"&'Parâmetros'!$K$8,$I$5:$I$104,"<>"&'Parâmetros'!$K$9)>1),"Conferir horário","OK"))))
A6: AG-002 | B6: 46273 | C6: 0.4375 | D6: Cliente Orquídea | E6: Profissional Cacau | F6: Manicure | G6: =IF(F6="","",IFERROR(VLOOKUP(F6,'Parâmetros'!$E$5:$I$104,3,FALSE),"")) | H6: =IF(OR(C6="",NOT(ISNUMBER(G6))),"",IFERROR(C6+G6/1440,"")) | I6: Concluído | J6: =IF(F6="","",IFERROR(VLOOKUP(F6,'Parâmetros'!$E$5:$I$104,4,FALSE),"")) | L6: =IF(COUNTA(A6:F6)=0,"",IF(OR(A6="",B6="",C6="",D6="",E6="",F6="",I6=""),"Conferir campos",IF(OR(COUNTIF($A$5:$A$104,A6)>1,NOT(ISNUMBER(B6)),NOT(ISNUMBER(C6)),NOT(ISNUMBER(G6)),NOT(ISNUMBER(H6)),NOT(ISNUMBER(J6)),B6<'Parâmetros'!$N$5,B6>'Parâmetros'!$N$6,C6<'Parâmetros'!$N$7,H6>'Parâmetros'!$N$8,COUNTIF('Parâmetros'!$K$5:$K$9,I6)=0,IFERROR(VLOOKUP(E6,'Parâmetros'!$A$5:$C$104,3,FALSE),"")<>'Parâmetros'!$K$12,IFERROR(VLOOKUP(F6,'Parâmetros'!$E$5:$I$104,5,FALSE),"")<>'Parâmetros'!$K$12),"Conferir dados",IF(AND(I6<>'Parâmetros'!$K$8,I6<>'Parâmetros'!$K$9,COUNTIFS($B$5:$B$104,B6,$C$5:$C$104,C6,$E$5:$E$104,E6,$I$5:$I$104,"<>"&'Parâmetros'!$K$8,$I$5:$I$104,"<>"&'Parâmetros'!$K$9)>1),"Conferir horário","OK"))))
A7: AG-003 | B7: 46274 | C7: 0.47916667 | D7: Cliente Horizonte | E7: Profissional Ipê | F7: Barba | G7: =IF(F7="","",IFERROR(VLOOKUP(F7,'Parâmetros'!$E$5:$I$104,3,FALSE),"")) | H7: =IF(OR(C7="",NOT(ISNUMBER(G7))),"",IFERROR(C7+G7/1440,"")) | I7: Confirmado | J7: =IF(F7="","",IFERROR(VLOOKUP(F7,'Parâmetros'!$E$5:$I$104,4,FALSE),"")) | L7: =IF(COUNTA(A7:F7)=0,"",IF(OR(A7="",B7="",C7="",D7="",E7="",F7="",I7=""),"Conferir campos",IF(OR(COUNTIF($A$5:$A$104,A7)>1,NOT(ISNUMBER(B7)),NOT(ISNUMBER(C7)),NOT(ISNUMBER(G7)),NOT(ISNUMBER(H7)),NOT(ISNUMBER(J7)),B7<'Parâmetros'!$N$5,B7>'Parâmetros'!$N$6,C7<'Parâmetros'!$N$7,H7>'Parâmetros'!$N$8,COUNTIF('Parâmetros'!$K$5:$K$9,I7)=0,IFERROR(VLOOKUP(E7,'Parâmetros'!$A$5:$C$104,3,FALSE),"")<>'Parâmetros'!$K$12,IFERROR(VLOOKUP(F7,'Parâmetros'!$E$5:$I$104,5,FALSE),"")<>'Parâmetros'!$K$12),"Conferir dados",IF(AND(I7<>'Parâmetros'!$K$8,I7<>'Parâmetros'!$K$9,COUNTIFS($B$5:$B$104,B7,$C$5:$C$104,C7,$E$5:$E$104,E7,$I$5:$I$104,"<>"&'Parâmetros'!$K$8,$I$5:$I$104,"<>"&'Parâmetros'!$K$9)>1),"Conferir horário","OK"))))
A8: AG-004 | B8: 46274 | C8: 0.58333333 | D8: Cliente Lavanda | E8: Profissional Lua | F8: Escova | G8: =IF(F8="","",IFERROR(VLOOKUP(F8,'Parâmetros'!$E$5:$I$104,3,FALSE),"")) | H8: =IF(OR(C8="",NOT(ISNUMBER(G8))),"",IFERROR(C8+G8/1440,"")) | I8: Agendado | J8: =IF(F8="","",IFERROR(VLOOKUP(F8,'Parâmetros'!$E$5:$I$104,4,FALSE),"")) | L8: =IF(COUNTA(A8:F8)=0,"",IF(OR(A8="",B8="",C8="",D8="",E8="",F8="",I8=""),"Conferir campos",IF(OR(COUNTIF($A$5:$A$104,A8)>1,NOT(ISNUMBER(B8)),NOT(ISNUMBER(C8)),NOT(ISNUMBER(G8)),NOT(ISNUMBER(H8)),NOT(ISNUMBER(J8)),B8<'Parâmetros'!$N$5,B8>'Parâmetros'!$N$6,C8<'Parâmetros'!$N$7,H8>'Parâmetros'!$N$8,COUNTIF('Parâmetros'!$K$5:$K$9,I8)=0,IFERROR(VLOOKUP(E8,'Parâmetros'!$A$5:$C$104,3,FALSE),"")<>'Parâmetros'!$K$12,IFERROR(VLOOKUP(F8,'Parâmetros'!$E$5:$I$104,5,FALSE),"")<>'Parâmetros'!$K$12),"Conferir dados",IF(AND(I8<>'Parâmetros'!$K$8,I8<>'Parâmetros'!$K$9,COUNTIFS($B$5:$B$104,B8,$C$5:$C$104,C8,$E$5:$E$104,E8,$I$5:$I$104,"<>"&'Parâmetros'!$K$8,$I$5:$I$104,"<>"&'Parâmetros'!$K$9)>1),"Conferir horário","OK"))))
A9: AG-005 | B9: 46275 | C9: 0.5625 | D9: Cliente Cedro | E9: Profissional Sol | F9: Pedicure | G9: =IF(F9="","",IFERROR(VLOOKUP(F9,'Parâmetros'!$E$5:$I$104,3,FALSE),"")) | H9: =IF(OR(C9="",NOT(ISNUMBER(G9))),"",IFERROR(C9+G9/1440,"")) | I9: Cancelado | J9: =IF(F9="","",IFERROR(VLOOKUP(F9,'Parâmetros'!$E$5:$I$104,4,FALSE),"")) | K9: Cancelamento registrado | L9: =IF(COUNTA(A9:F9)=0,"",IF(OR(A9="",B9="",C9="",D9="",E9="",F9="",I9=""),"Conferir campos",IF(OR(COUNTIF($A$5:$A$104,A9)>1,NOT(ISNUMBER(B9)),NOT(ISNUMBER(C9)),NOT(ISNUMBER(G9)),NOT(ISNUMBER(H9)),NOT(ISNUMBER(J9)),B9<'Parâmetros'!$N$5,B9>'Parâmetros'!$N$6,C9<'Parâmetros'!$N$7,H9>'Parâmetros'!$N$8,COUNTIF('Parâmetros'!$K$5:$K$9,I9)=0,IFERROR(VLOOKUP(E9,'Parâmetros'!$A$5:$C$104,3,FALSE),"")<>'Parâmetros'!$K$12,IFERROR(VLOOKUP(F9,'Parâmetros'!$E$5:$I$104,5,FALSE),"")<>'Parâmetros'!$K$12),"Conferir dados",IF(AND(I9<>'Parâmetros'!$K$8,I9<>'Parâmetros'!$K$9,COUNTIFS($B$5:$B$104,B9,$C$5:$C$104,C9,$E$5:$E$104,E9,$I$5:$I$104,"<>"&'Parâmetros'!$K$8,$I$5:$I$104,"<>"&'Parâmetros'!$K$9)>1),"Conferir horário","OK"))))
A10: AG-006 | B10: 46275 | C10: 0.41666667 | D10: Cliente Nuvem | E10: Profissional Violeta | F10: Design de sobrancelhas | G10: =IF(F10="","",IFERROR(VLOOKUP(F10,'Parâmetros'!$E$5:$I$104,3,FALSE),"")) | H10: =IF(OR(C10="",NOT(ISNUMBER(G10))),"",IFERROR(C10+G10/1440,"")) | I10: Agendado | J10: =IF(F10="","",IFERROR(VLOOKUP(F10,'Parâmetros'!$E$5:$I$104,4,FALSE),"")) | L10: =IF(COUNTA(A10:F10)=0,"",IF(OR(A10="",B10="",C10="",D10="",E10="",F10="",I10=""),"Conferir campos",IF(OR(COUNTIF($A$5:$A$104,A10)>1,NOT(ISNUMBER(B10)),NOT(ISNUMBER(C10)),NOT(ISNUMBER(G10)),NOT(ISNUMBER(H10)),NOT(ISNUMBER(J10)),B10<'Parâmetros'!$N$5,B10>'Parâmetros'!$N$6,C10<'Parâmetros'!$N$7,H10>'Parâmetros'!$N$8,COUNTIF('Parâmetros'!$K$5:$K$9,I10)=0,IFERROR(VLOOKUP(E10,'Parâmetros'!$A$5:$C$104,3,FALSE),"")<>'Parâmetros'!$K$12,IFERROR(VLOOKUP(F10,'Parâmetros'!$E$5:$I$104,5,FALSE),"")<>'Parâmetros'!$K$12),"Conferir dados",IF(AND(I10<>'Parâmetros'!$K$8,I10<>'Parâmetros'!$K$9,COUNTIFS($B$5:$B$104,B10,$C$5:$C$104,C10,$E$5:$E$104,E10,$I$5:$I$104,"<>"&'Parâmetros'!$K$8,$I$5:$I$104,"<>"&'Parâmetros'!$K$9)>1),"Conferir horário","OK"))))
A11: AG-007 | B11: 46276 | C11: 0.58333333 | D11: Cliente Coral | E11: Profissional Aurora | F11: Hidratação capilar | G11: =IF(F11="","",IFERROR(VLOOKUP(F11,'Parâmetros'!$E$5:$I$104,3,FALSE),"")) | H11: =IF(OR(C11="",NOT(ISNUMBER(G11))),"",IFERROR(C11+G11/1440,"")) | I11: Confirmado | J11: =IF(F11="","",IFERROR(VLOOKUP(F11,'Parâmetros'!$E$5:$I$104,4,FALSE),"")) | L11: =IF(COUNTA(A11:F11)=0,"",IF(OR(A11="",B11="",C11="",D11="",E11="",F11="",I11=""),"Conferir campos",IF(OR(COUNTIF($A$5:$A$104,A11)>1,NOT(ISNUMBER(B11)),NOT(ISNUMBER(C11)),NOT(ISNUMBER(G11)),NOT(ISNUMBER(H11)),NOT(ISNUMBER(J11)),B11<'Parâmetros'!$N$5,B11>'Parâmetros'!$N$6,C11<'Parâmetros'!$N$7,H11>'Parâmetros'!$N$8,COUNTIF('Parâmetros'!$K$5:$K$9,I11)=0,IFERROR(VLOOKUP(E11,'Parâmetros'!$A$5:$C$104,3,FALSE),"")<>'Parâmetros'!$K$12,IFERROR(VLOOKUP(F11,'Parâmetros'!$E$5:$I$104,5,FALSE),"")<>'Parâmetros'!$K$12),"Conferir dados",IF(AND(I11<>'Parâmetros'!$K$8,I11<>'Parâmetros'!$K$9,COUNTIFS($B$5:$B$104,B11,$C$5:$C$104,C11,$E$5:$E$104,E11,$I$5:$I$104,"<>"&'Parâmetros'!$K$8,$I$5:$I$104,"<>"&'Parâmetros'!$K$9)>1),"Conferir horário","OK"))))
A12: AG-008 | B12: 46277 | C12: 0.375 | D12: Cliente Jasmim | E12: Profissional Cacau | F12: Penteado | G12: =IF(F12="","",IFERROR(VLOOKUP(F12,'Parâmetros'!$E$5:$I$104,3,FALSE),"")) | H12: =IF(OR(C12="",NOT(ISNUMBER(G12))),"",IFERROR(C12+G12/1440,"")) | I12: Agendado | J12: =IF(F12="","",IFERROR(VLOOKUP(F12,'Parâmetros'!$E$5:$I$104,4,FALSE),"")) | L12: =IF(COUNTA(A12:F12)=0,"",IF(OR(A12="",B12="",C12="",D12="",E12="",F12="",I12=""),"Conferir campos",IF(OR(COUNTIF($A$5:$A$104,A12)>1,NOT(ISNUMBER(B12)),NOT(ISNUMBER(C12)),NOT(ISNUMBER(G12)),NOT(ISNUMBER(H12)),NOT(ISNUMBER(J12)),B12<'Parâmetros'!$N$5,B12>'Parâmetros'!$N$6,C12<'Parâmetros'!$N$7,H12>'Parâmetros'!$N$8,COUNTIF('Parâmetros'!$K$5:$K$9,I12)=0,IFERROR(VLOOKUP(E12,'Parâmetros'!$A$5:$C$104,3,FALSE),"")<>'Parâmetros'!$K$12,IFERROR(VLOOKUP(F12,'Parâmetros'!$E$5:$I$104,5,FALSE),"")<>'Parâmetros'!$K$12),"Conferir dados",IF(AND(I12<>'Parâmetros'!$K$8,I12<>'Parâmetros'!$K$9,COUNTIFS($B$5:$B$104,B12,$C$5:$C$104,C12,$E$5:$E$104,E12,$I$5:$I$104,"<>"&'Parâmetros'!$K$8,$I$5:$I$104,"<>"&'Parâmetros'!$K$9)>1),"Conferir horário","OK"))))
A13: AG-009 | B13: 46277 | C13: 0.375 | D13: Cliente Canela | E13: Profissional Cacau | F13: Manicure | G13: =IF(F13="","",IFERROR(VLOOKUP(F13,'Parâmetros'!$E$5:$I$104,3,FALSE),"")) | H13: =IF(OR(C13="",NOT(ISNUMBER(G13))),"",IFERROR(C13+G13/1440,"")) | I13: Confirmado | J13: =IF(F13="","",IFERROR(VLOOKUP(F13,'Parâmetros'!$E$5:$I$104,4,FALSE),"")) | K13: Exemplo para conferir horário | L13: =IF(COUNTA(A13:F13)=0,"",IF(OR(A13="",B13="",C13="",D13="",E13="",F13="",I13=""),"Conferir campos",IF(OR(COUNTIF($A$5:$A$104,A13)>1,NOT(ISNUMBER(B13)),NOT(ISNUMBER(C13)),NOT(ISNUMBER(G13)),NOT(ISNUMBER(H13)),NOT(ISNUMBER(J13)),B13<'Parâmetros'!$N$5,B13>'Parâmetros'!$N$6,C13<'Parâmetros'!$N$7,H13>'Parâmetros'!$N$8,COUNTIF('Parâmetros'!$K$5:$K$9,I13)=0,IFERROR(VLOOKUP(E13,'Parâmetros'!$A$5:$C$104,3,FALSE),"")<>'Parâmetros'!$K$12,IFERROR(VLOOKUP(F13,'Parâmetros'!$E$5:$I$104,5,FALSE),"")<>'Parâmetros'!$K$12),"Conferir dados",IF(AND(I13<>'Parâmetros'!$K$8,I13<>'Parâmetros'!$K$9,COUNTIFS($B$5:$B$104,B13,$C$5:$C$104,C13,$E$5:$E$104,E13,$I$5:$I$104,"<>"&'Parâmetros'!$K$8,$I$5:$I$104,"<>"&'Parâmetros'!$K$9)>1),"Conferir horário","OK"))))
A14: AG-010 | B14: 46278 | C14: 0.625 | D14: Cliente Lago | E14: Profissional Aurora | F14: Corte feminino | G14: =IF(F14="","",IFERROR(VLOOKUP(F14,'Parâmetros'!$E$5:$I$104,3,FALSE),"")) | H14: =IF(OR(C14="",NOT(ISNUMBER(G14))),"",IFERROR(C14+G14/1440,"")) | I14: Não compareceu | J14: =IF(F14="","",IFERROR(VLOOKUP(F14,'Parâmetros'!$E$5:$I$104,4,FALSE),"")) | L14: =IF(COUNTA(A14:F14)=0,"",IF(OR(A14="",B14="",C14="",D14="",E14="",F14="",I14=""),"Conferir campos",IF(OR(COUNTIF($A$5:$A$104,A14)>1,NOT(ISNUMBER(B14)),NOT(ISNUMBER(C14)),NOT(ISNUMBER(G14)),NOT(ISNUMBER(H14)),NOT(ISNUMBER(J14)),B14<'Parâmetros'!$N$5,B14>'Parâmetros'!$N$6,C14<'Parâmetros'!$N$7,H14>'Parâmetros'!$N$8,COUNTIF('Parâmetros'!$K$5:$K$9,I14)=0,IFERROR(VLOOKUP(E14,'Parâmetros'!$A$5:$C$104,3,FALSE),"")<>'Parâmetros'!$K$12,IFERROR(VLOOKUP(F14,'Parâmetros'!$E$5:$I$104,5,FALSE),"")<>'Parâmetros'!$K$12),"Conferir dados",IF(AND(I14<>'Parâmetros'!$K$8,I14<>'Parâmetros'!$K$9,COUNTIFS($B$5:$B$104,B14,$C$5:$C$104,C14,$E$5:$E$104,E14,$I$5:$I$104,"<>"&'Parâmetros'!$K$8,$I$5:$I$104,"<>"&'Parâmetros'!$K$9)>1),"Conferir horário","OK"))))
G15: =IF(F15="","",IFERROR(VLOOKUP(F15,'Parâmetros'!$E$5:$I$104,3,FALSE),"")) | H15: =IF(OR(C15="",NOT(ISNUMBER(G15))),"",IFERROR(C15+G15/1440,"")) | J15: =IF(F15="","",IFERROR(VLOOKUP(F15,'Parâmetros'!$E$5:$I$104,4,FALSE),"")) | L15: =IF(COUNTA(A15:F15)=0,"",IF(OR(A15="",B15="",C15="",D15="",E15="",F15="",I15=""),"Conferir campos",IF(OR(COUNTIF($A$5:$A$104,A15)>1,NOT(ISNUMBER(B15)),NOT(ISNUMBER(C15)),NOT(ISNUMBER(G15)),NOT(ISNUMBER(H15)),NOT(ISNUMBER(J15)),B15<'Parâmetros'!$N$5,B15>'Parâmetros'!$N$6,C15<'Parâmetros'!$N$7,H15>'Parâmetros'!$N$8,COUNTIF('Parâmetros'!$K$5:$K$9,I15)=0,IFERROR(VLOOKUP(E15,'Parâmetros'!$A$5:$C$104,3,FALSE),"")<>'Parâmetros'!$K$12,IFERROR(VLOOKUP(F15,'Parâmetros'!$E$5:$I$104,5,FALSE),"")<>'Parâmetros'!$K$12),"Conferir dados",IF(AND(I15<>'Parâmetros'!$K$8,I15<>'Parâmetros'!$K$9,COUNTIFS($B$5:$B$104,B15,$C$5:$C$104,C15,$E$5:$E$104,E15,$I$5:$I$104,"<>"&'Parâmetros'!$K$8,$I$5:$I$104,"<>"&'Parâmetros'!$K$9)>1),"Conferir horário","OK"))))
G16: =IF(F16="","",IFERROR(VLOOKUP(F16,'Parâmetros'!$E$5:$I$104,3,FALSE),"")) | H16: =IF(OR(C16="",NOT(ISNUMBER(G16))),"",IFERROR(C16+G16/1440,"")) | J16: =IF(F16="","",IFERROR(VLOOKUP(F16,'Parâmetros'!$E$5:$I$104,4,FALSE),"")) | L16: =IF(COUNTA(A16:F16)=0,"",IF(OR(A16="",B16="",C16="",D16="",E16="",F16="",I16=""),"Conferir campos",IF(OR(COUNTIF($A$5:$A$104,A16)>1,NOT(ISNUMBER(B16)),NOT(ISNUMBER(C16)),NOT(ISNUMBER(G16)),NOT(ISNUMBER(H16)),NOT(ISNUMBER(J16)),B16<'Parâmetros'!$N$5,B16>'Parâmetros'!$N$6,C16<'Parâmetros'!$N$7,H16>'Parâmetros'!$N$8,COUNTIF('Parâmetros'!$K$5:$K$9,I16)=0,IFERROR(VLOOKUP(E16,'Parâmetros'!$A$5:$C$104,3,FALSE),"")<>'Parâmetros'!$K$12,IFERROR(VLOOKUP(F16,'Parâmetros'!$E$5:$I$104,5,FALSE),"")<>'Parâmetros'!$K$12),"Conferir dados",IF(AND(I16<>'Parâmetros'!$K$8,I16<>'Parâmetros'!$K$9,COUNTIFS($B$5:$B$104,B16,$C$5:$C$104,C16,$E$5:$E$104,E16,$I$5:$I$104,"<>"&'Parâmetros'!$K$8,$I$5:$I$104,"<>"&'Parâmetros'!$K$9)>1),"Conferir horário","OK"))))
G17: =IF(F17="","",IFERROR(VLOOKUP(F17,'Parâmetros'!$E$5:$I$104,3,FALSE),"")) | H17: =IF(OR(C17="",NOT(ISNUMBER(G17))),"",IFERROR(C17+G17/1440,"")) | J17: =IF(F17="","",IFERROR(VLOOKUP(F17,'Parâmetros'!$E$5:$I$104,4,FALSE),"")) | L17: =IF(COUNTA(A17:F17)=0,"",IF(OR(A17="",B17="",C17="",D17="",E17="",F17="",I17=""),"Conferir campos",IF(OR(COUNTIF($A$5:$A$104,A17)>1,NOT(ISNUMBER(B17)),NOT(ISNUMBER(C17)),NOT(ISNUMBER(G17)),NOT(ISNUMBER(H17)),NOT(ISNUMBER(J17)),B17<'Parâmetros'!$N$5,B17>'Parâmetros'!$N$6,C17<'Parâmetros'!$N$7,H17>'Parâmetros'!$N$8,COUNTIF('Parâmetros'!$K$5:$K$9,I17)=0,IFERROR(VLOOKUP(E17,'Parâmetros'!$A$5:$C$104,3,FALSE),"")<>'Parâmetros'!$K$12,IFERROR(VLOOKUP(F17,'Parâmetros'!$E$5:$I$104,5,FALSE),"")<>'Parâmetros'!$K$12),"Conferir dados",IF(AND(I17<>'Parâmetros'!$K$8,I17<>'Parâmetros'!$K$9,COUNTIFS($B$5:$B$104,B17,$C$5:$C$104,C17,$E$5:$E$104,E17,$I$5:$I$104,"<>"&'Parâmetros'!$K$8,$I$5:$I$104,"<>"&'Parâmetros'!$K$9)>1),"Conferir horário","OK"))))
G18: =IF(F18="","",IFERROR(VLOOKUP(F18,'Parâmetros'!$E$5:$I$104,3,FALSE),"")) | H18: =IF(OR(C18="",NOT(ISNUMBER(G18))),"",IFERROR(C18+G18/1440,"")) | J18: =IF(F18="","",IFERROR(VLOOKUP(F18,'Parâmetros'!$E$5:$I$104,4,FALSE),"")) | L18: =IF(COUNTA(A18:F18)=0,"",IF(OR(A18="",B18="",C18="",D18="",E18="",F18="",I18=""),"Conferir campos",IF(OR(COUNTIF($A$5:$A$104,A18)>1,NOT(ISNUMBER(B18)),NOT(ISNUMBER(C18)),NOT(ISNUMBER(G18)),NOT(ISNUMBER(H18)),NOT(ISNUMBER(J18)),B18<'Parâmetros'!$N$5,B18>'Parâmetros'!$N$6,C18<'Parâmetros'!$N$7,H18>'Parâmetros'!$N$8,COUNTIF('Parâmetros'!$K$5:$K$9,I18)=0,IFERROR(VLOOKUP(E18,'Parâmetros'!$A$5:$C$104,3,FALSE),"")<>'Parâmetros'!$K$12,IFERROR(VLOOKUP(F18,'Parâmetros'!$E$5:$I$104,5,FALSE),"")<>'Parâmetros'!$K$12),"Conferir dados",IF(AND(I18<>'Parâmetros'!$K$8,I18<>'Parâmetros'!$K$9,COUNTIFS($B$5:$B$104,B18,$C$5:$C$104,C18,$E$5:$E$104,E18,$I$5:$I$104,"<>"&'Parâmetros'!$K$8,$I$5:$I$104,"<>"&'Parâmetros'!$K$9)>1),"Conferir horário","OK"))))
G19: =IF(F19="","",IFERROR(VLOOKUP(F19,'Parâmetros'!$E$5:$I$104,3,FALSE),"")) | H19: =IF(OR(C19="",NOT(ISNUMBER(G19))),"",IFERROR(C19+G19/1440,"")) | J19: =IF(F19="","",IFERROR(VLOOKUP(F19,'Parâmetros'!$E$5:$I$104,4,FALSE),"")) | L19: =IF(COUNTA(A19:F19)=0,"",IF(OR(A19="",B19="",C19="",D19="",E19="",F19="",I19=""),"Conferir campos",IF(OR(COUNTIF($A$5:$A$104,A19)>1,NOT(ISNUMBER(B19)),NOT(ISNUMBER(C19)),NOT(ISNUMBER(G19)),NOT(ISNUMBER(H19)),NOT(ISNUMBER(J19)),B19<'Parâmetros'!$N$5,B19>'Parâmetros'!$N$6,C19<'Parâmetros'!$N$7,H19>'Parâmetros'!$N$8,COUNTIF('Parâmetros'!$K$5:$K$9,I19)=0,IFERROR(VLOOKUP(E19,'Parâmetros'!$A$5:$C$104,3,FALSE),"")<>'Parâmetros'!$K$12,IFERROR(VLOOKUP(F19,'Parâmetros'!$E$5:$I$104,5,FALSE),"")<>'Parâmetros'!$K$12),"Conferir dados",IF(AND(I19<>'Parâmetros'!$K$8,I19<>'Parâmetros'!$K$9,COUNTIFS($B$5:$B$104,B19,$C$5:$C$104,C19,$E$5:$E$104,E19,$I$5:$I$104,"<>"&'Parâmetros'!$K$8,$I$5:$I$104,"<>"&'Parâmetros'!$K$9)>1),"Conferir horário","OK"))))
G20: =IF(F20="","",IFERROR(VLOOKUP(F20,'Parâmetros'!$E$5:$I$104,3,FALSE),"")) | H20: =IF(OR(C20="",NOT(ISNUMBER(G20))),"",IFERROR(C20+G20/1440,"")) | J20: =IF(F20="","",IFERROR(VLOOKUP(F20,'Parâmetros'!$E$5:$I$104,4,FALSE),"")) | L20: =IF(COUNTA(A20:F20)=0,"",IF(OR(A20="",B20="",C20="",D20="",E20="",F20="",I20=""),"Conferir campos",IF(OR(COUNTIF($A$5:$A$104,A20)>1,NOT(ISNUMBER(B20)),NOT(ISNUMBER(C20)),NOT(ISNUMBER(G20)),NOT(ISNUMBER(H20)),NOT(ISNUMBER(J20)),B20<'Parâmetros'!$N$5,B20>'Parâmetros'!$N$6,C20<'Parâmetros'!$N$7,H20>'Parâmetros'!$N$8,COUNTIF('Parâmetros'!$K$5:$K$9,I20)=0,IFERROR(VLOOKUP(E20,'Parâmetros'!$A$5:$C$104,3,FALSE),"")<>'Parâmetros'!$K$12,IFERROR(VLOOKUP(F20,'Parâmetros'!$E$5:$I$104,5,FALSE),"")<>'Parâmetros'!$K$12),"Conferir dados",IF(AND(I20<>'Parâmetros'!$K$8,I20<>'Parâmetros'!$K$9,COUNTIFS($B$5:$B$104,B20,$C$5:$C$104,C20,$E$5:$E$104,E20,$I$5:$I$104,"<>"&'Parâmetros'!$K$8,$I$5:$I$104,"<>"&'Parâmetros'!$K$9)>1),"Conferir horário","OK"))))
G21: =IF(F21="","",IFERROR(VLOOKUP(F21,'Parâmetros'!$E$5:$I$104,3,FALSE),"")) | H21: =IF(OR(C21="",NOT(ISNUMBER(G21))),"",IFERROR(C21+G21/1440,"")) | J21: =IF(F21="","",IFERROR(VLOOKUP(F21,'Parâmetros'!$E$5:$I$104,4,FALSE),"")) | L21: =IF(COUNTA(A21:F21)=0,"",IF(OR(A21="",B21="",C21="",D21="",E21="",F21="",I21=""),"Conferir campos",IF(OR(COUNTIF($A$5:$A$104,A21)>1,NOT(ISNUMBER(B21)),NOT(ISNUMBER(C21)),NOT(ISNUMBER(G21)),NOT(ISNUMBER(H21)),NOT(ISNUMBER(J21)),B21<'Parâmetros'!$N$5,B21>'Parâmetros'!$N$6,C21<'Parâmetros'!$N$7,H21>'Parâmetros'!$N$8,COUNTIF('Parâmetros'!$K$5:$K$9,I21)=0,IFERROR(VLOOKUP(E21,'Parâmetros'!$A$5:$C$104,3,FALSE),"")<>'Parâmetros'!$K$12,IFERROR(VLOOKUP(F21,'Parâmetros'!$E$5:$I$104,5,FALSE),"")<>'Parâmetros'!$K$12),"Conferir dados",IF(AND(I21<>'Parâmetros'!$K$8,I21<>'Parâmetros'!$K$9,COUNTIFS($B$5:$B$104,B21,$C$5:$C$104,C21,$E$5:$E$104,E21,$I$5:$I$104,"<>"&'Parâmetros'!$K$8,$I$5:$I$104,"<>"&'Parâmetros'!$K$9)>1),"Conferir horário","OK"))))
G22: =IF(F22="","",IFERROR(VLOOKUP(F22,'Parâmetros'!$E$5:$I$104,3,FALSE),"")) | H22: =IF(OR(C22="",NOT(ISNUMBER(G22))),"",IFERROR(C22+G22/1440,"")) | J22: =IF(F22="","",IFERROR(VLOOKUP(F22,'Parâmetros'!$E$5:$I$104,4,FALSE),"")) | L22: =IF(COUNTA(A22:F22)=0,"",IF(OR(A22="",B22="",C22="",D22="",E22="",F22="",I22=""),"Conferir campos",IF(OR(COUNTIF($A$5:$A$104,A22)>1,NOT(ISNUMBER(B22)),NOT(ISNUMBER(C22)),NOT(ISNUMBER(G22)),NOT(ISNUMBER(H22)),NOT(ISNUMBER(J22)),B22<'Parâmetros'!$N$5,B22>'Parâmetros'!$N$6,C22<'Parâmetros'!$N$7,H22>'Parâmetros'!$N$8,COUNTIF('Parâmetros'!$K$5:$K$9,I22)=0,IFERROR(VLOOKUP(E22,'Parâmetros'!$A$5:$C$104,3,FALSE),"")<>'Parâmetros'!$K$12,IFERROR(VLOOKUP(F22,'Parâmetros'!$E$5:$I$104,5,FALSE),"")<>'Parâmetros'!$K$12),"Conferir dados",IF(AND(I22<>'Parâmetros'!$K$8,I22<>'Parâmetros'!$K$9,COUNTIFS($B$5:$B$104,B22,$C$5:$C$104,C22,$E$5:$E$104,E22,$I$5:$I$104,"<>"&'Parâmetros'!$K$8,$I$5:$I$104,"<>"&'Parâmetros'!$K$9)>1),"Conferir horário","OK"))))
G23: =IF(F23="","",IFERROR(VLOOKUP(F23,'Parâmetros'!$E$5:$I$104,3,FALSE),"")) | H23: =IF(OR(C23="",NOT(ISNUMBER(G23))),"",IFERROR(C23+G23/1440,"")) | J23: =IF(F23="","",IFERROR(VLOOKUP(F23,'Parâmetros'!$E$5:$I$104,4,FALSE),"")) | L23: =IF(COUNTA(A23:F23)=0,"",IF(OR(A23="",B23="",C23="",D23="",E23="",F23="",I23=""),"Conferir campos",IF(OR(COUNTIF($A$5:$A$104,A23)>1,NOT(ISNUMBER(B23)),NOT(ISNUMBER(C23)),NOT(ISNUMBER(G23)),NOT(ISNUMBER(H23)),NOT(ISNUMBER(J23)),B23<'Parâmetros'!$N$5,B23>'Parâmetros'!$N$6,C23<'Parâmetros'!$N$7,H23>'Parâmetros'!$N$8,COUNTIF('Parâmetros'!$K$5:$K$9,I23)=0,IFERROR(VLOOKUP(E23,'Parâmetros'!$A$5:$C$104,3,FALSE),"")<>'Parâmetros'!$K$12,IFERROR(VLOOKUP(F23,'Parâmetros'!$E$5:$I$104,5,FALSE),"")<>'Parâmetros'!$K$12),"Conferir dados",IF(AND(I23<>'Parâmetros'!$K$8,I23<>'Parâmetros'!$K$9,COUNTIFS($B$5:$B$104,B23,$C$5:$C$104,C23,$E$5:$E$104,E23,$I$5:$I$104,"<>"&'Parâmetros'!$K$8,$I$5:$I$104,"<>"&'Parâmetros'!$K$9)>1),"Conferir horário","OK"))))
G24: =IF(F24="","",IFERROR(VLOOKUP(F24,'Parâmetros'!$E$5:$I$104,3,FALSE),"")) | H24: =IF(OR(C24="",NOT(ISNUMBER(G24))),"",IFERROR(C24+G24/1440,"")) | J24: =IF(F24="","",IFERROR(VLOOKUP(F24,'Parâmetros'!$E$5:$I$104,4,FALSE),"")) | L24: =IF(COUNTA(A24:F24)=0,"",IF(OR(A24="",B24="",C24="",D24="",E24="",F24="",I24=""),"Conferir campos",IF(OR(COUNTIF($A$5:$A$104,A24)>1,NOT(ISNUMBER(B24)),NOT(ISNUMBER(C24)),NOT(ISNUMBER(G24)),NOT(ISNUMBER(H24)),NOT(ISNUMBER(J24)),B24<'Parâmetros'!$N$5,B24>'Parâmetros'!$N$6,C24<'Parâmetros'!$N$7,H24>'Parâmetros'!$N$8,COUNTIF('Parâmetros'!$K$5:$K$9,I24)=0,IFERROR(VLOOKUP(E24,'Parâmetros'!$A$5:$C$104,3,FALSE),"")<>'Parâmetros'!$K$12,IFERROR(VLOOKUP(F24,'Parâmetros'!$E$5:$I$104,5,FALSE),"")<>'Parâmetros'!$K$12),"Conferir dados",IF(AND(I24<>'Parâmetros'!$K$8,I24<>'Parâmetros'!$K$9,COUNTIFS($B$5:$B$104,B24,$C$5:$C$104,C24,$E$5:$E$104,E24,$I$5:$I$104,"<>"&'Parâmetros'!$K$8,$I$5:$I$104,"<>"&'Parâmetros'!$K$9)>1),"Conferir horário","OK"))))
G25: =IF(F25="","",IFERROR(VLOOKUP(F25,'Parâmetros'!$E$5:$I$104,3,FALSE),"")) | H25: =IF(OR(C25="",NOT(ISNUMBER(G25))),"",IFERROR(C25+G25/1440,"")) | J25: =IF(F25="","",IFERROR(VLOOKUP(F25,'Parâmetros'!$E$5:$I$104,4,FALSE),"")) | L25: =IF(COUNTA(A25:F25)=0,"",IF(OR(A25="",B25="",C25="",D25="",E25="",F25="",I25=""),"Conferir campos",IF(OR(COUNTIF($A$5:$A$104,A25)>1,NOT(ISNUMBER(B25)),NOT(ISNUMBER(C25)),NOT(ISNUMBER(G25)),NOT(ISNUMBER(H25)),NOT(ISNUMBER(J25)),B25<'Parâmetros'!$N$5,B25>'Parâmetros'!$N$6,C25<'Parâmetros'!$N$7,H25>'Parâmetros'!$N$8,COUNTIF('Parâmetros'!$K$5:$K$9,I25)=0,IFERROR(VLOOKUP(E25,'Parâmetros'!$A$5:$C$104,3,FALSE),"")<>'Parâmetros'!$K$12,IFERROR(VLOOKUP(F25,'Parâmetros'!$E$5:$I$104,5,FALSE),"")<>'Parâmetros'!$K$12),"Conferir dados",IF(AND(I25<>'Parâmetros'!$K$8,I25<>'Parâmetros'!$K$9,COUNTIFS($B$5:$B$104,B25,$C$5:$C$104,C25,$E$5:$E$104,E25,$I$5:$I$104,"<>"&'Parâmetros'!$K$8,$I$5:$I$104,"<>"&'Parâmetros'!$K$9)>1),"Conferir horário","OK"))))
G26: =IF(F26="","",IFERROR(VLOOKUP(F26,'Parâmetros'!$E$5:$I$104,3,FALSE),"")) | H26: =IF(OR(C26="",NOT(ISNUMBER(G26))),"",IFERROR(C26+G26/1440,"")) | J26: =IF(F26="","",IFERROR(VLOOKUP(F26,'Parâmetros'!$E$5:$I$104,4,FALSE),"")) | L26: =IF(COUNTA(A26:F26)=0,"",IF(OR(A26="",B26="",C26="",D26="",E26="",F26="",I26=""),"Conferir campos",IF(OR(COUNTIF($A$5:$A$104,A26)>1,NOT(ISNUMBER(B26)),NOT(ISNUMBER(C26)),NOT(ISNUMBER(G26)),NOT(ISNUMBER(H26)),NOT(ISNUMBER(J26)),B26<'Parâmetros'!$N$5,B26>'Parâmetros'!$N$6,C26<'Parâmetros'!$N$7,H26>'Parâmetros'!$N$8,COUNTIF('Parâmetros'!$K$5:$K$9,I26)=0,IFERROR(VLOOKUP(E26,'Parâmetros'!$A$5:$C$104,3,FALSE),"")<>'Parâmetros'!$K$12,IFERROR(VLOOKUP(F26,'Parâmetros'!$E$5:$I$104,5,FALSE),"")<>'Parâmetros'!$K$12),"Conferir dados",IF(AND(I26<>'Parâmetros'!$K$8,I26<>'Parâmetros'!$K$9,COUNTIFS($B$5:$B$104,B26,$C$5:$C$104,C26,$E$5:$E$104,E26,$I$5:$I$104,"<>"&'Parâmetros'!$K$8,$I$5:$I$104,"<>"&'Parâmetros'!$K$9)>1),"Conferir horário","OK"))))
... G104: =IF(F104="","",IFERROR(VLOOKUP(F104,'Parâmetros'!$E$5:$I$104,3,FALSE),"")) | H104: =IF(OR(C104="",NOT(ISNUMBER(G104))),"",IFERROR(C104+G104/1440,"")) | J104: =IF(F104="","",IFERROR(VLOOKUP(F104,'Parâmetros'!$E$5:$I$104,4,FALSE),"")) | L104: =IF(COUNTA(A104:F104)=0,"",IF(OR(A104="",B104="",C104="",D104="",E104="",F104="",I104=""),"Conferir campos",IF(OR(COUNTIF($A$5:$A$104,A104)>1,NOT(ISNUMBER(B104)),NOT(ISNUMBER(C104)),NOT(ISNUMBER(G104)),NOT(ISNUMBER(H104)),NOT(ISNUMBER(J104)),B104<'Parâmetros'!$N$5,B104>'Parâmetros'!$N$6,C104<'Parâmetros'!$N$7,H104>'Parâmetros'!$N$8,COUNTIF('Parâmetros'!$K$5:$K$9,I104)=0,IFERROR(VLOOKUP(E104,'Parâmetros'!$A$5:$C$104,3,FALSE),"")<>'Parâmetros'!$K$12,IFERROR(VLOOKUP(F104,'Parâmetros'!$E$5:$I$104,5,FALSE),"")<>'Parâmetros'!$K$12),"Conferir dados",IF(AND(I104<>'Parâmetros'!$K$8,I104<>'Parâmetros'!$K$9,COUNTIFS($B$5:$B$104,B104,$C$5:$C$104,C104,$E$5:$E$104,E104,$I$5:$I$104,"<>"&'Parâmetros'!$K$8,$I$5:$I$104,"<>"&'Parâmetros'!$K$9)>1),"Conferir horário","OK"))))

Sheet Parâmetros
A1: Parâmetros da agenda
A2: Listas e limites de planejamento editáveis. Todos os nomes e exemplos são fictícios.
A3: Profissionais | E3: Serviços | K3: Estados estáveis | M3: Limites de planejamento
A4: Profissional | B4: Código | C4: Situação | E4: Serviço | F4: Código | G4: Duração (min) | H4: Valor de referência | I4: Situação | K4: Status da agenda | M4: Premissa | N4: Valor
A5: Profissional Aurora | B5: PF-001 | C5: Ativo | E5: Corte feminino | F5: SV-001 | G5: 60 | H5: 95 | I5: Ativo | K5: Agendado | M5: Data inicial | N5: 46267
A6: Profissional Cacau | B6: PF-002 | C6: Ativo | E6: Escova | F6: SV-002 | G6: 45 | H6: 70 | I6: Ativo | K6: Confirmado | M6: Data final | N6: 46304
A7: Profissional Ipê | B7: PF-003 | C7: Ativo | E7: Manicure | F7: SV-003 | G7: 45 | H7: 45 | I7: Ativo | K7: Concluído | M7: Horário de abertura | N7: 0.33333333
A8: Profissional Lua | B8: PF-004 | C8: Ativo | E8: Pedicure | F8: SV-004 | G8: 50 | H8: 50 | I8: Ativo | K8: Cancelado | M8: Horário de encerramento | N8: 0.83333333
A9: Profissional Sol | B9: PF-005 | C9: Ativo | E9: Design de sobrancelhas | F9: SV-005 | G9: 30 | H9: 40 | I9: Ativo | K9: Não compareceu | M9: Duração mínima (min) | N9: 15
A10: Profissional Violeta | B10: PF-006 | C10: Ativo | E10: Barba | F10: SV-006 | G10: 30 | H10: 45 | I10: Ativo | M10: Duração máxima (min) | N10: 480
A11: Profissional Brisa | B11: PF-007 | C11: Ativo | E11: Hidratação capilar | F11: SV-007 | G11: 60 | H11: 110 | I11: Ativo | K11: Situação de cadastro | M11: Valor máximo de referência | N11: 2000
A12: Profissional Névoa | B12: PF-008 | C12: Inativo | E12: Penteado | F12: SV-008 | G12: 90 | H12: 160 | I12: Ativo | K12: Ativo
K13: Inativo
