Workbook

Sheet Resumo
A1: Resumo da agenda domiciliar
A2: Indicadores calculados a partir da Agenda e das premissas visíveis na aba Parâmetros. | E2: Data de referência | F2: =TODAY()
A4: Indicador | B4: Resultado | C4: Leitura
A5: Total de registros | B5: =COUNTA(Agenda!$A$5:$A$124) | C5: Linhas com ID preenchido
A6: Atendimentos ativos no horizonte | B6: =IF('Parâmetros'!$B$5="","",COUNTIFS(Agenda!$A$5:$A$124,"<>",Agenda!$B$5:$B$124,">="&TODAY(),Agenda!$B$5:$B$124,"<="&TODAY()+'Parâmetros'!$B$5-1,Agenda!$J$5:$J$124,'Parâmetros'!$A$13)+COUNTIFS(Agenda!$A$5:$A$124,"<>",Agenda!$B$5:$B$124,">="&TODAY(),Agenda!$B$5:$B$124,"<="&TODAY()+'Parâmetros'!$B$5-1,Agenda!$J$5:$J$124,'Parâmetros'!$A$14)) | C6: Planejados e confirmados
A7: Confirmados no horizonte | B7: =IF('Parâmetros'!$B$5="","",COUNTIFS(Agenda!$A$5:$A$124,"<>",Agenda!$B$5:$B$124,">="&TODAY(),Agenda!$B$5:$B$124,"<="&TODAY()+'Parâmetros'!$B$5-1,Agenda!$J$5:$J$124,'Parâmetros'!$A$14)) | C7: Status confirmado
A8: Valor previsto no horizonte | B8: =IF('Parâmetros'!$B$5="","",SUMIFS(Agenda!$K$5:$K$124,Agenda!$B$5:$B$124,">="&TODAY(),Agenda!$B$5:$B$124,"<="&TODAY()+'Parâmetros'!$B$5-1,Agenda!$J$5:$J$124,'Parâmetros'!$A$13)+SUMIFS(Agenda!$K$5:$K$124,Agenda!$B$5:$B$124,">="&TODAY(),Agenda!$B$5:$B$124,"<="&TODAY()+'Parâmetros'!$B$5-1,Agenda!$J$5:$J$124,'Parâmetros'!$A$14)) | C8: Soma de planejados e confirmados
A9: Deslocamento previsto | B9: =IF('Parâmetros'!$B$5="","",SUMIFS(Agenda!$L$5:$L$124,Agenda!$B$5:$B$124,">="&TODAY(),Agenda!$B$5:$B$124,"<="&TODAY()+'Parâmetros'!$B$5-1,Agenda!$J$5:$J$124,'Parâmetros'!$A$13)+SUMIFS(Agenda!$L$5:$L$124,Agenda!$B$5:$B$124,">="&TODAY(),Agenda!$B$5:$B$124,"<="&TODAY()+'Parâmetros'!$B$5-1,Agenda!$J$5:$J$124,'Parâmetros'!$A$14)) | C9: Minutos informados
A10: Alertas para conferência | B10: =COUNTIF(Agenda!$O$5:$O$124,"Conferir*") | C10: Revisão manual necessária
A11: Capacidade teórica no horizonte | B11: =IF(OR('Parâmetros'!$B$5="",'Parâmetros'!$B$6="",COUNTA('Parâmetros'!$G$13:$G$16)=0),"",'Parâmetros'!$B$5*'Parâmetros'!$B$6*COUNTA('Parâmetros'!$G$13:$G$16)) | C11: Dias × capacidade × equipes
A12: Ocupação teórica | B12: =IFERROR(B6/B11,"") | C12: Ativos divididos pela capacidade
A13: Concluídos no histórico | B13: =COUNTIFS(Agenda!$A$5:$A$124,"<>",Agenda!$J$5:$J$124,'Parâmetros'!$A$15) | C13: Registros com status concluído
A15: Próximos 14 dias
A16: Data | B16: Ativos | C16: Confirmados | D16: Valor previsto
A17: =TODAY()+0 | B17: =COUNTIFS(Agenda!$A$5:$A$124,"<>",Agenda!$B$5:$B$124,A17,Agenda!$J$5:$J$124,'Parâmetros'!$A$13)+COUNTIFS(Agenda!$A$5:$A$124,"<>",Agenda!$B$5:$B$124,A17,Agenda!$J$5:$J$124,'Parâmetros'!$A$14) | C17: =COUNTIFS(Agenda!$A$5:$A$124,"<>",Agenda!$B$5:$B$124,A17,Agenda!$J$5:$J$124,'Parâmetros'!$A$14) | D17: =SUMIFS(Agenda!$K$5:$K$124,Agenda!$B$5:$B$124,A17,Agenda!$J$5:$J$124,'Parâmetros'!$A$13)+SUMIFS(Agenda!$K$5:$K$124,Agenda!$B$5:$B$124,A17,Agenda!$J$5:$J$124,'Parâmetros'!$A$14)
A18: =TODAY()+1 | B18: =COUNTIFS(Agenda!$A$5:$A$124,"<>",Agenda!$B$5:$B$124,A18,Agenda!$J$5:$J$124,'Parâmetros'!$A$13)+COUNTIFS(Agenda!$A$5:$A$124,"<>",Agenda!$B$5:$B$124,A18,Agenda!$J$5:$J$124,'Parâmetros'!$A$14) | C18: =COUNTIFS(Agenda!$A$5:$A$124,"<>",Agenda!$B$5:$B$124,A18,Agenda!$J$5:$J$124,'Parâmetros'!$A$14) | D18: =SUMIFS(Agenda!$K$5:$K$124,Agenda!$B$5:$B$124,A18,Agenda!$J$5:$J$124,'Parâmetros'!$A$13)+SUMIFS(Agenda!$K$5:$K$124,Agenda!$B$5:$B$124,A18,Agenda!$J$5:$J$124,'Parâmetros'!$A$14)
A19: =TODAY()+2 | B19: =COUNTIFS(Agenda!$A$5:$A$124,"<>",Agenda!$B$5:$B$124,A19,Agenda!$J$5:$J$124,'Parâmetros'!$A$13)+COUNTIFS(Agenda!$A$5:$A$124,"<>",Agenda!$B$5:$B$124,A19,Agenda!$J$5:$J$124,'Parâmetros'!$A$14) | C19: =COUNTIFS(Agenda!$A$5:$A$124,"<>",Agenda!$B$5:$B$124,A19,Agenda!$J$5:$J$124,'Parâmetros'!$A$14) | D19: =SUMIFS(Agenda!$K$5:$K$124,Agenda!$B$5:$B$124,A19,Agenda!$J$5:$J$124,'Parâmetros'!$A$13)+SUMIFS(Agenda!$K$5:$K$124,Agenda!$B$5:$B$124,A19,Agenda!$J$5:$J$124,'Parâmetros'!$A$14)
A20: =TODAY()+3 | B20: =COUNTIFS(Agenda!$A$5:$A$124,"<>",Agenda!$B$5:$B$124,A20,Agenda!$J$5:$J$124,'Parâmetros'!$A$13)+COUNTIFS(Agenda!$A$5:$A$124,"<>",Agenda!$B$5:$B$124,A20,Agenda!$J$5:$J$124,'Parâmetros'!$A$14) | C20: =COUNTIFS(Agenda!$A$5:$A$124,"<>",Agenda!$B$5:$B$124,A20,Agenda!$J$5:$J$124,'Parâmetros'!$A$14) | D20: =SUMIFS(Agenda!$K$5:$K$124,Agenda!$B$5:$B$124,A20,Agenda!$J$5:$J$124,'Parâmetros'!$A$13)+SUMIFS(Agenda!$K$5:$K$124,Agenda!$B$5:$B$124,A20,Agenda!$J$5:$J$124,'Parâmetros'!$A$14)
A21: =TODAY()+4 | B21: =COUNTIFS(Agenda!$A$5:$A$124,"<>",Agenda!$B$5:$B$124,A21,Agenda!$J$5:$J$124,'Parâmetros'!$A$13)+COUNTIFS(Agenda!$A$5:$A$124,"<>",Agenda!$B$5:$B$124,A21,Agenda!$J$5:$J$124,'Parâmetros'!$A$14) | C21: =COUNTIFS(Agenda!$A$5:$A$124,"<>",Agenda!$B$5:$B$124,A21,Agenda!$J$5:$J$124,'Parâmetros'!$A$14) | D21: =SUMIFS(Agenda!$K$5:$K$124,Agenda!$B$5:$B$124,A21,Agenda!$J$5:$J$124,'Parâmetros'!$A$13)+SUMIFS(Agenda!$K$5:$K$124,Agenda!$B$5:$B$124,A21,Agenda!$J$5:$J$124,'Parâmetros'!$A$14)
A22: =TODAY()+5 | B22: =COUNTIFS(Agenda!$A$5:$A$124,"<>",Agenda!$B$5:$B$124,A22,Agenda!$J$5:$J$124,'Parâmetros'!$A$13)+COUNTIFS(Agenda!$A$5:$A$124,"<>",Agenda!$B$5:$B$124,A22,Agenda!$J$5:$J$124,'Parâmetros'!$A$14) | C22: =COUNTIFS(Agenda!$A$5:$A$124,"<>",Agenda!$B$5:$B$124,A22,Agenda!$J$5:$J$124,'Parâmetros'!$A$14) | D22: =SUMIFS(Agenda!$K$5:$K$124,Agenda!$B$5:$B$124,A22,Agenda!$J$5:$J$124,'Parâmetros'!$A$13)+SUMIFS(Agenda!$K$5:$K$124,Agenda!$B$5:$B$124,A22,Agenda!$J$5:$J$124,'Parâmetros'!$A$14)
A23: =TODAY()+6 | B23: =COUNTIFS(Agenda!$A$5:$A$124,"<>",Agenda!$B$5:$B$124,A23,Agenda!$J$5:$J$124,'Parâmetros'!$A$13)+COUNTIFS(Agenda!$A$5:$A$124,"<>",Agenda!$B$5:$B$124,A23,Agenda!$J$5:$J$124,'Parâmetros'!$A$14) | C23: =COUNTIFS(Agenda!$A$5:$A$124,"<>",Agenda!$B$5:$B$124,A23,Agenda!$J$5:$J$124,'Parâmetros'!$A$14) | D23: =SUMIFS(Agenda!$K$5:$K$124,Agenda!$B$5:$B$124,A23,Agenda!$J$5:$J$124,'Parâmetros'!$A$13)+SUMIFS(Agenda!$K$5:$K$124,Agenda!$B$5:$B$124,A23,Agenda!$J$5:$J$124,'Parâmetros'!$A$14)
A24: =TODAY()+7 | B24: =COUNTIFS(Agenda!$A$5:$A$124,"<>",Agenda!$B$5:$B$124,A24,Agenda!$J$5:$J$124,'Parâmetros'!$A$13)+COUNTIFS(Agenda!$A$5:$A$124,"<>",Agenda!$B$5:$B$124,A24,Agenda!$J$5:$J$124,'Parâmetros'!$A$14) | C24: =COUNTIFS(Agenda!$A$5:$A$124,"<>",Agenda!$B$5:$B$124,A24,Agenda!$J$5:$J$124,'Parâmetros'!$A$14) | D24: =SUMIFS(Agenda!$K$5:$K$124,Agenda!$B$5:$B$124,A24,Agenda!$J$5:$J$124,'Parâmetros'!$A$13)+SUMIFS(Agenda!$K$5:$K$124,Agenda!$B$5:$B$124,A24,Agenda!$J$5:$J$124,'Parâmetros'!$A$14)
A25: =TODAY()+8 | B25: =COUNTIFS(Agenda!$A$5:$A$124,"<>",Agenda!$B$5:$B$124,A25,Agenda!$J$5:$J$124,'Parâmetros'!$A$13)+COUNTIFS(Agenda!$A$5:$A$124,"<>",Agenda!$B$5:$B$124,A25,Agenda!$J$5:$J$124,'Parâmetros'!$A$14) | C25: =COUNTIFS(Agenda!$A$5:$A$124,"<>",Agenda!$B$5:$B$124,A25,Agenda!$J$5:$J$124,'Parâmetros'!$A$14) | D25: =SUMIFS(Agenda!$K$5:$K$124,Agenda!$B$5:$B$124,A25,Agenda!$J$5:$J$124,'Parâmetros'!$A$13)+SUMIFS(Agenda!$K$5:$K$124,Agenda!$B$5:$B$124,A25,Agenda!$J$5:$J$124,'Parâmetros'!$A$14)
A26: =TODAY()+9 | B26: =COUNTIFS(Agenda!$A$5:$A$124,"<>",Agenda!$B$5:$B$124,A26,Agenda!$J$5:$J$124,'Parâmetros'!$A$13)+COUNTIFS(Agenda!$A$5:$A$124,"<>",Agenda!$B$5:$B$124,A26,Agenda!$J$5:$J$124,'Parâmetros'!$A$14) | C26: =COUNTIFS(Agenda!$A$5:$A$124,"<>",Agenda!$B$5:$B$124,A26,Agenda!$J$5:$J$124,'Parâmetros'!$A$14) | D26: =SUMIFS(Agenda!$K$5:$K$124,Agenda!$B$5:$B$124,A26,Agenda!$J$5:$J$124,'Parâmetros'!$A$13)+SUMIFS(Agenda!$K$5:$K$124,Agenda!$B$5:$B$124,A26,Agenda!$J$5:$J$124,'Parâmetros'!$A$14)
A27: =TODAY()+10 | B27: =COUNTIFS(Agenda!$A$5:$A$124,"<>",Agenda!$B$5:$B$124,A27,Agenda!$J$5:$J$124,'Parâmetros'!$A$13)+COUNTIFS(Agenda!$A$5:$A$124,"<>",Agenda!$B$5:$B$124,A27,Agenda!$J$5:$J$124,'Parâmetros'!$A$14) | C27: =COUNTIFS(Agenda!$A$5:$A$124,"<>",Agenda!$B$5:$B$124,A27,Agenda!$J$5:$J$124,'Parâmetros'!$A$14) | D27: =SUMIFS(Agenda!$K$5:$K$124,Agenda!$B$5:$B$124,A27,Agenda!$J$5:$J$124,'Parâmetros'!$A$13)+SUMIFS(Agenda!$K$5:$K$124,Agenda!$B$5:$B$124,A27,Agenda!$J$5:$J$124,'Parâmetros'!$A$14)
A28: =TODAY()+11 | B28: =COUNTIFS(Agenda!$A$5:$A$124,"<>",Agenda!$B$5:$B$124,A28,Agenda!$J$5:$J$124,'Parâmetros'!$A$13)+COUNTIFS(Agenda!$A$5:$A$124,"<>",Agenda!$B$5:$B$124,A28,Agenda!$J$5:$J$124,'Parâmetros'!$A$14) | C28: =COUNTIFS(Agenda!$A$5:$A$124,"<>",Agenda!$B$5:$B$124,A28,Agenda!$J$5:$J$124,'Parâmetros'!$A$14) | D28: =SUMIFS(Agenda!$K$5:$K$124,Agenda!$B$5:$B$124,A28,Agenda!$J$5:$J$124,'Parâmetros'!$A$13)+SUMIFS(Agenda!$K$5:$K$124,Agenda!$B$5:$B$124,A28,Agenda!$J$5:$J$124,'Parâmetros'!$A$14)
A29: =TODAY()+12 | B29: =COUNTIFS(Agenda!$A$5:$A$124,"<>",Agenda!$B$5:$B$124,A29,Agenda!$J$5:$J$124,'Parâmetros'!$A$13)+COUNTIFS(Agenda!$A$5:$A$124,"<>",Agenda!$B$5:$B$124,A29,Agenda!$J$5:$J$124,'Parâmetros'!$A$14) | C29: =COUNTIFS(Agenda!$A$5:$A$124,"<>",Agenda!$B$5:$B$124,A29,Agenda!$J$5:$J$124,'Parâmetros'!$A$14) | D29: =SUMIFS(Agenda!$K$5:$K$124,Agenda!$B$5:$B$124,A29,Agenda!$J$5:$J$124,'Parâmetros'!$A$13)+SUMIFS(Agenda!$K$5:$K$124,Agenda!$B$5:$B$124,A29,Agenda!$J$5:$J$124,'Parâmetros'!$A$14)
A30: =TODAY()+13 | B30: =COUNTIFS(Agenda!$A$5:$A$124,"<>",Agenda!$B$5:$B$124,A30,Agenda!$J$5:$J$124,'Parâmetros'!$A$13)+COUNTIFS(Agenda!$A$5:$A$124,"<>",Agenda!$B$5:$B$124,A30,Agenda!$J$5:$J$124,'Parâmetros'!$A$14) | C30: =COUNTIFS(Agenda!$A$5:$A$124,"<>",Agenda!$B$5:$B$124,A30,Agenda!$J$5:$J$124,'Parâmetros'!$A$14) | D30: =SUMIFS(Agenda!$K$5:$K$124,Agenda!$B$5:$B$124,A30,Agenda!$J$5:$J$124,'Parâmetros'!$A$13)+SUMIFS(Agenda!$K$5:$K$124,Agenda!$B$5:$B$124,A30,Agenda!$J$5:$J$124,'Parâmetros'!$A$14)

Sheet Agenda
A1: Agenda de atendimento domiciliar de beleza
A2: Células rosa são editáveis. Alertas solicitam conferência manual e não enviam mensagens nem alteram status.
A4: ID | B4: Data | C4: Início | D4: Fim | E4: Cliente / referência | F4: Serviço | G4: Endereço do atendimento | H4: Região | I4: Equipe responsável | J4: Status | K4: Valor previsto (R$) | L4: Deslocamento (min) | M4: Saída prevista | N4: Duração (min) | O4: Conferência
A5: ATD-FIC-001 | B5: 46271 | C5: 0.375 | D5: 0.41666667 | E5: Cliente fictício Coral-01 | F5: Escova | G5: Endereço fictício Alfa, nº 10 | H5: Zona fictícia Coral | I5: Equipe fictícia A | J5: Concluído | K5: 120 | L5: 25 | M5: =IF(OR(B5="",C5="",L5=""),"",B5+C5-(L5/1440)) | N5: =IF(OR(C5="",D5=""),"",IF(D5>C5,(D5-C5)*1440,"")) | O5: =IF(A5="","",IF(OR(B5="",C5="",D5="",E5="",F5="",G5="",H5="",I5="",J5="",K5="",L5=""),"Conferir dados",IF(D5<=C5,"Conferir horário",IF(OR(J5='Parâmetros'!$A$16,J5='Parâmetros'!$A$15),"",IF('Parâmetros'!$B$7="","Conferir parâmetros",IF(L5>'Parâmetros'!$B$7,"Conferir deslocamento",IF(COUNTIFS($B$5:$B$124,B5,$I$5:$I$124,I5,$C$5:$C$124,"<"&D5,$D$5:$D$124,">"&C5,$J$5:$J$124,"<>"&'Parâmetros'!$A$16)>1,"Conferir sobreposição","")))))))
A6: ATD-FIC-002 | B6: 46273 | C6: 0.58333333 | D6: 0.64583333 | E6: Cliente fictício Lavanda-02 | F6: Manicure | G6: Endereço fictício Beta, nº 22 | H6: Zona fictícia Lavanda | I6: Equipe fictícia B | J6: Concluído | K6: 85 | L6: 30 | M6: =IF(OR(B6="",C6="",L6=""),"",B6+C6-(L6/1440)) | N6: =IF(OR(C6="",D6=""),"",IF(D6>C6,(D6-C6)*1440,"")) | O6: =IF(A6="","",IF(OR(B6="",C6="",D6="",E6="",F6="",G6="",H6="",I6="",J6="",K6="",L6=""),"Conferir dados",IF(D6<=C6,"Conferir horário",IF(OR(J6='Parâmetros'!$A$16,J6='Parâmetros'!$A$15),"",IF('Parâmetros'!$B$7="","Conferir parâmetros",IF(L6>'Parâmetros'!$B$7,"Conferir deslocamento",IF(COUNTIFS($B$5:$B$124,B6,$I$5:$I$124,I6,$C$5:$C$124,"<"&D6,$D$5:$D$124,">"&C6,$J$5:$J$124,"<>"&'Parâmetros'!$A$16)>1,"Conferir sobreposição","")))))))
A7: ATD-FIC-003 | B7: 46274 | C7: 0.35416667 | D7: 0.39583333 | E7: Cliente fictício Pérola-03 | F7: Design de sobrancelhas | G7: Endereço fictício Gama, nº 7 | H7: Zona fictícia Pérola | I7: Equipe fictícia C | J7: Confirmado | K7: 70 | L7: 20 | M7: =IF(OR(B7="",C7="",L7=""),"",B7+C7-(L7/1440)) | N7: =IF(OR(C7="",D7=""),"",IF(D7>C7,(D7-C7)*1440,"")) | O7: =IF(A7="","",IF(OR(B7="",C7="",D7="",E7="",F7="",G7="",H7="",I7="",J7="",K7="",L7=""),"Conferir dados",IF(D7<=C7,"Conferir horário",IF(OR(J7='Parâmetros'!$A$16,J7='Parâmetros'!$A$15),"",IF('Parâmetros'!$B$7="","Conferir parâmetros",IF(L7>'Parâmetros'!$B$7,"Conferir deslocamento",IF(COUNTIFS($B$5:$B$124,B7,$I$5:$I$124,I7,$C$5:$C$124,"<"&D7,$D$5:$D$124,">"&C7,$J$5:$J$124,"<>"&'Parâmetros'!$A$16)>1,"Conferir sobreposição","")))))))
A8: ATD-FIC-004 | B8: 46275 | C8: 0.41666667 | D8: 0.47916667 | E8: Cliente fictício Rubi-04 | F8: Maquiagem social | G8: Endereço fictício Delta, nº 18 | H8: Zona fictícia Rubi | I8: Equipe fictícia A | J8: Confirmado | K8: 180 | L8: 35 | M8: =IF(OR(B8="",C8="",L8=""),"",B8+C8-(L8/1440)) | N8: =IF(OR(C8="",D8=""),"",IF(D8>C8,(D8-C8)*1440,"")) | O8: =IF(A8="","",IF(OR(B8="",C8="",D8="",E8="",F8="",G8="",H8="",I8="",J8="",K8="",L8=""),"Conferir dados",IF(D8<=C8,"Conferir horário",IF(OR(J8='Parâmetros'!$A$16,J8='Parâmetros'!$A$15),"",IF('Parâmetros'!$B$7="","Conferir parâmetros",IF(L8>'Parâmetros'!$B$7,"Conferir deslocamento",IF(COUNTIFS($B$5:$B$124,B8,$I$5:$I$124,I8,$C$5:$C$124,"<"&D8,$D$5:$D$124,">"&C8,$J$5:$J$124,"<>"&'Parâmetros'!$A$16)>1,"Conferir sobreposição","")))))))
A9: ATD-FIC-005 | B9: 46275 | C9: 0.45833333 | D9: 0.5 | E9: Cliente fictício Safira-05 | F9: Pedicure | G9: Endereço fictício Épsilon, nº 5 | H9: Zona fictícia Safira | I9: Equipe fictícia A | J9: Planejado | K9: 90 | L9: 20 | M9: =IF(OR(B9="",C9="",L9=""),"",B9+C9-(L9/1440)) | N9: =IF(OR(C9="",D9=""),"",IF(D9>C9,(D9-C9)*1440,"")) | O9: =IF(A9="","",IF(OR(B9="",C9="",D9="",E9="",F9="",G9="",H9="",I9="",J9="",K9="",L9=""),"Conferir dados",IF(D9<=C9,"Conferir horário",IF(OR(J9='Parâmetros'!$A$16,J9='Parâmetros'!$A$15),"",IF('Parâmetros'!$B$7="","Conferir parâmetros",IF(L9>'Parâmetros'!$B$7,"Conferir deslocamento",IF(COUNTIFS($B$5:$B$124,B9,$I$5:$I$124,I9,$C$5:$C$124,"<"&D9,$D$5:$D$124,">"&C9,$J$5:$J$124,"<>"&'Parâmetros'!$A$16)>1,"Conferir sobreposição","")))))))
A10: ATD-FIC-006 | B10: 46276 | C10: 0.54166667 | D10: 0.58333333 | E10: Cliente fictício Coral-06 | F10: Corte de cabelo | G10: Endereço fictício Zeta, nº 31 | H10: Zona fictícia Coral | I10: Equipe fictícia D | J10: Confirmado | K10: 110 | L10: 75 | M10: =IF(OR(B10="",C10="",L10=""),"",B10+C10-(L10/1440)) | N10: =IF(OR(C10="",D10=""),"",IF(D10>C10,(D10-C10)*1440,"")) | O10: =IF(A10="","",IF(OR(B10="",C10="",D10="",E10="",F10="",G10="",H10="",I10="",J10="",K10="",L10=""),"Conferir dados",IF(D10<=C10,"Conferir horário",IF(OR(J10='Parâmetros'!$A$16,J10='Parâmetros'!$A$15),"",IF('Parâmetros'!$B$7="","Conferir parâmetros",IF(L10>'Parâmetros'!$B$7,"Conferir deslocamento",IF(COUNTIFS($B$5:$B$124,B10,$I$5:$I$124,I10,$C$5:$C$124,"<"&D10,$D$5:$D$124,">"&C10,$J$5:$J$124,"<>"&'Parâmetros'!$A$16)>1,"Conferir sobreposição","")))))))
A11: ATD-FIC-007 | B11: 46277 | C11: 0.625 | D11: 0.6875 | E11: Cliente fictício Lavanda-07 | F11: Escova | G11: Endereço fictício Eta, nº 12 | H11: Zona fictícia Lavanda | I11: Equipe fictícia B | J11: Planejado | K11: 130 | L11: 40 | M11: =IF(OR(B11="",C11="",L11=""),"",B11+C11-(L11/1440)) | N11: =IF(OR(C11="",D11=""),"",IF(D11>C11,(D11-C11)*1440,"")) | O11: =IF(A11="","",IF(OR(B11="",C11="",D11="",E11="",F11="",G11="",H11="",I11="",J11="",K11="",L11=""),"Conferir dados",IF(D11<=C11,"Conferir horário",IF(OR(J11='Parâmetros'!$A$16,J11='Parâmetros'!$A$15),"",IF('Parâmetros'!$B$7="","Conferir parâmetros",IF(L11>'Parâmetros'!$B$7,"Conferir deslocamento",IF(COUNTIFS($B$5:$B$124,B11,$I$5:$I$124,I11,$C$5:$C$124,"<"&D11,$D$5:$D$124,">"&C11,$J$5:$J$124,"<>"&'Parâmetros'!$A$16)>1,"Conferir sobreposição","")))))))
A12: ATD-FIC-008 | B12: 46279 | C12: 0.375 | D12: 0.41666667 | E12: Cliente fictício Pérola-08 | F12: Manicure | G12: Endereço fictício Teta, nº 9 | H12: Zona fictícia Pérola | I12: Equipe fictícia C | J12: Cancelado | K12: 85 | L12: 25 | M12: =IF(OR(B12="",C12="",L12=""),"",B12+C12-(L12/1440)) | N12: =IF(OR(C12="",D12=""),"",IF(D12>C12,(D12-C12)*1440,"")) | O12: =IF(A12="","",IF(OR(B12="",C12="",D12="",E12="",F12="",G12="",H12="",I12="",J12="",K12="",L12=""),"Conferir dados",IF(D12<=C12,"Conferir horário",IF(OR(J12='Parâmetros'!$A$16,J12='Parâmetros'!$A$15),"",IF('Parâmetros'!$B$7="","Conferir parâmetros",IF(L12>'Parâmetros'!$B$7,"Conferir deslocamento",IF(COUNTIFS($B$5:$B$124,B12,$I$5:$I$124,I12,$C$5:$C$124,"<"&D12,$D$5:$D$124,">"&C12,$J$5:$J$124,"<>"&'Parâmetros'!$A$16)>1,"Conferir sobreposição","")))))))
A13: ATD-FIC-009 | B13: 46281 | C13: 0.66666667 | D13: 0.70833333 | E13: Cliente fictício Rubi-09 | F13: Design de sobrancelhas | G13: Endereço fictício Iota, nº 26 | H13: Zona fictícia Rubi | I13: Equipe fictícia D | J13: Confirmado | K13: 75 | L13: 30 | M13: =IF(OR(B13="",C13="",L13=""),"",B13+C13-(L13/1440)) | N13: =IF(OR(C13="",D13=""),"",IF(D13>C13,(D13-C13)*1440,"")) | O13: =IF(A13="","",IF(OR(B13="",C13="",D13="",E13="",F13="",G13="",H13="",I13="",J13="",K13="",L13=""),"Conferir dados",IF(D13<=C13,"Conferir horário",IF(OR(J13='Parâmetros'!$A$16,J13='Parâmetros'!$A$15),"",IF('Parâmetros'!$B$7="","Conferir parâmetros",IF(L13>'Parâmetros'!$B$7,"Conferir deslocamento",IF(COUNTIFS($B$5:$B$124,B13,$I$5:$I$124,I13,$C$5:$C$124,"<"&D13,$D$5:$D$124,">"&C13,$J$5:$J$124,"<>"&'Parâmetros'!$A$16)>1,"Conferir sobreposição","")))))))
A14: ATD-FIC-010 | B14: 46284 | C14: 0.41666667 | D14: 0.5 | E14: Cliente fictício Safira-10 | F14: Maquiagem social | G14: Endereço fictício Capa, nº 14 | H14: Zona fictícia Safira | I14: Equipe fictícia B | J14: Planejado | K14: 210 | L14: 45 | M14: =IF(OR(B14="",C14="",L14=""),"",B14+C14-(L14/1440)) | N14: =IF(OR(C14="",D14=""),"",IF(D14>C14,(D14-C14)*1440,"")) | O14: =IF(A14="","",IF(OR(B14="",C14="",D14="",E14="",F14="",G14="",H14="",I14="",J14="",K14="",L14=""),"Conferir dados",IF(D14<=C14,"Conferir horário",IF(OR(J14='Parâmetros'!$A$16,J14='Parâmetros'!$A$15),"",IF('Parâmetros'!$B$7="","Conferir parâmetros",IF(L14>'Parâmetros'!$B$7,"Conferir deslocamento",IF(COUNTIFS($B$5:$B$124,B14,$I$5:$I$124,I14,$C$5:$C$124,"<"&D14,$D$5:$D$124,">"&C14,$J$5:$J$124,"<>"&'Parâmetros'!$A$16)>1,"Conferir sobreposição","")))))))
M15: =IF(OR(B15="",C15="",L15=""),"",B15+C15-(L15/1440)) | N15: =IF(OR(C15="",D15=""),"",IF(D15>C15,(D15-C15)*1440,"")) | O15: =IF(A15="","",IF(OR(B15="",C15="",D15="",E15="",F15="",G15="",H15="",I15="",J15="",K15="",L15=""),"Conferir dados",IF(D15<=C15,"Conferir horário",IF(OR(J15='Parâmetros'!$A$16,J15='Parâmetros'!$A$15),"",IF('Parâmetros'!$B$7="","Conferir parâmetros",IF(L15>'Parâmetros'!$B$7,"Conferir deslocamento",IF(COUNTIFS($B$5:$B$124,B15,$I$5:$I$124,I15,$C$5:$C$124,"<"&D15,$D$5:$D$124,">"&C15,$J$5:$J$124,"<>"&'Parâmetros'!$A$16)>1,"Conferir sobreposição","")))))))
M16: =IF(OR(B16="",C16="",L16=""),"",B16+C16-(L16/1440)) | N16: =IF(OR(C16="",D16=""),"",IF(D16>C16,(D16-C16)*1440,"")) | O16: =IF(A16="","",IF(OR(B16="",C16="",D16="",E16="",F16="",G16="",H16="",I16="",J16="",K16="",L16=""),"Conferir dados",IF(D16<=C16,"Conferir horário",IF(OR(J16='Parâmetros'!$A$16,J16='Parâmetros'!$A$15),"",IF('Parâmetros'!$B$7="","Conferir parâmetros",IF(L16>'Parâmetros'!$B$7,"Conferir deslocamento",IF(COUNTIFS($B$5:$B$124,B16,$I$5:$I$124,I16,$C$5:$C$124,"<"&D16,$D$5:$D$124,">"&C16,$J$5:$J$124,"<>"&'Parâmetros'!$A$16)>1,"Conferir sobreposição","")))))))
M17: =IF(OR(B17="",C17="",L17=""),"",B17+C17-(L17/1440)) | N17: =IF(OR(C17="",D17=""),"",IF(D17>C17,(D17-C17)*1440,"")) | O17: =IF(A17="","",IF(OR(B17="",C17="",D17="",E17="",F17="",G17="",H17="",I17="",J17="",K17="",L17=""),"Conferir dados",IF(D17<=C17,"Conferir horário",IF(OR(J17='Parâmetros'!$A$16,J17='Parâmetros'!$A$15),"",IF('Parâmetros'!$B$7="","Conferir parâmetros",IF(L17>'Parâmetros'!$B$7,"Conferir deslocamento",IF(COUNTIFS($B$5:$B$124,B17,$I$5:$I$124,I17,$C$5:$C$124,"<"&D17,$D$5:$D$124,">"&C17,$J$5:$J$124,"<>"&'Parâmetros'!$A$16)>1,"Conferir sobreposição","")))))))
M18: =IF(OR(B18="",C18="",L18=""),"",B18+C18-(L18/1440)) | N18: =IF(OR(C18="",D18=""),"",IF(D18>C18,(D18-C18)*1440,"")) | O18: =IF(A18="","",IF(OR(B18="",C18="",D18="",E18="",F18="",G18="",H18="",I18="",J18="",K18="",L18=""),"Conferir dados",IF(D18<=C18,"Conferir horário",IF(OR(J18='Parâmetros'!$A$16,J18='Parâmetros'!$A$15),"",IF('Parâmetros'!$B$7="","Conferir parâmetros",IF(L18>'Parâmetros'!$B$7,"Conferir deslocamento",IF(COUNTIFS($B$5:$B$124,B18,$I$5:$I$124,I18,$C$5:$C$124,"<"&D18,$D$5:$D$124,">"&C18,$J$5:$J$124,"<>"&'Parâmetros'!$A$16)>1,"Conferir sobreposição","")))))))
M19: =IF(OR(B19="",C19="",L19=""),"",B19+C19-(L19/1440)) | N19: =IF(OR(C19="",D19=""),"",IF(D19>C19,(D19-C19)*1440,"")) | O19: =IF(A19="","",IF(OR(B19="",C19="",D19="",E19="",F19="",G19="",H19="",I19="",J19="",K19="",L19=""),"Conferir dados",IF(D19<=C19,"Conferir horário",IF(OR(J19='Parâmetros'!$A$16,J19='Parâmetros'!$A$15),"",IF('Parâmetros'!$B$7="","Conferir parâmetros",IF(L19>'Parâmetros'!$B$7,"Conferir deslocamento",IF(COUNTIFS($B$5:$B$124,B19,$I$5:$I$124,I19,$C$5:$C$124,"<"&D19,$D$5:$D$124,">"&C19,$J$5:$J$124,"<>"&'Parâmetros'!$A$16)>1,"Conferir sobreposição","")))))))
M20: =IF(OR(B20="",C20="",L20=""),"",B20+C20-(L20/1440)) | N20: =IF(OR(C20="",D20=""),"",IF(D20>C20,(D20-C20)*1440,"")) | O20: =IF(A20="","",IF(OR(B20="",C20="",D20="",E20="",F20="",G20="",H20="",I20="",J20="",K20="",L20=""),"Conferir dados",IF(D20<=C20,"Conferir horário",IF(OR(J20='Parâmetros'!$A$16,J20='Parâmetros'!$A$15),"",IF('Parâmetros'!$B$7="","Conferir parâmetros",IF(L20>'Parâmetros'!$B$7,"Conferir deslocamento",IF(COUNTIFS($B$5:$B$124,B20,$I$5:$I$124,I20,$C$5:$C$124,"<"&D20,$D$5:$D$124,">"&C20,$J$5:$J$124,"<>"&'Parâmetros'!$A$16)>1,"Conferir sobreposição","")))))))
M21: =IF(OR(B21="",C21="",L21=""),"",B21+C21-(L21/1440)) | N21: =IF(OR(C21="",D21=""),"",IF(D21>C21,(D21-C21)*1440,"")) | O21: =IF(A21="","",IF(OR(B21="",C21="",D21="",E21="",F21="",G21="",H21="",I21="",J21="",K21="",L21=""),"Conferir dados",IF(D21<=C21,"Conferir horário",IF(OR(J21='Parâmetros'!$A$16,J21='Parâmetros'!$A$15),"",IF('Parâmetros'!$B$7="","Conferir parâmetros",IF(L21>'Parâmetros'!$B$7,"Conferir deslocamento",IF(COUNTIFS($B$5:$B$124,B21,$I$5:$I$124,I21,$C$5:$C$124,"<"&D21,$D$5:$D$124,">"&C21,$J$5:$J$124,"<>"&'Parâmetros'!$A$16)>1,"Conferir sobreposição","")))))))
M22: =IF(OR(B22="",C22="",L22=""),"",B22+C22-(L22/1440)) | N22: =IF(OR(C22="",D22=""),"",IF(D22>C22,(D22-C22)*1440,"")) | O22: =IF(A22="","",IF(OR(B22="",C22="",D22="",E22="",F22="",G22="",H22="",I22="",J22="",K22="",L22=""),"Conferir dados",IF(D22<=C22,"Conferir horário",IF(OR(J22='Parâmetros'!$A$16,J22='Parâmetros'!$A$15),"",IF('Parâmetros'!$B$7="","Conferir parâmetros",IF(L22>'Parâmetros'!$B$7,"Conferir deslocamento",IF(COUNTIFS($B$5:$B$124,B22,$I$5:$I$124,I22,$C$5:$C$124,"<"&D22,$D$5:$D$124,">"&C22,$J$5:$J$124,"<>"&'Parâmetros'!$A$16)>1,"Conferir sobreposição","")))))))
M23: =IF(OR(B23="",C23="",L23=""),"",B23+C23-(L23/1440)) | N23: =IF(OR(C23="",D23=""),"",IF(D23>C23,(D23-C23)*1440,"")) | O23: =IF(A23="","",IF(OR(B23="",C23="",D23="",E23="",F23="",G23="",H23="",I23="",J23="",K23="",L23=""),"Conferir dados",IF(D23<=C23,"Conferir horário",IF(OR(J23='Parâmetros'!$A$16,J23='Parâmetros'!$A$15),"",IF('Parâmetros'!$B$7="","Conferir parâmetros",IF(L23>'Parâmetros'!$B$7,"Conferir deslocamento",IF(COUNTIFS($B$5:$B$124,B23,$I$5:$I$124,I23,$C$5:$C$124,"<"&D23,$D$5:$D$124,">"&C23,$J$5:$J$124,"<>"&'Parâmetros'!$A$16)>1,"Conferir sobreposição","")))))))
M24: =IF(OR(B24="",C24="",L24=""),"",B24+C24-(L24/1440)) | N24: =IF(OR(C24="",D24=""),"",IF(D24>C24,(D24-C24)*1440,"")) | O24: =IF(A24="","",IF(OR(B24="",C24="",D24="",E24="",F24="",G24="",H24="",I24="",J24="",K24="",L24=""),"Conferir dados",IF(D24<=C24,"Conferir horário",IF(OR(J24='Parâmetros'!$A$16,J24='Parâmetros'!$A$15),"",IF('Parâmetros'!$B$7="","Conferir parâmetros",IF(L24>'Parâmetros'!$B$7,"Conferir deslocamento",IF(COUNTIFS($B$5:$B$124,B24,$I$5:$I$124,I24,$C$5:$C$124,"<"&D24,$D$5:$D$124,">"&C24,$J$5:$J$124,"<>"&'Parâmetros'!$A$16)>1,"Conferir sobreposição","")))))))
M25: =IF(OR(B25="",C25="",L25=""),"",B25+C25-(L25/1440)) | N25: =IF(OR(C25="",D25=""),"",IF(D25>C25,(D25-C25)*1440,"")) | O25: =IF(A25="","",IF(OR(B25="",C25="",D25="",E25="",F25="",G25="",H25="",I25="",J25="",K25="",L25=""),"Conferir dados",IF(D25<=C25,"Conferir horário",IF(OR(J25='Parâmetros'!$A$16,J25='Parâmetros'!$A$15),"",IF('Parâmetros'!$B$7="","Conferir parâmetros",IF(L25>'Parâmetros'!$B$7,"Conferir deslocamento",IF(COUNTIFS($B$5:$B$124,B25,$I$5:$I$124,I25,$C$5:$C$124,"<"&D25,$D$5:$D$124,">"&C25,$J$5:$J$124,"<>"&'Parâmetros'!$A$16)>1,"Conferir sobreposição","")))))))
M26: =IF(OR(B26="",C26="",L26=""),"",B26+C26-(L26/1440)) | N26: =IF(OR(C26="",D26=""),"",IF(D26>C26,(D26-C26)*1440,"")) | O26: =IF(A26="","",IF(OR(B26="",C26="",D26="",E26="",F26="",G26="",H26="",I26="",J26="",K26="",L26=""),"Conferir dados",IF(D26<=C26,"Conferir horário",IF(OR(J26='Parâmetros'!$A$16,J26='Parâmetros'!$A$15),"",IF('Parâmetros'!$B$7="","Conferir parâmetros",IF(L26>'Parâmetros'!$B$7,"Conferir deslocamento",IF(COUNTIFS($B$5:$B$124,B26,$I$5:$I$124,I26,$C$5:$C$124,"<"&D26,$D$5:$D$124,">"&C26,$J$5:$J$124,"<>"&'Parâmetros'!$A$16)>1,"Conferir sobreposição","")))))))
... M124: =IF(OR(B124="",C124="",L124=""),"",B124+C124-(L124/1440)) | N124: =IF(OR(C124="",D124=""),"",IF(D124>C124,(D124-C124)*1440,"")) | O124: =IF(A124="","",IF(OR(B124="",C124="",D124="",E124="",F124="",G124="",H124="",I124="",J124="",K124="",L124=""),"Conferir dados",IF(D124<=C124,"Conferir horário",IF(OR(J124='Parâmetros'!$A$16,J124='Parâmetros'!$A$15),"",IF('Parâmetros'!$B$7="","Conferir parâmetros",IF(L124>'Parâmetros'!$B$7,"Conferir deslocamento",IF(COUNTIFS($B$5:$B$124,B124,$I$5:$I$124,I124,$C$5:$C$124,"<"&D124,$D$5:$D$124,">"&C124,$J$5:$J$124,"<>"&'Parâmetros'!$A$16)>1,"Conferir sobreposição","")))))))

Sheet Parâmetros
A1: Parâmetros da agenda domiciliar
A2: Edite as células rosa. Os limites apoiam a conferência e não representam regra contratual.
A4: Premissa | B4: Valor | C4: Unidade / uso
A5: Horizonte do resumo | B5: 30 | C5: dias corridos, incluindo hoje
A6: Capacidade diária por equipe | B6: 5 | C6: atendimentos
A7: Limite de alerta de deslocamento | B7: 60 | C7: minutos
A8: Início da janela operacional | B8: 0.29166667 | C8: horário
A9: Fim da janela operacional | B9: 0.83333333 | C9: horário
A12: Status da agenda | C12: Serviço | E12: Região de atendimento | G12: Equipe responsável
A13: Planejado | C13: Escova | E13: Zona fictícia Coral | G13: Equipe fictícia A
A14: Confirmado | C14: Manicure | E14: Zona fictícia Lavanda | G14: Equipe fictícia B
A15: Concluído | C15: Pedicure | E15: Zona fictícia Pérola | G15: Equipe fictícia C
A16: Cancelado | C16: Corte de cabelo | E16: Zona fictícia Rubi | G16: Equipe fictícia D
C17: Maquiagem social | E17: Zona fictícia Safira
C18: Design de sobrancelhas
A20: Observação
A21: Os rótulos de status são usados nos indicadores. Serviços, regiões e equipes são exemplos fictícios editáveis.
